BEGIN:VCALENDAR
VERSION:2.0
CALSCALE:GREGORIAN
PRODID:adamgibbons/ics
METHOD:PUBLISH
X-PUBLISHED-TTL:PT1H
BEGIN:VEVENT
UID:114@keepkarlsruheboring.org
SUMMARY:Nordbecken Festival 2025 und Ausstellung "Es ist noch kein Meister 
	vom Schimmel befallen" Donnerstag 10.08 Arnold&Arnold (Live-Philosophie-Po
	dcast)
DTSTAMP:20260423T090755Z
DTSTART:20250710T160000Z
DTEND:20250710T190000Z
DESCRIPTION:\nAlle weiteren Infos und das komplette Programm unter: www.nor
	dbecken.de\n[http://www.nordbecken.de]\n\n\n\n\n\n\n\nDONNERSTAG 10.07.25 
	ARNOLD&ARNOLD (LIVE-PHILOSOPHIE-PODCAST)\n\nOpen Doors 18.00 | Beginn 18:3
	0\n\n\nMeisterschaft als Edelfäule\n\n\nArnold&Arnold (Live-Philosophie-Po
	dcast)\n\nDas Leben ist kurz\, aber leider nicht zu kurz\, sodass man sich
	 manchmal selbst\nnichts mehr zu sagen hat. ARNOLD&ARNOLD\, das philosophi
	sche Pharmakon\, hilft.\n\nHören Sie zu\, seien Sie still und tauchen Sie 
	ein in türkisblaues\, laues\nAbend-Gelaber.\n\n\n\n
URL:https://keepkarlsruheboring.org/event/nordbecken-festival-2025-und-auss
	tellung-es-ist-noch-kein-meister-vom-schimmel-befallen-donnerstag-1008-arn
	oldandarnold-live-philosophie-podcast
GEO:49.0172;8.32965
LOCATION:Nordbecken Studio - Nordbecken str 9\, 76189 Karlsruhe
STATUS:CONFIRMED
CATEGORIES:Art,Festival,Music,Opening,Party
X-ALT-DESC;FMTTYPE=text/html:<p><br>Alle weiteren Infos und das komplette P
	rogramm unter: <a href="http://www.nordbecken.de" target="_blank">www.nord
	becken.de</a><br></p><h1><br></h1><h2>Donnerstag 10.07.25&nbsp;Arnold&amp;
	Arnold (Live-Philosophie-Podcast)</h2><p>Open Doors 18.00 | Beginn 18:30<b
	r></p><p>Meisterschaft als Edelfäule</p><p><br>Arnold&amp;Arnold (Live-Phi
	losophie-Podcast)</p><p>Das Leben ist kurz, aber leider nicht zu kurz, sod
	ass man sich manchmal selbst nichts mehr zu sagen hat. ARNOLD&amp;ARNOLD, 
	das philosophische Pharmakon, hilft.</p><p>Hören Sie zu, seien Sie still u
	nd tauchen Sie ein in türkisblaues, laues Abend-Gelaber.<br></p><h2></h2>
BEGIN:VALARM
ACTION:DISPLAY
DESCRIPTION:Nordbecken Festival 2025 und Ausstellung "Es ist noch kein Meis
	ter vom Schimmel befallen" Donnerstag 10.08 Arnold&Arnold (Live-Philosophi
	e-Podcast)
TRIGGER:-PT1H
END:VALARM
END:VEVENT
END:VCALENDAR
