BEGIN:VCALENDAR
VERSION:2.0
CALSCALE:GREGORIAN
PRODID:adamgibbons/ics
METHOD:PUBLISH
X-PUBLISHED-TTL:PT1H
BEGIN:VEVENT
UID:112@keepkarlsruheboring.org
SUMMARY:Nordbecken Festival 2025 und Ausstellung "Es ist noch kein Meister 
	vom Schimmel befallen" Sonntag 06.07.25 Familientag
DTSTAMP:20260423T090755Z
DTSTART:20250706T090000Z
DTEND:20250706T140000Z
DESCRIPTION:\n\n\n\nSONNTAG 06.07.25 FAMILIENTAG\n\n\n\nÖffnungszeiten: 11-
	16 Uhr\n\nAm Sonntag\, den 07.07.25\, laden wir ein\, die Ausstellung in e
	iner entspannten\nAtmosphäre zu besichtigen.\n\nSpeziell für Familien biet
	en wir von 11 – 16 Uhr Workshops für Kinder an:\n\n11:00 – 14:00 Uhr – Lus
	tiges malen mit Künstlerin SARAH KIRSCH\n\nvom Malraum Süd  [https://www.m
	alraum-süd.de/uber](ab 5 Jahren)\n\n11:00 – 14:00 Uhr – Mode-Textil mit Ka
	tha und Stina (ab 7 Jahren)\n\nStoff\, Farbe\, Nadel\, Faden. Lasst uns wi
	lde Dinge wagen. Wir wollen mit euch\nKostüme kreieren. Am Ende soll eine 
	Modenschau geben.\n\n14:30 Uhr – Modeschau\n\n14:30 – 16:00 Uhr – Trommeln
	 mit Musikant Erik Beckmann (ab 7 Jahren)\n\nKonzert um 16:00 Uhr\n\nDIRT\
	nBesetzung:\nGesang – Tim\nE-Gitarre – Yannis\nE-Bass – Moritz\nDrums – An
	tonio\n\nAlle Workshops auf Spendenbasis.\n\nDie Bar ist ab 11:00 Uhr geöf
	fnet:\n\nSpeisen: Toast\, Waffeln\, Wassermelone\, Wassereis…\n\nGetränke:
	 Kaffee\, Eiskaffee\, frischer Minztee\, Limonade\, Schorle\, Beer…\n\n12:
	30 Uhr – Führung durch die Ausstellung mit Arrtist Duo\n\n15:30 Uhr – Führ
	ung durch die Ausstellung mit Arrtist Duo\n\n\n\n\n
URL:https://keepkarlsruheboring.org/event/nordbecken-festival-2025-und-auss
	tellung-es-ist-noch-kein-meister-vom-schimmel-befallen-sonntag-060725-fami
	lientag
GEO:49.0172;8.32965
LOCATION:Nordbecken Studio - Nordbecken str 9\, 76189 Karlsruhe
STATUS:CONFIRMED
CATEGORIES:Art,Festival,Music,Opening,Party
X-ALT-DESC;FMTTYPE=text/html:<h1><br></h1><h2>Sonntag 06.07.25 Familientag<
	/h2><p></p><p>Öffnungszeiten: 11-16 Uhr</p><p>Am Sonntag, den 07.07.25, la
	den wir ein, die Ausstellung in einer entspannten Atmosphäre zu besichtige
	n.</p><p>Speziell für&nbsp;Familien&nbsp;bieten wir von 11 – 16 Uhr Worksh
	ops für Kinder an:</p><p>11:00 – 14:00 Uhr – Lustiges malen mit Künstlerin
	 SARAH KIRSCH</p><p>vom&nbsp;<a href="https://www.malraum-süd.de/uber" tar
	get="_blank">Malraum Süd&nbsp;</a>(ab 5 Jahren)</p><p>11:00 – 14:00 Uhr – 
	Mode-Textil mit Katha und Stina (ab 7 Jahren)</p><p>Stoff, Farbe, Nadel, F
	aden. Lasst uns wilde Dinge wagen. Wir wollen mit euch Kostüme kreieren. A
	m Ende soll eine Modenschau geben.</p><p>14:30 Uhr – Modeschau</p><p>14:30
	 – 16:00 Uhr – Trommeln mit Musikant Erik Beckmann (ab 7 Jahren)</p><p>Kon
	zert um 16:00 Uhr</p><p>DIRT<br>Besetzung:<br>Gesang – Tim<br>E-Gitarre – 
	Yannis<br>E-Bass – Moritz<br>Drums – Antonio</p><p>Alle Workshops auf Spen
	denbasis.</p><p>Die Bar ist ab 11:00 Uhr geöffnet:</p><p>Speisen: Toast, W
	affeln, Wassermelone, Wassereis…</p><p>Getränke: Kaffee, Eiskaffee, frisch
	er Minztee, Limonade, Schorle, Beer…</p><p>12:30 Uhr – Führung durch die A
	usstellung mit Arrtist Duo</p><p>15:30 Uhr – Führung durch die Ausstellung
	 mit Arrtist Duo<br><br></p><h2></h2>
BEGIN:VALARM
ACTION:DISPLAY
DESCRIPTION:Nordbecken Festival 2025 und Ausstellung "Es ist noch kein Meis
	ter vom Schimmel befallen" Sonntag 06.07.25 Familientag
TRIGGER:-PT1H
END:VALARM
END:VEVENT
END:VCALENDAR
