BEGIN:VCALENDAR
VERSION:2.0
CALSCALE:GREGORIAN
PRODID:adamgibbons/ics
METHOD:PUBLISH
X-PUBLISHED-TTL:PT1H
BEGIN:VEVENT
UID:100@keepkarlsruheboring.org
SUMMARY:Nordbecken Festival 2025 und Ausstellung "Es ist noch kein Meister 
	vom Schimmel befallen"
DTSTAMP:20260423T090613Z
DTSTART:20250704T170000Z
DTEND:20250711T010000Z
DESCRIPTION:BADABING! Das Nordbecken Kollektiv lädt ein am 04.07.2025 um 19
	 Uhr zur\nVERNISSAGE der Ausstellung:\n\n\n\n„ ES IST NOCH KEIN MEISTER VO
	M SCHIMMEL BEFALLEN “\n\n\nLaura Benz [https://laura-benz.com/]—arrtist du
	o\n[https://www.arrtistsduo.de/]—Sarai Rose Duke\n[https://sarairoseduke.c
	om/portfolio]—Francis Karat\n[https://www.francis-karat.com/]—Kaspar Elias
	 Kimmel\n[https://acc-weimar.de/kunstschaffende/a/kimmel__kaspar_eliaskasp
	ar_elias-987.html]\n—Patrick Kobielski [https://www.patrickkobielski.de/]—
	Harald Kröner\n[https://www.haraldkroener.de/]—-Fiona Marten\n[https://www
	.instagram.com/fffmarten/]—Nemanja Šarbajić\n[https://nemanjasarbajic.de
	/] —Tobias Talbot\n[https://www.tobiastalbot.de/]—Melina Unterhauser\n[htt
	ps://www.google.com/search?client=firefox-b-d&q=Melina+Unterhauser]—Consta
	nze\nZacharias [https://ato.vision/artists/constanze-zacharias]\n\n\n—- ab
	er Mensch braucht HipHop (Paul Janoschka\, Jonathan Zacharias\, Rosanna\nZ
	acharias) – Live HipHop Beats and Jazz —-\n—- CUTSE (AmateurFunk/Köln) – D
	J SET DeepLatinDrumFunkSkaBreakz—-\n—- TM36 – DJ SET Drum ́n Bass —-\n\n\n
	Die Vernissage findet am 04.07.2025 ab 19:00 Uhr statt und bildet den Auft
	akt\ndes einwöchigen Kunst- und Kulturfestivals in der Nordbeckenstraße 9\
	n\nAlle weiteren Infos und das komplette Programm unter: www.nordbecken.de
	\n[http://www.nordbecken.de]\n\n\n\n\nFESTIVAL DEL ARTE PREVIEW\n\n\n\n\nS
	ONNTAG 06.07.25 FAMILIENTAG\n\n\n\nInfos auf www.nordbecken.de [http://www
	.nordbecken.de]\n\n\n\n\nMONTAG 07.07.25 PERFORMANCE\n\nOpen Doors 18.30 /
	 Beginn 19:30\n\n\n * Kilian Kretschmer\n\n * Marita Bullmann\n\n * Ivo Sc
	hneider\n\n * Gin Bahc\n   \n   \n\n\nDONNERSTAG 10.07.25 VORTRAG/DISKUSSI
	ONSRUNDE\n\nOpen Doors 18.00 | Beginn 18:30\n\n\nMeisterschaft als Edelfäu
	le\n\n\nArnold&Arnold (Live-Philosophie-Podcast)\n\nDas Leben ist kurz\, a
	ber leider nicht zu kurz\, sodass man sich manchmal selbst\nnichts mehr zu
	 sagen hat. ARNOLD&ARNOLD\, das philosophische Pharmakon\, hilft.\n\nHören
	 Sie zu\, seien Sie still und tauchen Sie ein in türkisblaues\, laues\nAbe
	nd-Gelaber.\n\n\n\nFREITAG 11.07.25 MUSIKFESTIVAL\n\n\nBeginn ca: 20 Uhr\n
	\n\n * DJ Sirob und Suza - HipHop\, BoomBap\, LoFi\n\n * Der Katze und die
	 Hund - Power-Polka\, Disko-Folk\n\n * Schlecht - Instrumental HipHop\, De
	ep-Dived-Neuro-Jazz\, Samplemania\, Fun\n\n * Cocktail Harbor Band - Yacht
	-Rock\, Funk\n\n * DJ Doppel-Figgo - all of the above
URL:https://keepkarlsruheboring.org/event/nordbecken-festival-2025-yeahh
GEO:49.0172;8.32965
LOCATION:Nordbecken Studio - Nordbecken str 9\, 76189 Karlsruhe
STATUS:CONFIRMED
CATEGORIES:Art,Festival,Music,Opening,Party
X-ALT-DESC;FMTTYPE=text/html:<p>BADABING! Das Nordbecken Kollektiv lädt ein
	 am 04.07.2025 um 19 Uhr zur VERNISSAGE der Ausstellung:<br></p><h1>„ Es i
	st noch kein Meister vom Schimmel befallen “<br></h1><p><a href="https://l
	aura-benz.com/" target="_blank">Laura Benz</a>—<a href="https://www.arrtis
	tsduo.de/" target="_blank">arrtist duo</a>—<a href="https://sarairoseduke.
	com/portfolio" target="_blank">Sarai Rose Duke</a>—<a href="https://www.fr
	ancis-karat.com/" target="_blank">Francis Karat</a>—<a href="https://acc-w
	eimar.de/kunstschaffende/a/kimmel__kaspar_eliaskaspar_elias-987.html" targ
	et="_blank">Kaspar Elias Kimmel</a> —<a href="https://www.patrickkobielski
	.de/" target="_blank">Patrick Kobielski</a>—<a href="https://www.haraldkro
	ener.de/" target="_blank">Harald Kröner</a>—-<a href="https://www.instagra
	m.com/fffmarten/" target="_blank">Fiona Marten</a>—<a href="https://nemanj
	asarbajic.de/" target="_blank">Nemanja Šarbajić</a> —<a href="https://ww
	w.tobiastalbot.de/" target="_blank">Tobias Talbot</a>—<a href="https://www
	.google.com/search?client=firefox-b-d&amp;q=Melina+Unterhauser" target="_b
	lank">Melina Unterhauser</a>—<a href="https://ato.vision/artists/constanze
	-zacharias" target="_blank">Constanze Zacharias</a><br></p><p>—- aber Mens
	ch braucht HipHop (Paul Janoschka, Jonathan Zacharias, Rosanna Zacharias) 
	– Live HipHop Beats and Jazz —-<br>—- CUTSE (AmateurFunk/Köln) – DJ SET De
	epLatinDrumFunkSkaBreakz—-<br>—- TM36 – DJ SET Drum ́n Bass —-<br></p><p>D
	ie Vernissage findet am 04.07.2025 ab 19:00 Uhr statt und bildet den Aufta
	kt des einwöchigen Kunst- und Kulturfestivals in der Nordbeckenstraße 9<br
	><br>Alle weiteren Infos und das komplette Programm unter: <a href="http:/
	/www.nordbecken.de" target="_blank">www.nordbecken.de</a><br></p><h1><br>F
	ESTIVAL DEL ARTE PREVIEW <br><br></h1><h2>Sonntag 06.07.25 Familientag</h2
	><p></p><p>Infos auf <a href="http://www.nordbecken.de" target="_blank">ww
	w.nordbecken.de</a><br><br></p><h2>Montag 07.07.25 Performance</h2><p>Open
	 Doors 18.30 / Beginn 19:30<br></p><ul><li><p>Kilian Kretschmer</p></li><l
	i><p>Marita Bullmann</p></li><li><p>Ivo Schneider</p></li><li><p>Gin Bahc<
	br><br></p></li></ul><h2>Donnerstag 10.07.25&nbsp;Vortrag/Diskussionsrunde
	</h2><p>Open Doors 18.00 | Beginn 18:30<br></p><p>Meisterschaft als Edelfä
	ule</p><p><br>Arnold&amp;Arnold (Live-Philosophie-Podcast)</p><p>Das Leben
	 ist kurz, aber leider nicht zu kurz, sodass man sich manchmal selbst nich
	ts mehr zu sagen hat. ARNOLD&amp;ARNOLD, das philosophische Pharmakon, hil
	ft.</p><p>Hören Sie zu, seien Sie still und tauchen Sie ein in türkisblaue
	s, laues Abend-Gelaber.<br></p><h2>Freitag 11.07.25 Musikfestival<br></h2>
	<p>Beginn ca: 20 Uhr<br></p><ul><li><p>DJ Sirob und Suza - HipHop, BoomBap
	, LoFi</p></li><li><p>Der Katze und die Hund - Power-Polka, Disko-Folk</p>
	</li><li><p>Schlecht - Instrumental HipHop, Deep-Dived-Neuro-Jazz, Samplem
	ania, Fun</p></li><li><p>Cocktail Harbor Band - Yacht-Rock, Funk</p></li><
	li><p>DJ Doppel-Figgo - all of the above</p></li></ul>
BEGIN:VALARM
ACTION:DISPLAY
DESCRIPTION:Nordbecken Festival 2025 und Ausstellung "Es ist noch kein Meis
	ter vom Schimmel befallen"
TRIGGER:-PT1H
END:VALARM
END:VEVENT
END:VCALENDAR
