BEGIN:VCALENDAR
VERSION:2.0
CALSCALE:GREGORIAN
PRODID:adamgibbons/ics
METHOD:PUBLISH
X-PUBLISHED-TTL:PT1H
BEGIN:VEVENT
UID:902@keepkarlsruheboring.org
SUMMARY:NOT SCIENTISTS
DTSTAMP:20260423T085533Z
DTSTART:20260328T190000Z
DTEND:20260328T210000Z
DESCRIPTION:NOT SCIENTISTS sind aus der Band Uncommonmenfrommars hervorgega
	ngen. Angetrieben\nvon dem Wunsch\, ihre Gitarrenklänge aufzuhellen\, ohne
	 die rohe Kraft ihres\nSounds zu opfern\, eroberten die vier Musiker schne
	ll die Bühnen. Von Bars bis\nhin zu Festivalbühnen in ganz Europa und den 
	USA – Not Scientists legten\nTausende von Kilometern zurück und gewannen m
	it ihren Indie-orientierten\nHarmonien\, angetrieben von kristallklaren Gi
	tarren und einer überwältigenden\nRhythmusgruppe\, ein zunächst neugierige
	s\, dann ein treues Publikum für sich. Im\nGeiste der französischen Indepe
	ndent-Musikszene veröffentlichten Not Scientists\nbald ihre erste EP „LEAV
	E STICKERS ON OUR GRAVES“ und ihr Debütalbum „DESTROY TO\nREBUILD“. Der kr
	eative Wandel mit ihrem zweiten Album „GOLDEN STAPLES“ (2018)\nwar entsche
	idend für die Sound-Entwicklung: Melodischer Reichtum und klare\nGitarren 
	wurden durch New-Wave-Einflüsse und langsamere BPMs verstärkt. Santi\nGarc
	ia half ihnen\, im Februar 2023 das reife und selbstbewusste Album „STARIN
	G\nAT THE SUN“ zum Leben zu erwecken\, mit dem die Band neue Klanglandscha
	ften\nerkundete\, ohne ihre Punkrock-Energie aufzugeben. Nach der Live-EP 
	„STARING AT\nTHE MOON“ (Frühjahr 2024) erschien im Herbst 2025 ihr viertes
	 Album „VOICES“.\nDamit trieben sie ihren Wunsch\, sich selbst zu überrasc
	hen\, noch weiter voran\nund blieben gleichzeitig den Werten treu\, die si
	e zu einem festen Bestandteil\nder französischen Indie-Rock-Szene gemacht 
	haben. „VOICES“ ist ein strahlendes\nAlbum\, auf dem die Wärme der Gitarre
	n mit der Kälte der Maschinen kollidiert und\nfeurige Verse frechen Melodi
	en und klaren Refrains Rhythmus verleihen –\naktualisiert für die Musikfan
	s von heute. Einlass: 19 Uhr\, Beginn: 20 Uhr
URL:https://keepkarlsruheboring.org/event/not-scientists
GEO:49.0017;8.40754
LOCATION:Kohi - Werderstraße 47\, 76137 Karlsruhe\, Alemanya
STATUS:CONFIRMED
CATEGORIES:karlsrunruhe,test
X-ALT-DESC;FMTTYPE=text/html:NOT SCIENTISTS<br>sind aus der Band Uncommonme
	nfrommars hervorgegangen. Angetrieben von dem Wunsch, ihre Gitarrenklänge 
	aufzuhellen, ohne die rohe Kraft ihres Sounds zu opfern, eroberten die vie
	r Musiker schnell die Bühnen. Von Bars bis hin zu Festivalbühnen in ganz E
	uropa und den USA – Not Scientists legten Tausende von Kilometern zurück u
	nd gewannen mit ihren Indie-orientierten Harmonien, angetrieben von krista
	llklaren Gitarren und einer überwältigenden Rhythmusgruppe, ein zunächst n
	eugieriges, dann ein treues Publikum für sich.<br>Im Geiste der französisc
	hen Independent-Musikszene veröffentlichten Not Scientists bald ihre erste
	 EP „LEAVE STICKERS ON OUR GRAVES“ und ihr Debütalbum „DESTROY TO REBUILD“
	. Der kreative Wandel mit ihrem zweiten Album „GOLDEN STAPLES“ (2018) war 
	entscheidend für die Sound-Entwicklung: Melodischer Reichtum und klare Git
	arren wurden durch New-Wave-Einflüsse und langsamere BPMs verstärkt. Santi
	 Garcia half ihnen, im Februar 2023 das reife und selbstbewusste Album „ST
	ARING AT THE SUN“ zum Leben zu erwecken, mit dem die Band neue Klanglandsc
	haften erkundete, ohne ihre Punkrock-Energie aufzugeben. Nach der Live-EP 
	„STARING AT THE MOON“ (Frühjahr 2024) erschien im Herbst 2025 ihr viertes 
	Album „VOICES“. Damit trieben sie ihren Wunsch, sich selbst zu überraschen
	, noch weiter voran und blieben gleichzeitig den Werten treu, die sie zu e
	inem festen Bestandteil der französischen Indie-Rock-Szene gemacht haben. 
	„VOICES“ ist ein strahlendes Album, auf dem die Wärme der Gitarren mit der
	 Kälte der Maschinen kollidiert und feurige Verse frechen Melodien und kla
	ren Refrains Rhythmus verleihen – aktualisiert für die Musikfans von heute
	.<br>Einlass: 19 Uhr, Beginn: 20 Uhr
BEGIN:VALARM
ACTION:DISPLAY
DESCRIPTION:NOT SCIENTISTS
TRIGGER:-PT1H
END:VALARM
END:VEVENT
END:VCALENDAR
