BEGIN:VCALENDAR
VERSION:2.0
CALSCALE:GREGORIAN
PRODID:adamgibbons/ics
METHOD:PUBLISH
X-PUBLISHED-TTL:PT1H
BEGIN:VEVENT
UID:685@keepkarlsruheboring.org
SUMMARY:Nozomi Tanabe
DTSTAMP:20260423T102219Z
DTSTART:20260124T130000Z
DTEND:20260125T160000Z
DESCRIPTION:Nozomi Tanabe verwandelt die flüchtigen\, kleinsten Laute unser
	es Sprechens in\nfeinsinnig geschnitzte Holzskulpturen\, die den tastenden
	 Moment des Aussprechens\nsichtbar machen. In ihren Arbeiten entstehen sub
	tile Beziehungen zwischen dem\nWahrnehmbaren und dem Unsichtbaren.
URL:https://keepkarlsruheboring.org/event/nozomi-tanabe
GEO:49.0531;8.38103
LOCATION:KunstRaum Neureut - Kirchfeldstr. 122
STATUS:CONFIRMED
CATEGORIES:Art,Kunstausstellung
X-ALT-DESC;FMTTYPE=text/html:<p>Nozomi Tanabe verwandelt die flüchtigen, kl
	einsten Laute unseres Sprechens in feinsinnig geschnitzte Holzskulpturen, 
	die den tastenden Moment des Aussprechens sichtbar machen. In ihren Arbeit
	en entstehen subtile Beziehungen zwischen dem Wahrnehmbaren und dem Unsich
	tbaren.</p>
BEGIN:VALARM
ACTION:DISPLAY
DESCRIPTION:Nozomi Tanabe
TRIGGER:-PT1H
END:VALARM
END:VEVENT
END:VCALENDAR
