BEGIN:VCALENDAR
VERSION:2.0
CALSCALE:GREGORIAN
PRODID:adamgibbons/ics
METHOD:PUBLISH
X-PUBLISHED-TTL:PT1H
BEGIN:VEVENT
UID:369@keepkarlsruheboring.org
SUMMARY:Nubian Family Festival in Rheinstetten
DTSTAMP:20260423T105012Z
DTSTART:20250919T160000Z
DTEND:20250920T200000Z
DESCRIPTION:Multikulturalität feiern beim Nubian Family Festival 2025 in Rh
	einstetten\n\nNubian Family e.V. präsentiert zwei Tage voller interkulture
	ller Begegnung für\ndie ganze Familie. Am 19. & 20.9 findet die dritte Aus
	gabe des Nubian Family\nFestivals in der Evangelischen Kirchengemeinde For
	chheim statt – ein Wochenende\nvoller Live-Konzerte\, DJs\, Workshops\, af
	rikanischem Essen\, Lesungen und\nKinderangebot. Der Eintritt ist frei.\n\
	nBei Nubian Family kommen Menschen verschiedener Hintergründe zusammen - m
	it dem\nWunsch sich mithilfe von Musik und anderen Kunstformen auf Augenhö
	he zu\nbegegnen. Genau dafür möchten wir einmal im Jahr mit dem Nubian Fam
	ily Festival\neine Plattform schaffen. Afrikanische Kulturen können durch 
	Musik\, Tanz\, Essen\nund andere Kunstformen erlebt werden. Euch erwarten 
	Live-Konzerte verschiedener\nKünstler:innen\, Performances vom Nubian Fami
	ly Soundsystem und weiteren DJs\,\nLesungen sowie ein Workshopangebot (gem
	einsames Kochen\, Afrodance\, Trommeln\,\nKunst). Durch spezielle Angebote
	 für Kinder ist es ein Festival für alle\nGenerationen.\n\nAm Freitag star
	ten wir um 18 Uhr mit einem bunten Musikprogramm sowie leckerem\nEssen. Am
	 Samstag hingegen könnt ihr schon ab 10 Uhr zum gemeinsamen Kochen\nkommen
	 (gerne Anmeldung unter nubianfamily@gmx.de). Ab 11 Uhr starten wir dann\n
	mit einem gemeinsamen und gemütlichen Brunch. Gerne kann hierfür etwas\nmi
	tgebracht werden. Das ist aber kein Muss. Ab 13 Uhr habt ihr dann die\nMög
	lichkeit\, den Trommel- und Kunstworkshop sowie Mitmachstände von unseren\
	nKooperationspartnern zu besuchen. Am Nachmittag gibt uns Judence Kayitesi
	 in\nihrer Lesung Impulse zum Thema „Einheit statt Spaltung“. Den Abend ve
	rschönern\nuns dann wieder diverse Künstler:innen und DJs. Damit alle Mens
	chen teilnehmen\nkönnen\, ist der Eintritt frei. Zur Kostendeckung freuen 
	wir uns aber über\nSpenden. Weitere Informationen sind auf Instagram zu fi
	nden.\n\n\n\nProgramm:\n\nFREITAG\n\n18 Uhr Begrüßung\n\n18:30 Uhr Konzert
	 Bunt&laut!\n\n19:30 Uhr Konzert Mamoudou Doumbouya & Band\n\n20:30 Uhr Nu
	bian Family Soundsystem mit Mama Bih\n\n\n\nSAMSTAG\n\nab 10 Uhr Gemeinsam
	es Kochen\n\nab 11 Uhr Brunch auf Spendenbasis\n\n13-18 Uhr Basteln\, Lese
	n\, Rätseln für Jung und Alt\n\n13 Uhr Kunstworkshop mit Mbagaan Nduur\n\n
	14 Uhr Trommelworkshop mit Beuz Thiombane & Fallou Mbaye\n\n15 Uhr Lesung 
	"Suche nach der Einheit" von Judence Kayitesi\n\n17 Uhr Tanzworkshop mit N
	icky von Dance Safari\n\n18:30 Uhr Konzert 15 steps beyond\n\n20:00 Uhr Ko
	nzert Nubian Don\n\n21:00 Nubian Family Soundsystem mit Wonda Prince
URL:https://keepkarlsruheboring.org/event/nubian-family-festival-in-rheinst
	etten
GEO:48.9793;8.31806
LOCATION:Evangelisches Gemeindehaus Forchheim/Rheinstetten - 55\, Karlsruhe
	r Straße\, Forchheim\, Rheinstetten\, Landkreis Karlsruhe\, Baden-Württemb
	erg\, 76287\, Deutschland
STATUS:CONFIRMED
CATEGORIES:Art,Concert,Dance,Festival,Kids,Music,Workshop
X-ALT-DESC;FMTTYPE=text/html:<p>Multikulturalität feiern beim Nubian Family
	 Festival 2025 in Rheinstetten </p><p>Nubian Family e.V. präsentiert zwei 
	Tage voller interkultureller Begegnung für die ganze Familie. Am 19. &amp;
	 20.9 findet die dritte Ausgabe des Nubian Family Festivals in der Evangel
	ischen Kirchengemeinde Forchheim statt – ein Wochenende voller Live-Konzer
	te, DJs, Workshops, afrikanischem Essen, Lesungen und Kinderangebot. Der E
	intritt ist frei. </p><p>Bei Nubian Family kommen Menschen verschiedener H
	intergründe zusammen - mit dem Wunsch sich mithilfe von Musik und anderen 
	Kunstformen auf Augenhöhe zu begegnen. Genau dafür möchten wir einmal im J
	ahr mit dem Nubian Family Festival eine Plattform schaffen. Afrikanische K
	ulturen können durch Musik, Tanz, Essen und andere Kunstformen erlebt werd
	en. Euch erwarten Live-Konzerte verschiedener Künstler:innen, Performances
	 vom Nubian Family Soundsystem und weiteren DJs, Lesungen sowie ein Worksh
	opangebot (gemeinsames Kochen, Afrodance, Trommeln, Kunst). Durch speziell
	e Angebote für Kinder ist es ein Festival für alle Generationen. </p><p>Am
	 Freitag starten wir um 18 Uhr mit einem bunten Musikprogramm sowie lecker
	em Essen. Am Samstag hingegen könnt ihr schon ab 10 Uhr zum gemeinsamen Ko
	chen kommen (gerne Anmeldung unter nubianfamily@gmx.de). Ab 11 Uhr starten
	 wir dann mit einem gemeinsamen und gemütlichen Brunch. Gerne kann hierfür
	 etwas mitgebracht werden. Das ist aber kein Muss. Ab 13 Uhr habt ihr dann
	 die Möglichkeit, den Trommel- und Kunstworkshop sowie Mitmachstände von u
	nseren Kooperationspartnern zu besuchen. Am Nachmittag gibt uns Judence Ka
	yitesi in ihrer Lesung Impulse zum Thema „Einheit statt Spaltung“. Den Abe
	nd verschönern uns dann wieder diverse Künstler:innen und DJs. Damit alle 
	Menschen teilnehmen können, ist der Eintritt frei. Zur Kostendeckung freue
	n wir uns aber über Spenden. Weitere Informationen sind auf Instagram zu f
	inden.</p><p></p><p>Programm:</p><p>FREITAG</p><p>18 Uhr Begrüßung</p><p>1
	8:30 Uhr Konzert Bunt&amp;laut!</p><p>19:30 Uhr Konzert Mamoudou Doumbouya
	 &amp; Band</p><p>20:30 Uhr Nubian Family Soundsystem mit Mama Bih</p><p><
	/p><p>SAMSTAG</p><p>ab 10 Uhr Gemeinsames Kochen</p><p>ab 11 Uhr Brunch au
	f Spendenbasis</p><p>13-18 Uhr Basteln, Lesen, Rätseln für Jung und Alt</p
	><p>13 Uhr Kunstworkshop mit Mbagaan Nduur</p><p>14 Uhr Trommelworkshop mi
	t Beuz Thiombane &amp; Fallou Mbaye</p><p>15 Uhr Lesung "Suche nach der Ei
	nheit" von Judence Kayitesi</p><p>17 Uhr Tanzworkshop mit Nicky von Dance 
	Safari</p><p>18:30 Uhr Konzert 15 steps beyond</p><p>20:00 Uhr Konzert Nub
	ian Don</p><p>21:00 Nubian Family Soundsystem mit Wonda Prince</p>
BEGIN:VALARM
ACTION:DISPLAY
DESCRIPTION:Nubian Family Festival in Rheinstetten
TRIGGER:-PT1H
END:VALARM
END:VEVENT
END:VCALENDAR
