BEGIN:VCALENDAR
VERSION:2.0
CALSCALE:GREGORIAN
PRODID:adamgibbons/ics
METHOD:PUBLISH
X-PUBLISHED-TTL:PT1H
BEGIN:VEVENT
UID:1327@keepkarlsruheboring.org
SUMMARY:Offene Beratung
DTSTAMP:20260423T102044Z
DTSTART:20260416T163000Z
DTEND:20260416T173000Z
DESCRIPTION:Ihr habt Vorladungen von der Polizei oder Staatsanwaltschaft\, 
	einen Strafbefehl\noder andere Briefe der Repressionbehörden erhalten? Ihr
	 seid bei einer Aktion in\nGewahrsam genommen worden und fragt euch was nu
	n auf euch zukommt oder habt\nandere Fragen? Dann kommt zu unserem monatli
	chen Beratungstermin und stellt eure\nFragen. Wir werden euch entsprechend
	 unterstützen!\n\n\n\n*Als eure lokale Rote-Hilfe-Struktur bieten wir jede
	n 3. Donnerstag im Monat in\nder Luisenstr. 31 solidarische Beratung für B
	etroffene staatlicher Repression\nan. Wir heißen strömungsübergreifend lin
	ke Aktivisti willkommen\, die aufgrund\nihrer politischen Betätigung verfo
	lgt werden.\n\nUnsere Unterstützung gilt auch Nicht-Mitgliedern\; natürlic
	h sagen wir aber\nausdrücklich: Werdet Mitglied!*
URL:https://keepkarlsruheboring.org/event/offene-beratung-1
GEO:49.0008;8.40561
LOCATION:Barrio 137 - Luisenstraße 31\, 76137 Karlsruhe
STATUS:CONFIRMED
CATEGORIES:Anti-Repression,Barrio 137,Beratung,Rote Hilfe
X-ALT-DESC;FMTTYPE=text/html:<p>Ihr habt Vorladungen von der Polizei oder S
	taatsanwaltschaft, einen Strafbefehl oder andere Briefe der Repressionbehö
	rden erhalten? Ihr seid bei einer Aktion in Gewahrsam genommen worden und 
	fragt euch was nun auf euch zukommt oder habt andere Fragen? Dann kommt zu
	 unserem monatlichen Beratungstermin und stellt eure Fragen. Wir werden eu
	ch entsprechend unterstützen!</p><p></p><p>*Als eure lokale Rote-Hilfe-Str
	uktur bieten wir jeden 3. Donnerstag im Monat in der Luisenstr. 31 solidar
	ische Beratung für Betroffene staatlicher Repression an. Wir heißen strömu
	ngsübergreifend linke Aktivisti willkommen, die aufgrund ihrer politischen
	 Betätigung verfolgt werden.</p><p>Unsere Unterstützung gilt auch Nicht-Mi
	tgliedern; natürlich sagen wir aber ausdrücklich: Werdet Mitglied!*</p>
BEGIN:VALARM
ACTION:DISPLAY
DESCRIPTION:Offene Beratung
TRIGGER:-PT1H
END:VALARM
END:VEVENT
END:VCALENDAR
