BEGIN:VCALENDAR
VERSION:2.0
CALSCALE:GREGORIAN
PRODID:adamgibbons/ics
METHOD:PUBLISH
X-PUBLISHED-TTL:PT1H
BEGIN:VEVENT
UID:743@keepkarlsruheboring.org
SUMMARY:Offene Werkstatt
DTSTAMP:20260423T102037Z
DTSTART:20260203T180000Z
DTEND:20260203T200000Z
DESCRIPTION:[English below] Ob Holz\, Metall\, Stoff\, Elektro\, Farben\, T
	on oder Fahrrad\, in\nder Offenen Werkstatt kann man selber machen\, exper
	imentieren\, reparieren und\nNeues lernen. Wir sehen die Werkstatt als ein
	e Form der gemeinschaftlich\norganisierten Allmende. Hier wollen wir jense
	its von Profi(t)logik Werkzeuge\,\nMaschinen\, Materialien und Wissen teil
	en. Checkt vorher am besten nochmal hier (\nhttps://ticker.offene-werkstat
	t-ka.de/ ) ob es spontanen Änderungen der\nÖffnungszeiten gibt. Falls ihr 
	etwas braucht\, um euch in der Werkstatt wohl und\nsicher zu fühlen\, z.b.
	 Infos zu Barrieren\, meldet euch gerne unter\noffene-werkstatt@riseup.net
	 English: Whether wood\, metal\, fabric\, electrical\,\npaint\, clay or bi
	cycle\, in the Open Workshop you can make\, experiment\, repair\nand learn
	 new things yourself. We see the workshop as a form of communally\norganiz
	ed commons. Here we want to share tools\, machines\, materials and\nknowle
	dge beyond the logic of profit. Events and spontaneous opening hours can\n
	be found on our website\, Telegram channel and Instagram channel.\nhttps:/
	/www.offene-werkstatt-ka.de/english/ It's best to check back here\n(https:
	//ticker.offene-werkstatt-ka.de/ or here https://t.me/OffeneWerkstattKA)\n
	beforehand to see if there are any spontaneous changes to the opening hour
	s.\nWednesdays are often the welding course is also offered. Please regist
	er for\nthis via offene-werkstatt@riseup.net You can also find out whether
	 it is taking\nplace via our ticker or via telegram. Please also remember 
	that there are some\ncosts involved in costs and if you have the means to 
	do so\, we would also be\ndonations. If you need anything to feel comforta
	ble and safe in the workshop\,\ne.g. information about barriers\, please c
	ontact us at\noffene-werkstatt@riseup.net
URL:https://keepkarlsruheboring.org/event/offene-werkstatt
GEO:48.989;8.37185
LOCATION:Offene Werkstatt Karlsruhe - Offene Werkstatt Karlsruhe\, Schauenb
	urgstraße 5\, 76135 Karlsruhe
STATUS:CONFIRMED
CATEGORIES:karlsrunruhe,test
X-ALT-DESC;FMTTYPE=text/html:[English below]<br>Ob Holz, Metall, Stoff, Ele
	ktro, Farben, Ton oder Fahrrad, in der Offenen Werkstatt kann man selber m
	achen, experimentieren, reparieren und Neues lernen. Wir sehen die Werksta
	tt als eine Form der gemeinschaftlich organisierten Allmende. Hier wollen 
	wir jenseits von Profi(t)logik Werkzeuge, Maschinen, Materialien und Wisse
	n teilen.<br><br>Checkt vorher am besten nochmal hier ( https://ticker.off
	ene-werkstatt-ka.de/ ) ob es spontanen Änderungen der Öffnungszeiten gibt.
	<br><br>Falls ihr etwas braucht, um euch in der Werkstatt wohl und sicher 
	zu fühlen, z.b. Infos zu Barrieren, meldet euch gerne unter offene-werksta
	tt@riseup.net<br><br>English:<br>Whether wood, metal, fabric, electrical, 
	paint, clay or bicycle, in the Open Workshop you can make, experiment, rep
	air and learn new things yourself. We see the workshop as a form of commun
	ally organized commons. Here we want to share tools, machines, materials a
	nd knowledge beyond the logic of profit. Events and spontaneous opening ho
	urs can be found on our website, Telegram channel and Instagram channel. h
	ttps://www.offene-werkstatt-ka.de/english/<br><br>It's best to check back 
	here (https://ticker.offene-werkstatt-ka.de/ or here https://t.me/OffeneWe
	rkstattKA) beforehand  to see if there are any spontaneous changes to the 
	opening hours. Wednesdays are often the welding course is also offered. Pl
	ease register for this via offene-werkstatt@riseup.net You can also find o
	ut whether it is taking place via our ticker or via telegram. Please also 
	remember that there are some costs involved in costs and if you have the m
	eans to do so, we would also be donations.<br><br>If you need anything to 
	feel comfortable and safe in the workshop, e.g. information about barriers
	, please contact us at offene-werkstatt@riseup.net
BEGIN:VALARM
ACTION:DISPLAY
DESCRIPTION:Offene Werkstatt
TRIGGER:-PT1H
END:VALARM
END:VEVENT
END:VCALENDAR
