BEGIN:VCALENDAR
VERSION:2.0
CALSCALE:GREGORIAN
PRODID:adamgibbons/ics
METHOD:PUBLISH
X-PUBLISHED-TTL:PT1H
BEGIN:VEVENT
UID:1094@keepkarlsruheboring.org
SUMMARY:Offenes Antifaschistisches Treffen Karlsruhe
DTSTAMP:20260423T090602Z
DTSTART:20260305T180000Z
DTEND:20260305T200000Z
DESCRIPTION:Das Offene Antifaschistische Treffen Karlsruhe (OAT) ist ein An
	laufpunkt für\nalle die gegen Nazis\, Faschisten und reaktionäre Hetze akt
	iv werden wollen oder\nes schon sind.\n\nWir treffen uns einmal monatlich 
	um uns über rechte Aktivitäten in Karlsruhe und\nder Region auszutauschen 
	und Widerstand dagegen zu organisieren.\n\nDenkmuster wie Antisemitismus\,
	 Nationalismus\, Islamophobie und Rassismus finden\nsich nicht nur bei Rec
	hten und Faschisten\, sondern sind breit in dieser\nGesellschaft verankert
	.\n\nUm dem etwas entgegen zu setzen möchten wir gemeinsam eine antifaschi
	stische\nPraxis entwickeln.\n\nWir leisten entschiedenen Widerstand bei re
	chten Aktivitäten und Veranstaltungen\nvon Nazis und der AfD\, beteiligen 
	uns an Gegenprotesten bei regionalen und\nbundesweiten Naziaufmärschen\, o
	rganisieren Veranstaltungen\, eigene politische\nKampagnen und leisten Auf
	klärungsarbeit.\n\nMöchtest auch du dich gegen Nazis\, Faschisten und reak
	tionäre Hetze engagieren?\n\nDann komm zu unserem Offenen Treffen!\n\nWann
	? Jeden ersten Donnerstag im Monat um 19 Uhr\n\nWo? Im Linken Zentrum Barr
	io137 in der Luisenstraße 31 in Karlsruhe\n\nBring deine Freund:innen mit.
	\n\nAlle Zusammen gegen den Faschismus!
URL:https://keepkarlsruheboring.org/event/offenes-antifaschistisches-treffe
	n-karlsruhe-2
GEO:49.0008;8.40561
LOCATION:Barrio 137 - Luisenstraße 31\, 76137 Karlsruhe
STATUS:CONFIRMED
CATEGORIES:Antifa,Barrio137,Treffen
X-ALT-DESC;FMTTYPE=text/html:<p>Das Offene Antifaschistische Treffen Karlsr
	uhe (OAT) ist ein Anlaufpunkt für alle die gegen Nazis, Faschisten und rea
	ktionäre Hetze aktiv werden wollen oder es schon sind.</p><p>Wir treffen u
	ns einmal monatlich um uns über rechte Aktivitäten in Karlsruhe und der Re
	gion auszutauschen und Widerstand dagegen zu organisieren.</p><p>Denkmuste
	r wie Antisemitismus, Nationalismus, Islamophobie und Rassismus finden sic
	h nicht nur bei Rechten und Faschisten, sondern sind breit in dieser Gesel
	lschaft verankert.</p><p>Um dem etwas entgegen zu setzen möchten wir gemei
	nsam eine antifaschistische Praxis entwickeln.</p><p>Wir leisten entschied
	enen Widerstand bei rechten Aktivitäten und Veranstaltungen von Nazis und 
	der AfD, beteiligen uns an Gegenprotesten bei regionalen und bundesweiten 
	Naziaufmärschen, organisieren Veranstaltungen, eigene politische Kampagnen
	 und leisten Aufklärungsarbeit.</p><p>Möchtest auch du dich gegen Nazis, F
	aschisten und reaktionäre Hetze engagieren?</p><p>Dann komm zu unserem Off
	enen Treffen!</p><p>Wann? Jeden ersten Donnerstag im Monat um 19 Uhr</p><p
	>Wo? Im Linken Zentrum Barrio137 in der Luisenstraße 31 in Karlsruhe</p><p
	>Bring deine Freund:innen mit.</p><p>Alle Zusammen gegen den Faschismus!</
	p>
BEGIN:VALARM
ACTION:DISPLAY
DESCRIPTION:Offenes Antifaschistisches Treffen Karlsruhe
TRIGGER:-PT1H
END:VALARM
END:VEVENT
END:VCALENDAR
