BEGIN:VCALENDAR
VERSION:2.0
CALSCALE:GREGORIAN
PRODID:adamgibbons/ics
METHOD:PUBLISH
X-PUBLISHED-TTL:PT1H
BEGIN:VEVENT
UID:1104@keepkarlsruheboring.org
SUMMARY:Offenes Plenum des Café Noir
DTSTAMP:20260423T102134Z
DTSTART:20260302T180000Z
DTEND:20260302T193000Z
DESCRIPTION:Du hast Ideen? Möchtest gerne mit machen? Hast Fragen?\n\nWir l
	aden herzlich ein\, zu unserem offenen Plenum zu kommen! Wir planen\nVeran
	staltungen\, an denen du\, immer mithelfen kannst\, sprechen über neue Ide
	en -\nvielleicht hast du ja schon konkret welche?\n\nKomm vorbei um 19Uhr 
	gehts los.\n\nInfos zur Barrierefreiheit: Das Café Noir ist ebenerdig zugä
	nglich. Eine\nbarrierefreie Toilette steht zur Verfügung. Es stehen versch
	iedene\nSitzgelegenheiten zur Verfügung.\n\nDas Café Noir ist über die Hal
	testellen Windeckstraße und Hardecksiedlung zu\nerreichen. Wenn du Unterst
	ützung bei der Anreise oder Gestaltung deines Besuchs\nhaben möchtest\, sc
	hreibe uns gerne eine Mail an: cafe-noir@riseup.net
URL:https://keepkarlsruheboring.org/event/offenes-plenum-des-cafe-noir-3
GEO:48.989;8.37185
LOCATION:Café Noir - 5\, Schauenburgstraße\, Bulach\, Beiertheim-Bulach\, K
	arlsruhe\, Baden-Württemberg\, 76135\, Deutschland
STATUS:CONFIRMED
CATEGORIES:CafeNoir,Plenun
X-ALT-DESC;FMTTYPE=text/html:<p>Du hast Ideen? Möchtest gerne mit machen? H
	ast Fragen? </p><p>Wir laden herzlich ein, zu unserem offenen Plenum zu ko
	mmen! Wir planen Veranstaltungen, an denen du, immer mithelfen kannst, spr
	echen über neue Ideen - vielleicht hast du ja schon konkret welche?</p><p>
	Komm vorbei um 19Uhr gehts los. </p><p>Infos zur Barrierefreiheit: Das Caf
	é Noir ist ebenerdig zugänglich. Eine barrierefreie Toilette steht zur Ver
	fügung. Es stehen verschiedene Sitzgelegenheiten zur Verfügung. </p><p>Das
	 Café Noir ist über die Haltestellen Windeckstraße und Hardecksiedlung zu 
	erreichen. Wenn du Unterstützung bei der Anreise oder Gestaltung deines Be
	suchs haben möchtest, schreibe uns gerne eine Mail an: cafe-noir@riseup.ne
	t</p>
BEGIN:VALARM
ACTION:DISPLAY
DESCRIPTION:Offenes Plenum des Café Noir
TRIGGER:-PT1H
END:VALARM
END:VEVENT
END:VCALENDAR
