BEGIN:VCALENDAR
VERSION:2.0
CALSCALE:GREGORIAN
PRODID:adamgibbons/ics
METHOD:PUBLISH
X-PUBLISHED-TTL:PT1H
BEGIN:VEVENT
UID:1106@keepkarlsruheboring.org
SUMMARY:Offenes Plenum des Café Noir
DTSTAMP:20260423T102133Z
DTSTART:20260316T180000Z
DTEND:20260316T193000Z
DESCRIPTION:Du hast Ideen? Möchtest gerne mit machen? Hast Fragen?\n\nWir l
	aden herzlich ein\, zu unserem offenen Plenum zu kommen! Wir planen\nVeran
	staltungen\, an denen du\, immer mithelfen kannst\, sprechen über neue Ide
	en -\nvielleicht hast du ja schon konkret welche?\n\n\n\nKomm vorbei um 19
	Uhr gehts los.\n\nInfos zur Barrierefreiheit: Das Café Noir ist ebenerdig 
	zugänglich. Eine\nbarrierefreie Toilette steht zur Verfügung. Es stehen ve
	rschiedene\nSitzgelegenheiten zur Verfügung. Das Café Noir ist über die Ha
	ltestellen\nWindeckstraße und Hardecksiedlung zu erreichen. Wenn du Unters
	tützung bei der\nAnreise oder Gestaltung deines Besuchs haben möchtest\, s
	chreibe uns gerne eine\nMail an: cafe-noir@riseup.net
URL:https://keepkarlsruheboring.org/event/offenes-plenum-des-cafe-noir-9
GEO:48.989;8.37185
LOCATION:Café Noir - 5\, Schauenburgstraße\, Bulach\, Beiertheim-Bulach\, K
	arlsruhe\, Baden-Württemberg\, 76135\, Deutschland
STATUS:CONFIRMED
CATEGORIES:CafeNoir,Plenun
X-ALT-DESC;FMTTYPE=text/html:<p>Du hast Ideen? Möchtest gerne mit machen? H
	ast Fragen? </p><p>Wir laden herzlich ein, zu unserem offenen Plenum zu ko
	mmen! Wir planen Veranstaltungen, an denen du, immer mithelfen kannst, spr
	echen über neue Ideen - vielleicht hast du ja schon konkret welche?</p><p>
	</p><p>Komm vorbei um 19Uhr gehts los.</p><p>Infos zur Barrierefreiheit: D
	as Café Noir ist ebenerdig zugänglich. Eine barrierefreie Toilette steht z
	ur Verfügung. Es stehen verschiedene Sitzgelegenheiten zur Verfügung. Das 
	Café Noir ist über die Haltestellen Windeckstraße und Hardecksiedlung zu e
	rreichen. Wenn du Unterstützung bei der Anreise oder Gestaltung deines Bes
	uchs haben möchtest, schreibe uns gerne eine Mail an: cafe-noir@riseup.net
	</p>
BEGIN:VALARM
ACTION:DISPLAY
DESCRIPTION:Offenes Plenum des Café Noir
TRIGGER:-PT1H
END:VALARM
END:VEVENT
END:VCALENDAR
