BEGIN:VCALENDAR
VERSION:2.0
CALSCALE:GREGORIAN
PRODID:adamgibbons/ics
METHOD:PUBLISH
X-PUBLISHED-TTL:PT1H
BEGIN:VEVENT
UID:740@keepkarlsruheboring.org
SUMMARY:Offenes Plenum des Café Noir
DTSTAMP:20260423T102046Z
DTSTART:20260202T180000Z
DTEND:20260202T193000Z
DESCRIPTION:Du hast Ideen? Möchtest gerne mit machen? Hast Fragen? Wir lade
	n herzlich ein\,\nzu unserem offenen Plenum zu kommen!Wir planen Veranstal
	tungen\, an denen du\,\nimmer mithelfen kannst\, sprechen über neue Ideen 
	- vielleicht hast du ja schon\nkonkret welche?Komm vorbei um 19Uhr gehts l
	os. Infos zur Barrierefreiheit: Das\nCafé Noir ist ebenerdig zugänglich. E
	ine barrierefreie Toilette steht zur\nVerfügung. Es stehen verschiedene Si
	tzgelegenheiten zur Verfügung. Das Café Noir\nist über die Haltestellen Wi
	ndeckstraße und Hardecksiedlung zu erreichen. Wenn\ndu Unterstützung bei d
	er Anreise oder Gestaltung deines Besuchs haben möchtest\,\nschreibe uns g
	erne eine Mail an: cafe-noir@riseup.net
URL:https://keepkarlsruheboring.org/event/offenes-plenum-des-cafe-noir
GEO:48.989;8.37185
LOCATION:Café Noir - 5\, Schauenburgstraße\, Bulach\, Beiertheim-Bulach\, K
	arlsruhe\, Baden-Württemberg\, 76135\, Deutschland
STATUS:CONFIRMED
CATEGORIES:karlsrunruhe,test
X-ALT-DESC;FMTTYPE=text/html:Du hast Ideen? Möchtest gerne mit machen? Hast
	 Fragen? Wir laden herzlich ein, zu unserem offenen Plenum zu kommen!Wir p
	lanen Veranstaltungen, an denen du, immer mithelfen kannst, sprechen über 
	neue Ideen - vielleicht hast du ja schon konkret welche?Komm vorbei um 19U
	hr gehts los.<br><br><br><br>Infos zur Barrierefreiheit:<br><br>Das Café N
	oir ist ebenerdig zugänglich. Eine barrierefreie Toilette steht zur Verfüg
	ung. Es stehen verschiedene Sitzgelegenheiten zur Verfügung.<br><br>Das Ca
	fé Noir ist über die Haltestellen Windeckstraße und Hardecksiedlung zu err
	eichen.<br><br>Wenn du Unterstützung bei der Anreise oder Gestaltung deine
	s Besuchs haben möchtest, schreibe uns gerne eine Mail an: cafe-noir@riseu
	p.net
BEGIN:VALARM
ACTION:DISPLAY
DESCRIPTION:Offenes Plenum des Café Noir
TRIGGER:-PT1H
END:VALARM
END:VEVENT
END:VCALENDAR
