BEGIN:VCALENDAR
VERSION:2.0
CALSCALE:GREGORIAN
PRODID:adamgibbons/ics
METHOD:PUBLISH
X-PUBLISHED-TTL:PT1H
BEGIN:VEVENT
UID:1315@keepkarlsruheboring.org
SUMMARY:Offenes Plenum "Umpolen - Episode 2"
DTSTAMP:20260423T102131Z
DTSTART:20260318T170000Z
DESCRIPTION:(english below)\n\n\nOFFENES PLENUM "UMPOLEN - EPISODE 2" @LÖWE
	NBRÄUKELLER AM 18.03. UM 18 UHR\n(SOPHIENSTRASSE 95\, KARLSRUHE)\n\n\n\n\n
	>> Wir suchen nach Menschen\, die Lust haben mit uns an der Veranstaltungs
	orga\nbeteiligt zu sein!\n\n\nWAS HABEN WIR BISHER GEMACHT?\n\nIm Januar h
	aben wir als Gruppe die ehemalige Polen-WG in der Südstadt für eine\nWoche
	 in einen soziokulturellen Veranstaltungsraum verwandelt. Mit etwa 20\nBei
	trägen von eingeladenen Gästen haben wir uns mit Fragen zu\nFreund:innensc
	haften über Distanz\, Gemeinschaft und Leerstand befasst.\n\n\nWIE VERSTEH
	EN WIR UNS SELBST?\n\nNach dieser intensiven Woche verstehen wir uns als K
	ollektiv\, das Leerstand\nfüllen möchte\, um temporär soziokulturelle Vera
	nstaltungen auszurichten und\neinen inklusiven und barrierearmen Raum für 
	Begegnung und Austausch zu schaffen\,\nder konsumfrei funktioniert.\n\n\nW
	AS WOLLEN WIR MACHEN?\n\nAb Mai wollen wir den ehemaligen Löwenbräukeller 
	in der Sophienstr 95 in der\nKarlsruher Weststadt temporär bespielen und i
	hn den Anwohner*innen und allen\nanderen\, die sonst noch vorbeispazieren\
	, nach fünf Jahren Leerstand wieder\nzugänglich machen. Diesmal wollen wir
	 den Raum über einen längeren Zeitraum\nregelmäßig öffnen und dort zu unte
	rschiedlichsten Veranstaltungen einladen.\n\n\nWEN SUCHEN WIR?\n\nFür die 
	Episode 2 @Löwenbräukeller wollen wir unsere Orga-Gruppe wieder öffnen\nun
	d laden euch deswegen hiermit zu einem offenen Plenum ein:\n\nAlle\, die I
	nteresse haben\, sich an der Organisation und Umsetzung zu beteiligen\,\ns
	ind herzlich willkommen! Falls ihr selbst einen Programmpunkt beitragen wo
	llt\,\nsolltet ihr wissen\, dass wir dafür bald einen seperaten Open Call\
	nveröffentlichen werden.\n\nDas offene Plenum nächste Woche dient dazu\, e
	ine neue Umpolen-Orga-Gruppe zu\nbilden\, um das Programm zu planen und zu
	 bewerben\, den Ort herzurichten und\nzwischen Mai und Juli die Umsetzung 
	des Programms zu gewährleisten sowie während\nder Öffnungszeiten des Raums
	 vor Ort zu sein.\n\nDas Treffen findet am Mittwoch\, den 18.3 um 18 Uhr i
	m Löwenbräukeller\n(Sophienstr 95) statt.\n\nTeilt diesen Aufruf mit euren
	 Freund*innen oder bringt sie gleich mit zum\nTreffen!\n\n\n\nBis dahin kö
	nnt ihr gern unserem Telegram-Channel beitreten\, um die neuesten\nInforma
	tionen zu erhalten.\n\nhttps://t.me/+jaV8fsyqmTw3ZjQy [https://t.me/+jaV8f
	syqmTw3ZjQy]\n\nWir freuen uns schon sehr auf die Episode 2 mit euch!\n\n\
	n\n\n\n(ENG)\n\n\nOPEN MEETING "UMPOLEN - EPISODE 2" @LÖWENBRÄUKELLER ON 1
	8.03. AT 6PM\n(SOPHIENSTRASSE 95\, KARLSRUHE)\n\n\n\n>> We are looking for
	 people who would like to get involved in organising events\nwith us!\n\n\
	nWHAT HAVE WE DONE SO FAR?\n\nIn January\, our group spent a week turning 
	the former Polen-WG in Südstadt into\na socio-cultural event space. With a
	round 20 contributions from guests\, we\naddressed questions about long-di
	stance friendships\, community and vacant\nspaces.\n\n\nHOW DO WE SEE OURS
	ELVES?\n\nAfter this intensive week\, we see ourselves as a collective tha
	t wants to fill\nvacant spaces in order to host temporary socio-cultural e
	vents and create an\ninclusive and barrier-free space for encounters and e
	xchange that is free of\nconsumerism.\n\n\nWHAT DO WE WANT TO DO NOW?\n\nS
	tarting in May\, we want to temporarily reopen the former Löwenbräukeller 
	at\nSophienstr 95 in Karlsruhe's Weststadt and make it - after five years 
	of vacancy\n- accessible again to residents and anyone else who happens to
	 be passing by.\n\nThis time\, we want to open the space regularly over a 
	longer period of time and\ninvite people to a wide variety of events.\n\n\
	nWHO ARE WE LOOKING FOR?\n\nFor Episode 2 @Löwenbräukeller\, we want to op
	en up our organisers' group again\nand therefore invite you to an open ple
	nary meeting:\n\nAnyone interested in participating in the organisation an
	d realisation is very\nwelcome! Please note that we will soon be sending a
	 separate open call for\npeople who would like to contribute to the progra
	m.\n\nThe purpose of next week's open plenary meeting is to form a new Ump
	olen\norganising group to plan and publicise the program\, arrange the spa
	ce\, ensure\nthe program runs smoothly between May and July\, and be on si
	te during opening\nhours.\n\nThe meeting will take place on Wednesday\, 18
	 March at 6 p.m. at Löwenbräukeller\n(Sophienstr 95).\n\nShare this messag
	e with your friends or bring them along to the meeting!\n\nUntil then\, fe
	el free to join our Telegram channel to stay up to date with the\nlatest i
	nformation.\n\nhttps://t.me/+jaV8fsyqmTw3ZjQy [https://t.me/+jaV8fsyqmTw3Z
	jQy]\n\nWe are very much looking forward to Episode 2 with you!
URL:https://keepkarlsruheboring.org/event/offenes-plenum-umpolen-episode-2
GEO:49.0077;8.3822
LOCATION:Löwenbräukeller - Sophienstr 95
STATUS:CONFIRMED
CATEGORIES:Plenun
X-ALT-DESC;FMTTYPE=text/html:<p>(english below)</p><h1>Offenes Plenum "Umpo
	len - Episode 2" @Löwenbräukeller am 18.03. um 18 Uhr (Sophienstraße 95, K
	arlsruhe)</h1><h1></h1><p>&gt;&gt; Wir suchen nach Menschen, die Lust habe
	n mit uns an der Veranstaltungsorga beteiligt zu sein!</p><h2>Was haben wi
	r bisher gemacht?</h2><p>Im Januar haben wir als Gruppe die ehemalige Pole
	n-WG in der Südstadt für eine Woche in einen soziokulturellen Veranstaltun
	gsraum verwandelt. Mit etwa 20 Beiträgen von eingeladenen Gästen haben wir
	 uns mit Fragen zu Freund:innenschaften über Distanz, Gemeinschaft und Lee
	rstand befasst.</p><h2>Wie verstehen wir uns selbst?</h2><p>Nach dieser in
	tensiven Woche verstehen wir uns als Kollektiv, das Leerstand füllen möcht
	e, um temporär soziokulturelle Veranstaltungen auszurichten und einen inkl
	usiven und barrierearmen Raum für Begegnung und Austausch zu schaffen, der
	 konsumfrei funktioniert.</p><h2>Was wollen wir machen?</h2><p>Ab Mai woll
	en wir den ehemaligen Löwenbräukeller in der Sophienstr 95 in der Karlsruh
	er Weststadt temporär bespielen und ihn den Anwohner*innen und allen ander
	en, die sonst noch vorbeispazieren, nach fünf Jahren Leerstand wieder zugä
	nglich machen. Diesmal wollen wir den Raum über einen längeren Zeitraum re
	gelmäßig öffnen und dort zu unterschiedlichsten Veranstaltungen einladen.<
	/p><h2>Wen suchen wir?</h2><p>Für die Episode 2 @Löwenbräukeller wollen wi
	r unsere Orga-Gruppe wieder öffnen und laden euch deswegen hiermit zu eine
	m offenen Plenum ein:</p><p>Alle, die Interesse haben, sich an der Organis
	ation und Umsetzung zu beteiligen, sind herzlich willkommen! Falls ihr sel
	bst einen Programmpunkt beitragen wollt, solltet ihr wissen, dass wir dafü
	r bald einen seperaten Open Call veröffentlichen werden.</p><p>Das offene 
	Plenum nächste Woche dient dazu, eine neue Umpolen-Orga-Gruppe zu bilden, 
	um das Programm zu planen und zu bewerben, den Ort herzurichten und zwisch
	en Mai und Juli die Umsetzung des Programms zu gewährleisten sowie während
	 der Öffnungszeiten des Raums vor Ort zu sein.</p><p>Das Treffen findet am
	 Mittwoch, den 18.3 um 18 Uhr im Löwenbräukeller (Sophienstr 95) statt.</p
	><p>Teilt diesen Aufruf mit euren Freund*innen oder bringt sie gleich mit 
	zum Treffen!</p><p></p><p>Bis dahin könnt ihr gern unserem Telegram-Channe
	l beitreten, um die neuesten Informationen zu erhalten.</p><p><a href="htt
	ps://t.me/+jaV8fsyqmTw3ZjQy" target="_blank">https://t.me/+jaV8fsyqmTw3ZjQ
	y</a></p><p>Wir freuen uns schon sehr auf die Episode 2 mit euch!</p><p></
	p><p></p><p>(ENG)</p><h1>Open Meeting "Umpolen - Episode 2" @Löwenbräukell
	er on 18.03. at 6pm (Sophienstraße 95, Karlsruhe)</h1><p></p><p>&gt;&gt; W
	e are looking for people who would like to get involved in organising even
	ts with us!</p><h2>What have we done so far?</h2><p>In January, our group 
	spent a week turning the former Polen-WG in Südstadt into a socio-cultural
	 event space. With around 20 contributions from guests, we addressed quest
	ions about long-distance friendships, community and vacant spaces.</p><h2>
	How do we see ourselves?</h2><p>After this intensive week, we see ourselve
	s as a collective that wants to fill vacant spaces in order to host tempor
	ary socio-cultural events and create an inclusive and barrier-free space f
	or encounters and exchange that is free of consumerism.</p><h2>What do we 
	want to do now?</h2><p>Starting in May, we want to temporarily reopen the 
	former Löwenbräukeller at Sophienstr 95 in Karlsruhe's Weststadt and make 
	it - after five years of vacancy - accessible again to residents and anyon
	e else who happens to be passing by.</p><p>This time, we want to open the 
	space regularly over a longer period of time and invite people to a wide v
	ariety of events.</p><h2>Who are we looking for?</h2><p>For Episode 2 @Löw
	enbräukeller, we want to open up our organisers' group again and therefore
	 invite you to an open plenary meeting:</p><p>Anyone interested in partici
	pating in the organisation and realisation is very welcome! Please note th
	at we will soon be sending a separate open call for people who would like 
	to contribute to the program.</p><p>The purpose of next week's open plenar
	y meeting is to form a new Umpolen organising group to plan and publicise 
	the program, arrange the space, ensure the program runs smoothly between M
	ay and July, and be on site during opening hours.</p><p>The meeting will t
	ake place on Wednesday, 18 March at 6 p.m. at Löwenbräukeller (Sophienstr 
	95).</p><p>Share this message with your friends or bring them along to the
	 meeting!</p><p>Until then, feel free to join our Telegram channel to stay
	 up to date with the latest information.</p><p><a href="https://t.me/+jaV8
	fsyqmTw3ZjQy" target="_blank">https://t.me/+jaV8fsyqmTw3ZjQy</a></p><p>We 
	are very much looking forward to Episode 2 with you!</p>
BEGIN:VALARM
ACTION:DISPLAY
DESCRIPTION:Offenes Plenum "Umpolen - Episode 2"
TRIGGER:-PT1H
END:VALARM
END:VEVENT
END:VCALENDAR
