BEGIN:VCALENDAR
VERSION:2.0
CALSCALE:GREGORIAN
PRODID:adamgibbons/ics
METHOD:PUBLISH
X-PUBLISHED-TTL:PT1H
BEGIN:VEVENT
UID:771@keepkarlsruheboring.org
SUMMARY:Oliver Nachtwey stellt vor: "Zerstörungslust" -Elemente des demokra
	tischen Faschismus-
DTSTAMP:20260423T105018Z
DTSTART:20260210T180000Z
DTEND:20260210T200000Z
DESCRIPTION:Doors 19.00 // Buchvorstellung 20.00 // Tickets: Donald Trump v
	ersprach vor\nseiner erneuten Wahl\, die liberale Demokratie aus den Angel
	n zu heben. Er wurde\nnicht trotz\, sondern wegen dieses Versprechens gewä
	hlt. In ihrem Bestseller\nGekränkte Freiheit zeigten Carolin Amlinger und 
	Oliver Nachtwey\, wie\nLibertarismus und Autoritarismus miteinander versch
	melzen könnten. Zwei Jahre\nspäter hat die Realität ihre soziologische Dia
	gnose auf bedrückende Weise\nbestätigt. Nun befassen sie sich mit den Wähl
	er und Followern von Trump\, Musk\nsowie der AfD. Woher diese Lust an der 
	Zerstörung? Und warum folgen so viele\nBürger:innen den libertären Autorit
	ären in den selbstgewählten Faschismus? Auf\nder Grundlage umfangreicher e
	mpirischer Forschungen\, darunter einer Vielzahl\nausführlicher Interviews
	\, u. a. mit AfD-Anhängern und Mitgliedern libertärer\nVereinigungen\, ent
	wickeln Amlinger und Nachtwey eine Erklärung: Im Kern richtet\nsich diese 
	Revolte gegen die Blockade liberaler Gesellschaften\, die ihre\nVerspreche
	n auf Aufstieg und Emanzipation nicht mehr einlösen. In diesem Sinne\ngeht
	 es Trump\, Musk\, Weidel und ihren Anhänger:innen\, schließen die beiden 
	mit\nErich Fromm\, um die Zerstörung der Welt als letzten\, verzweifelten 
	Versuch\, sich\ndavor zu retten\, von ihr zermalmt zu werden.
URL:https://keepkarlsruheboring.org/event/oliver-nachtwey-stellt-vor-zersto
	rungslust-elemente-des-demokratischen-faschismus-
GEO:48.989;8.37185
LOCATION:P8 - Schauenburgstraße 5\, 76135 Karlsruhe
STATUS:CONFIRMED
CATEGORIES:karlsrunruhe,test
X-ALT-DESC;FMTTYPE=text/html:Doors 19.00 // Buchvorstellung 20.00 // Ticket
	s: <br>Donald Trump versprach vor seiner erneuten Wahl, die liberale Demok
	ratie aus den Angeln zu heben. Er wurde nicht trotz, sondern wegen dieses 
	Versprechens gewählt. In ihrem Bestseller Gekränkte Freiheit zeigten Carol
	in Amlinger und Oliver Nachtwey, wie Libertarismus und Autoritarismus mite
	inander verschmelzen könnten. Zwei Jahre später hat die Realität ihre sozi
	ologische Diagnose auf bedrückende Weise bestätigt. Nun befassen sie sich 
	mit den Wähler und Followern von Trump, Musk sowie der AfD.<br>Woher diese
	 Lust an der Zerstörung? Und warum folgen so viele Bürger:innen den libert
	ären Autoritären in den selbstgewählten Faschismus? Auf der Grundlage umfa
	ngreicher empirischer Forschungen, darunter einer Vielzahl ausführlicher I
	nterviews, u. a. mit AfD-Anhängern und Mitgliedern libertärer Vereinigunge
	n, entwickeln Amlinger und Nachtwey eine Erklärung: Im Kern richtet sich d
	iese Revolte gegen die Blockade liberaler Gesellschaften, die ihre Verspre
	chen auf Aufstieg und Emanzipation nicht mehr einlösen.<br>In diesem Sinne
	 geht es Trump, Musk, Weidel und ihren Anhänger:innen, schließen die beide
	n mit Erich Fromm, um die Zerstörung der Welt als letzten, verzweifelten V
	ersuch, sich davor zu retten, von ihr zermalmt zu werden. 
BEGIN:VALARM
ACTION:DISPLAY
DESCRIPTION:Oliver Nachtwey stellt vor: "Zerstörungslust" -Elemente des dem
	okratischen Faschismus-
TRIGGER:-PT1H
END:VALARM
END:VEVENT
END:VCALENDAR
