BEGIN:VCALENDAR
VERSION:2.0
CALSCALE:GREGORIAN
PRODID:adamgibbons/ics
METHOD:PUBLISH
X-PUBLISHED-TTL:PT1H
BEGIN:VEVENT
UID:62@keepkarlsruheboring.org
SUMMARY:Open Air Kino: Orlando
DTSTAMP:20260423T103149Z
DTSTART:20250525T191500Z
DTEND:20250525T211500Z
DESCRIPTION:[ ↓ English below ↓]\n\n\nORLANDO\n\nRegie: Sally Potter | Fran
	kreich\, Italien\, Niederlande\, Russische Föderation\,\nVereinigtes König
	reich 1992 | 90 min | 35mm | Originalfassung mit deutschen\nUntertiteln | 
	mit Tilda Swinton\, Quentin Crisp\, Jimmy Somerville\n\n„Orlando\, der Hel
	d\, wird von den Tagen Elizabeths im 16. Jahrhundert bis zur\nGegenwart le
	ben und auf halbem Wege eine Frau werden.“ So fasste Virginia Woolf\nden I
	nhalt ihres Meisterwerks zusammen. Als die britische Autorin 1928 Orlando\
	nherausbrachte\, war sie in leidenschaftlicher Liebe zu Vita Sackville-Wes
	t\nentbrannt. Der aus einer alten Adelsfamilie stammenden Gartengestalteri
	n und\nSchriftstellerin widmete Woolf Orlando und schrieb: „Ich habe all d
	iese Monate\nin Dir gelebt – wenn ich rauskomme\, wie bist Du dann wirklic
	h? Habe ich Dich\nerfunden?“1992 verfilmte Sally Potter das Buch mit einem
	 Staraufgebot als\nschwelgerisches Kostümdrama. Tilda Swinton brilliert da
	rin als androgyner\nOrlando\, Quentin Crisp\, die britische Ikone der früh
	en schwulen Emanzipation\,\nspielt in einer Paraderolle Elizabeth I. und J
	immy Somerville („Don’t Leave Me\nThis Way“) hat mit seiner Falsettstimme 
	einen buchstäblich engelhaften Auftritt.\nMit so viel leichtfüßiger Ironie
	 und poetischem Charme hat noch kaum ein Film\nden Genderdiskurs auf die L
	einwand gebracht.\n\n☞ Veranstaltungsbeginn 20:00 Uhr mit DJ\, Bar uvm.\n\
	n☞ Vorprogramm ab 21:15 Uhr mit Kurzfilmen in herrlicher 16mm-Projektion\n
	\n☞ Filmbeginn ab 21:20 Uhr\n\nLeihgabe der Filmkopie mit freundlicher Unt
	erstützung der HfG Karlsruhe.\n\n\n\n\nVORFILM: HULA\n\nRegie: Amy Halpern
	 | USA 2022 | 6 min | 16mm | Ohne Dialog | mit Henry Franklin\n\nAbstrakte
	\, aber offensichtliche musikalische Notation\, in der Palmen tanzen –\npr
	äzise die Washingtonia filifera\, die einzige einheimische amerikanische\n
	Fächerpalme\, Freundin und Versorgerin der indigenen Völker Nordamerikas. 
	Amy\nHalperns Film fängt die sanften Wellen von Wind und Licht ein\, die d
	urch die\nBlätter der Palmen streichen. Dabei verschmelzen Natur\, Musik u
	nd Tanz zu einer\nfast greifbaren Symphonie\, die uns in eine andere Welt 
	entführt –\nunaufdringlich\, aber hypnotisierend.\n\nLeihgabe der Filmkopi
	e mit freundlicher Unterstützung von LightCone.\n\n/-/-/\n\n\nORLANDO\n\nD
	irector: Sally Potter | France\, Italy\, Netherlands\, Russian Federation\
	, United\nKingdom 1992 | 90 min | 35mm | Original Version with german Subt
	itles | with\nTilda Swinton\, Quentin Crisp\, Jimmy Somerville\n\n“Orlando
	\, the hero\, will live from the days of Elizabeth in the 16th century to\
	nthe present and become a woman halfway through.” This is how Virginia Woo
	lf\nsummarized the content of her masterpiece. When the British author pub
	lished\n“Orlando” in 1928\, she was passionately in love with Vita Sackvil
	le West. Woolf\ndedicated “Orlando” to the garden designer and writer from
	 an old aristocratic\nfamily and wrote: “I have lived in you all these mon
	ths - when I come out\, what\nare you really like? Did I make you up? “In 
	1992\, Sally Potter adapted the book\ninto a lavish costume drama with a s
	tar-studded cast. Tilda Swinton shines in it\nas the androgynous Orlando\,
	 Quentin Crisp\, the British icon of early gay\nemancipation\, plays Eliza
	beth I in a parade role\, and Jimmy Somerville (“Don't\nLeave Me This Way”
	) makes a literally angelic appearance with his falsetto\nvoice. Hardly an
	y other film has brought the gender discourse to the screen with\nso much 
	light-footed irony and so much poetic charm.\n\n☞ Event starts at 8:00 p.m
	. with DJ\, bar and much more.\n\n☞ Pre-program from 9:15 p.m. with short 
	films in wonderful 16mm projection\n\n☞ Film starts at 9:20 p.m.\n\nLoan o
	f the film print with kind support of HfG Karlsruhe.\n\n\n\n\nSUPPORTING F
	ILM: HULA\n\nDirector: Amy Halpern | USA 2022 | 6 min | 16mm | Without dia
	logue | with Henry\nFranklin\n\nAbstract but obvious musical notation in w
	hich palm trees dance - precisely the\nWashingtonia filifera\, the only na
	tive American fan palm\, friend and provider of\nthe indigenous peoples of
	 North America. Amy Halpern's film captures the gentle\nwaves of wind and 
	light that sweep through the leaves of the palms. Nature\,\nmusic and danc
	e merge into an almost tangible symphony that transports us to\nanother wo
	rld - unobtrusive but mesmerizing.\n\nLoan of the film print with kind sup
	port of LightCone.
URL:https://keepkarlsruheboring.org/event/open-air-kino-orlando
GEO:49.0021;8.38367
LOCATION:Staatliche Hochschule für Gestaltung (HfG) Karlsruhe - 15\, Lorenz
	straße\, Beiertheimer Feld\, Südweststadt\, Karlsruhe\, Baden-Württemberg\
	, 76135\, Deutschland
STATUS:CONFIRMED
CATEGORIES:Film,Open Air Kino
X-ALT-DESC;FMTTYPE=text/html:<p>[ ↓ English below ↓]</p><h2>Orlando</h2><p>
	Regie: Sally Potter | Frankreich, Italien, Niederlande, Russische Föderati
	on, Vereinigtes Königreich 1992 | 90 min | 35mm | Originalfassung mit deut
	schen Untertiteln | mit Tilda Swinton, Quentin Crisp, Jimmy Somerville</p>
	<p>„Orlando, der Held, wird von den Tagen Elizabeths im 16. Jahrhundert bi
	s zur Gegenwart leben und auf halbem Wege eine Frau werden.“ So fasste Vir
	ginia Woolf den Inhalt ihres Meisterwerks zusammen. Als die britische Auto
	rin 1928 Orlando herausbrachte, war sie in leidenschaftlicher Liebe zu Vit
	a Sackville-West entbrannt. Der aus einer alten Adelsfamilie stammenden Ga
	rtengestalterin und Schriftstellerin widmete Woolf Orlando und schrieb: „I
	ch habe all diese Monate in Dir gelebt – wenn ich rauskomme, wie bist Du d
	ann wirklich? Habe ich Dich erfunden?“1992 verfilmte Sally Potter das Buch
	 mit einem Staraufgebot als schwelgerisches Kostümdrama. Tilda Swinton bri
	lliert darin als androgyner Orlando, Quentin Crisp, die britische Ikone de
	r frühen schwulen Emanzipation, spielt in einer Paraderolle Elizabeth I. u
	nd Jimmy Somerville („Don’t Leave Me This Way“) hat mit seiner Falsettstim
	me einen buchstäblich engelhaften Auftritt. Mit so viel leichtfüßiger Iron
	ie und poetischem Charme hat noch kaum ein Film den Genderdiskurs auf die 
	Leinwand gebracht.</p><p>☞ Veranstaltungsbeginn 20:00 Uhr mit DJ, Bar uvm.
	</p><p>☞ Vorprogramm ab 21:15 Uhr mit Kurzfilmen in herrlicher 16mm-Projek
	tion</p><p>☞ Filmbeginn ab 21:20 Uhr</p><p>Leihgabe der Filmkopie mit freu
	ndlicher Unterstützung der HfG Karlsruhe.</p><p></p><h2>Vorfilm: Hula</h2>
	<p>Regie: Amy Halpern | USA 2022 | 6 min | 16mm | Ohne Dialog | mit Henry 
	Franklin</p><p>Abstrakte, aber offensichtliche musikalische Notation, in d
	er Palmen tanzen – präzise die Washingtonia filifera, die einzige einheimi
	sche amerikanische Fächerpalme, Freundin und Versorgerin der indigenen Völ
	ker Nordamerikas. Amy Halperns Film fängt die sanften Wellen von Wind und 
	Licht ein, die durch die Blätter der Palmen streichen. Dabei verschmelzen 
	Natur, Musik und Tanz zu einer fast greifbaren Symphonie, die uns in eine 
	andere Welt entführt – unaufdringlich, aber hypnotisierend.</p><p>Leihgabe
	 der Filmkopie mit freundlicher Unterstützung von LightCone.</p><p>/-/-/</
	p><h2>Orlando</h2><p>Director: Sally Potter | France, Italy, Netherlands, 
	Russian Federation, United Kingdom 1992 | 90 min | 35mm | Original Version
	 with german Subtitles | with Tilda Swinton, Quentin Crisp, Jimmy Somervil
	le</p><p>“Orlando, the hero, will live from the days of Elizabeth in the 1
	6th century to the present and become a woman halfway through.” This is ho
	w Virginia Woolf summarized the content of her masterpiece. When the Briti
	sh author published “Orlando” in 1928, she was passionately in love with V
	ita Sackville West. Woolf dedicated “Orlando” to the garden designer and w
	riter from an old aristocratic family and wrote: “I have lived in you all 
	these months - when I come out, what are you really like? Did I make you u
	p? “In 1992, Sally Potter adapted the book into a lavish costume drama wit
	h a star-studded cast. Tilda Swinton shines in it as the androgynous Orlan
	do, Quentin Crisp, the British icon of early gay emancipation, plays Eliza
	beth I in a parade role, and Jimmy Somerville (“Don't Leave Me This Way”) 
	makes a literally angelic appearance with his falsetto voice. Hardly any o
	ther film has brought the gender discourse to the screen with so much ligh
	t-footed irony and so much poetic charm.</p><p>☞ Event starts at 8:00 p.m.
	 with DJ, bar and much more.</p><p>☞ Pre-program from 9:15 p.m. with short
	 films in wonderful 16mm projection</p><p>☞ Film starts at 9:20 p.m.</p><p
	>Loan of the film print with kind support of HfG Karlsruhe.</p><p></p><h2>
	Supporting Film: Hula</h2><p>Director: Amy Halpern | USA 2022 | 6 min | 16
	mm | Without dialogue | with Henry Franklin</p><p>Abstract but obvious mus
	ical notation in which palm trees dance - precisely the Washingtonia filif
	era, the only native American fan palm, friend and provider of the indigen
	ous peoples of North America. Amy Halpern's film captures the gentle waves
	 of wind and light that sweep through the leaves of the palms. Nature, mus
	ic and dance merge into an almost tangible symphony that transports us to 
	another world - unobtrusive but mesmerizing.</p><p>Loan of the film print 
	with kind support of LightCone.</p>
BEGIN:VALARM
ACTION:DISPLAY
DESCRIPTION:Open Air Kino: Orlando
TRIGGER:-PT1H
END:VALARM
END:VEVENT
END:VCALENDAR
