BEGIN:VCALENDAR
VERSION:2.0
CALSCALE:GREGORIAN
PRODID:adamgibbons/ics
METHOD:PUBLISH
X-PUBLISHED-TTL:PT1H
BEGIN:VEVENT
UID:8@keepkarlsruheboring.org
SUMMARY:OPEN ARTS CLUB
DTSTAMP:20260423T102322Z
DTSTART:20250413T130000Z
DTEND:20250413T170000Z
DESCRIPTION:OPEN ARTS CLUB - Open everyone\, all skill levels welcome! \n\n
	A cozy space for everyone to experiment with art\, try new things\, and ge
	t\ncreative. Whether you're a beginner or an experienced creative\, it's a
	ll about\nhaving fun\, exchanging ideas\, and exploring your creativity. W
	e provide the\nspace\, materials\, and inspiration. To wrap it up\, we'll 
	host a collective\nexhibition featuring the works you'd like to share. ❤💚💜
	\n\nOPEN ARTS CLUB – Offen für alle\, alle Skills willkommen! \n\nEin gemü
	tlicher Raum für alle\, um mit Kunst zu experimentieren\, Neues\nauszuprob
	ieren und kreativ zu sein. Egal\, ob du noch keine Erfahrung hast oder\nbe
	reits ein kreativer Geist bist\, hier geht es vor allem darum\, Spaß zu ha
	ben\,\nIdeen auszutauschen und die eigene Kreativität zu entdecken.Wir bie
	ten den Raum\,\nMaterialien und Inspiration. Zum Abschluss veranstalten wi
	r eine kollektive\nAusstellung mit den Werken\, die du gerne teilen möchte
	st. ❤💚💜\n\nOPEN ARTS CLUB – مفتوح للجميع، جميع المستويات مرحب بها!\n\nمساح
	ة مريحة للجميع لتجربة الفن، لتجربة أشياء جديدة، والإبداع. سواء كنت مبتدئًا
	\nأو لديك بلغت روح الإبداعية، الهدف هنا هو الاستمتاع، تبادل الأفكار، واكتش
	اف\nإبداعك الخاص. نحن نوفر المكان المناسب، المواد، والإلهام. وفي الختام، س
	ننظم\nمعرضًا جماعيًا يعرض الأعمال التي ترغب في مشاركتها. ❤💚💜
URL:https://keepkarlsruheboring.org/event/open-arts-club
GEO:49.0082;8.40959
LOCATION:COLA TAXI OKAY - 25\, Kronenstraße\, Innenstadt-Ost Südwestlicher 
	Teil\, Innenstadt-Ost\, Karlsruhe\, Baden-Württemberg\, 76133\, Deutschlan
	d
STATUS:CONFIRMED
CATEGORIES:Art,DIY,Workshop
X-ALT-DESC;FMTTYPE=text/html:<p>OPEN ARTS CLUB - Open everyone, all skill l
	evels welcome!&nbsp;</p><p>A cozy space for everyone to experiment with ar
	t, try new things, and get creative. Whether you're a beginner or an exper
	ienced creative, it's all about having fun, exchanging ideas, and explorin
	g your creativity. We provide the space, materials, and inspiration. To wr
	ap it up, we'll host a collective exhibition featuring the works you'd lik
	e to share. ❤💚💜</p><p>OPEN ARTS CLUB – Offen für alle, alle Skills willkom
	men!&nbsp;</p><p>Ein gemütlicher Raum für alle, um mit Kunst zu experiment
	ieren, Neues auszuprobieren und kreativ zu sein. Egal, ob du noch keine Er
	fahrung hast oder bereits ein kreativer Geist bist, hier geht es vor allem
	 darum, Spaß zu haben, Ideen auszutauschen und die eigene Kreativität zu e
	ntdecken.Wir bieten den Raum, Materialien und Inspiration. Zum Abschluss v
	eranstalten wir eine kollektive Ausstellung mit den Werken, die du gerne t
	eilen möchtest.&nbsp;❤💚💜</p><p>OPEN ARTS CLUB – مفتوح للجميع، جميع المستوي
	ات مرحب بها!</p><p>مساحة مريحة للجميع لتجربة الفن، لتجربة أشياء جديدة، وال
	إبداع. سواء كنت مبتدئًا أو لديك بلغت روح الإبداعية، الهدف هنا هو الاستمتاع
	، تبادل الأفكار، واكتشاف إبداعك الخاص. نحن نوفر المكان المناسب، المواد، وا
	لإلهام. وفي الختام، سننظم معرضًا جماعيًا يعرض الأعمال التي ترغب في مشاركته
	ا.&nbsp;❤💚💜</p>
BEGIN:VALARM
ACTION:DISPLAY
DESCRIPTION:OPEN ARTS CLUB
TRIGGER:-PT1H
END:VALARM
END:VEVENT
END:VCALENDAR
