BEGIN:VCALENDAR
VERSION:2.0
CALSCALE:GREGORIAN
PRODID:adamgibbons/ics
METHOD:PUBLISH
X-PUBLISHED-TTL:PT1H
BEGIN:VEVENT
UID:457@keepkarlsruheboring.org
SUMMARY:OPEN DECK BASH
DTSTAMP:20260423T101831Z
DTSTART:20251023T170000Z
DTEND:20251023T203000Z
DESCRIPTION:🎯🌀OPEN DECK BASH✨🥊\nMix Your Own Music\n\nDE\nMusik\, Drinks un
	d entspannte Stimmung – bringt eure Tracks auf USB oder Vinyl\nmit und tei
	lt eure Sounds! Jede*r ist willkommen\, alle Genres sind möglich.\nKommt i
	ns COLA TAXI OKAY\, entdeckt unseren Raum\, bringt eure Neugier mit und\np
	robiert euch selbst an den Decks aus. Es wird spannend!\n___\n\nEN\nMusic\
	, drinks\, and laid-back vibes – bring your tracks on USB or vinyl and sha
	re\nyour sound! Everyone’s welcome\, all genres are possible. Come to COLA
	 TAXI OKAY\,\nexplore the space\, bring your curiosity and try mixing your
	 own sounds. It’s\ngoing to be exciting.\n____\n\nAR\nموسيقى، مشروبات، وأج
	واء مريحة – أحضروا موسيقاكم على فلاش أو أسطوانات فينيل\nوشاركوها معنا! الج
	ميع مرحّب به، وكل الأنماط الموسيقية ممكنة. زورونا في COLA TAXI\nOKAY، استك
	شفوا المكان، وجرّبوا دمج موسيقاكم بأنفسكم. ستكون أمسية مميزة!
URL:https://keepkarlsruheboring.org/event/open-deck-bash
GEO:49.0082;8.40959
LOCATION:COLA TAXI OKAY - 25\, Kronenstraße\, Innenstadt-Ost Südwestlicher 
	Teil\, Innenstadt-Ost\, Karlsruhe\, Baden-Württemberg\, 76133\, Deutschlan
	d
STATUS:CONFIRMED
CATEGORIES:DIY,DJ,Music,Open Deck Bash,Workshop
X-ALT-DESC;FMTTYPE=text/html:<p>🎯🌀OPEN DECK BASH✨🥊<br>Mix Your Own Music<br
	><br>DE<br>Musik, Drinks und entspannte Stimmung – bringt eure Tracks auf 
	USB oder Vinyl mit und teilt eure Sounds! Jede*r ist willkommen, alle Genr
	es sind möglich. Kommt ins COLA TAXI OKAY, entdeckt unseren Raum, bringt e
	ure Neugier mit und probiert euch selbst an den Decks aus. Es wird spannen
	d!<br>___<br><br>EN<br>Music, drinks, and laid-back vibes – bring your tra
	cks on USB or vinyl and share your sound! Everyone’s welcome, all genres a
	re possible. Come to COLA TAXI OKAY, explore the space, bring your curiosi
	ty and try mixing your own sounds. It’s going to be exciting.<br>____<br><
	br>AR<br>موسيقى، مشروبات، وأجواء مريحة – أحضروا موسيقاكم على فلاش أو أسطوا
	نات فينيل وشاركوها معنا! الجميع مرحّب به، وكل الأنماط الموسيقية ممكنة. زور
	ونا في COLA TAXI OKAY، استكشفوا المكان، وجرّبوا دمج موسيقاكم بأنفسكم. ستكو
	ن أمسية مميزة!</p>
BEGIN:VALARM
ACTION:DISPLAY
DESCRIPTION:OPEN DECK BASH
TRIGGER:-PT1H
END:VALARM
END:VEVENT
END:VCALENDAR
