BEGIN:VCALENDAR
VERSION:2.0
CALSCALE:GREGORIAN
PRODID:adamgibbons/ics
METHOD:PUBLISH
X-PUBLISHED-TTL:PT1H
BEGIN:VEVENT
UID:787@keepkarlsruheboring.org
SUMMARY:Open Mic
DTSTAMP:20260423T101919Z
DTSTART:20260214T190000Z
DTEND:20260214T210000Z
DESCRIPTION:Du hast eine Kurzgeschichte\, ein Gedicht oder einen Roman gesc
	hrieben und\nmöchtest das auf einer Bühne vor Publikum vorstellen? Du kann
	st sieben Tassen\nKaffee jonglieren oder in Spiegelschrift sprechen? Dein 
	neuer Nummer-1-Hit soll\nendlich ans Licht der Öffentlichkeit? Gesagt - ge
	tan! Auf zum Open Mic zu uns\nins KOHI! Einfach vorbei kommen und einen 15
	-Minuten-Bühnenslot ergattern. Wer\nsich allenfalls von der Kunst berausch
	en lassen will\, ist selbstverständlich\nebenfalls herzlich willkommen. Un
	s und euch erwartet zweimonatlich ein\nerstaunlicher Abend voller verblüff
	ender Überraschungen. Wir freuen uns auf euch\n– ob als Teil des Publikums
	 oder als Mitwirkende auf der Bühne! Wenn ihr\nInteresse habt\, aufzutrete
	n\, könnt ihr euch im Voraus per E-Mail unter\ninfo@KOHI.de anmelden. Komm
	t aber gern auch ohne Anmeldung vorbei\, meist ist\nnoch ein Slot für eine
	n spontanen Auftritt auf der Bühne frei! Einlass: 19 Uhr\,\nBeginn: 20 Uhr
URL:https://keepkarlsruheboring.org/event/open-mic
GEO:49.0017;8.40754
LOCATION:Kohi - Werderstraße 47\, 76137 Karlsruhe\, Alemanya
STATUS:CONFIRMED
CATEGORIES:karlsrunruhe,test
X-ALT-DESC;FMTTYPE=text/html:Du hast eine Kurzgeschichte, ein Gedicht oder 
	einen Roman geschrieben und möchtest das auf einer Bühne vor Publikum vors
	tellen? Du kannst sieben Tassen Kaffee jonglieren oder in Spiegelschrift s
	prechen? Dein neuer Nummer-1-Hit soll endlich ans Licht der Öffentlichkeit
	? Gesagt - getan! Auf zum Open Mic zu uns ins KOHI! Einfach vorbei kommen 
	und einen 15-Minuten-Bühnenslot ergattern. Wer sich allenfalls von der Kun
	st berauschen lassen will, ist selbstverständlich ebenfalls herzlich willk
	ommen. Uns und euch erwartet zweimonatlich ein erstaunlicher Abend voller 
	verblüffender Überraschungen. Wir freuen uns auf euch – ob als Teil des Pu
	blikums oder als Mitwirkende auf der Bühne! Wenn ihr Interesse habt, aufzu
	treten, könnt ihr euch im Voraus per E-Mail unter info@KOHI.de anmelden. K
	ommt aber gern auch ohne Anmeldung vorbei, meist ist noch ein Slot für ein
	en spontanen Auftritt auf der Bühne frei!<br>Einlass: 19 Uhr, Beginn: 20 U
	hr
BEGIN:VALARM
ACTION:DISPLAY
DESCRIPTION:Open Mic
TRIGGER:-PT1H
END:VALARM
END:VEVENT
END:VCALENDAR
