BEGIN:VCALENDAR
VERSION:2.0
CALSCALE:GREGORIAN
PRODID:adamgibbons/ics
METHOD:PUBLISH
X-PUBLISHED-TTL:PT1H
BEGIN:VEVENT
UID:67@keepkarlsruheboring.org
SUMMARY:Open Solitude
DTSTAMP:20260423T102000Z
DTSTART:20250627T120000Z
DTEND:20250627T200000Z
DESCRIPTION:Die Akademie Schloss Solitude lädt Sie/dich herzlich zur Verans
	taltung Open\nSolitude am 27. Juni 2025 von 14 bis 22 Uhr ein. Mehr als 20
	 interdisziplinär\narbeitende Künstlerinnen und Wissenschaftlerinnen öffne
	n ihre Arbeits- und\nWohnstudios für das Publikum und beteiligen sich mit 
	Ausstellungen\,\nPerformances\, Konzerten und Kurzlesungen am Programm.\n\
	nMit Open Solitude möchte die Akademie allen Besucherinnen die Möglichkeit
	\nbieten\, sich über die aktuellen Projekte der Stipendiatinnen zu informi
	eren und\neinen Raum für persönliche und künstlerische Begegnungen schaffe
	n.\n\nDie Stipendiat*innen und das Team der Akademie freuen sich auf Ihren
	 Besuch.\n\nDer Eintritt ist frei. Foodtrucks sorgen für die Verpflegung.\
	n\nDas Programm wird in Kürze hier zu finden sein!\n\n\n\n/-/-/\n\nhe Akad
	emie Schloss Solitude warmly invites you to Open Solitude on June 27\,\n20
	24\, from 2 pm to 10 pm. More than twenty interdisciplinary artists and\nr
	esearchers from over seventeen countries will open their work and living\n
	studios to the public\, contributing to the program with exhibitions\,\npe
	rformances\, concerts\, and short readings.\n\nWith Open Solitude\, the Ak
	ademie invites all visitors to explore the fellows’\ncurrent projects and 
	to create a space for personal and artistic encounters.\n\nThe fellows and
	 the Akademie team look forward to your visit.\n\nAdmission is free. Food 
	trucks will be available for refreshments.\n\nThe detailed program will be
	 published soon!
URL:https://keepkarlsruheboring.org/event/open-solitude
GEO:48.7871;9.0834
LOCATION:Akademie Schloss Solitude [Stuttgart] - 3\, Solitude\, Solitude\, 
	Stuttgart\, Baden-Württemberg\, 70197\, Deutschland
STATUS:CONFIRMED
CATEGORIES:Art,Stuttgart
X-ALT-DESC;FMTTYPE=text/html:<p>Die Akademie Schloss Solitude lädt Sie/dich
	 herzlich zur Veranstaltung <em>Open Solitude</em> am 27. Juni 2025 von 14
	 bis 22 Uhr ein. Mehr als 20 interdisziplinär arbeitende Künstler<em>innen
	 und Wissenschaftler</em>innen öffnen ihre Arbeits- und Wohnstudios für da
	s Publikum und beteiligen sich mit Ausstellungen, Performances, Konzerten 
	und Kurzlesungen am Programm.</p><p>Mit <em>Open Solitude</em> möchte die 
	Akademie allen Besucher<em>innen die Möglichkeit bieten, sich über die akt
	uellen Projekte der Stipendiat</em>innen zu informieren und einen Raum für
	 persönliche und künstlerische Begegnungen schaffen.</p><p>Die Stipendiat*
	innen und das Team der Akademie freuen sich auf Ihren Besuch.</p><p>Der Ei
	ntritt ist frei. Foodtrucks sorgen für die Verpflegung.</p><p>Das Programm
	 wird in Kürze hier zu finden sein!</p><p></p><p>/-/-/</p><p>he Akademie S
	chloss Solitude warmly invites you to Open Solitude on June 27, 2024, from
	 2 pm to 10 pm. More than twenty interdisciplinary artists and researchers
	 from over seventeen countries will open their work and living studios to 
	the public, contributing to the program with exhibitions, performances, co
	ncerts, and short readings.</p><p>With Open Solitude, the Akademie invites
	 all visitors to explore the fellows’ current projects and to create a spa
	ce for personal and artistic encounters.</p><p>The fellows and the Akademi
	e team look forward to your visit.</p><p>Admission is free. Food trucks wi
	ll be available for refreshments.</p><p>The detailed program will be publi
	shed soon!</p>
BEGIN:VALARM
ACTION:DISPLAY
DESCRIPTION:Open Solitude
TRIGGER:-PT1H
END:VALARM
END:VEVENT
END:VCALENDAR
