BEGIN:VCALENDAR
VERSION:2.0
CALSCALE:GREGORIAN
PRODID:adamgibbons/ics
METHOD:PUBLISH
X-PUBLISHED-TTL:PT1H
BEGIN:VEVENT
UID:499@keepkarlsruheboring.org
SUMMARY:Open Stage im TanzAreal
DTSTAMP:20260423T102327Z
DTSTART:20251206T150000Z
DESCRIPTION:Das TanzAreal Karlsruhe lädt zur Open Stage ein\n\nHier geben K
	ünstler*innen Einblicke in ihre aktuelle Arbeit und zeigen ihre\nKreatione
	n in einem offenen\, ungezwungenen Rahmen. Die Open Stage wird als\nMoment
	 der Zusammenkunft gesehen - Ein Ort\, an dem Austausch und Vernetzung\nwi
	llkommen sind. \n\nDer Eintritt ist kostenlos\, Getränke und Snacks stehen
	 auf Spendenbasis bereit.\nNach den Performances wird herzlich zu einem ge
	meinsamen Beisammensein und\ngemütlichem Ausklingen des Abends eingeladen!
	\n\nWir freuen uns über alle Zuschauerinnen\, die unsere Künstlerinnen dur
	ch ihr\nKommen unterstützen möchten. Es sind alle willkommen!\n\nUnd wer s
	elbst etwas bei der Open Stage zeigen möchte\, darf sich gerne beim\nTanzA
	real über dieses Formular\n[https://docs.google.com/forms/d/e/1FAIpQLSc0Mq
	pYSyW476WZVUtKvvQ2m1MVVeF0FA9ilT3khcFFneOlBA/viewform]\nkurz anmelden!\n\n
	\nTanzAreal Karlsruhe\n(Rückseite Kulturzentrum Tempel)\nHardtstraße 37a\n
	76185 Karlsruhe
URL:https://keepkarlsruheboring.org/event/open-stage-im-tanzareal
GEO:49.014;8.35771
LOCATION:Tanzareal Karlsruhe - Hardtstraße 37a\, 76185 Karlsruhe
STATUS:CONFIRMED
CATEGORIES:Open Doors,open Stage,Registration required,TANZ Karlsruhe 2025,
	Tanzfestival 2025
X-ALT-DESC;FMTTYPE=text/html:<p><strong>Das TanzAreal Karlsruhe lädt zur Op
	en Stage ein</strong></p><p>Hier geben Künstler*innen Einblicke in ihre ak
	tuelle Arbeit und zeigen ihre Kreationen in einem offenen, ungezwungenen R
	ahmen. Die Open Stage wird als Moment der Zusammenkunft gesehen - Ein Ort,
	 an dem Austausch und Vernetzung willkommen sind.&nbsp;</p><p>Der Eintritt
	 ist kostenlos, Getränke und Snacks stehen auf Spendenbasis bereit. Nach d
	en Performances wird herzlich zu einem gemeinsamen Beisammensein und gemüt
	lichem Ausklingen des Abends eingeladen!</p><p><em>Wir freuen uns über all
	e Zuschauerinnen, die unsere Künstlerinnen durch ihr Kommen unterstützen m
	öchten. Es sind alle willkommen!</em></p><p>Und wer selbst etwas bei der O
	pen Stage zeigen möchte, darf sich gerne beim TanzAreal über <a href="http
	s://docs.google.com/forms/d/e/1FAIpQLSc0MqpYSyW476WZVUtKvvQ2m1MVVeF0FA9ilT
	3khcFFneOlBA/viewform" target="_blank"><strong>dieses Formular</strong></a
	> kurz anmelden!<br></p><p>TanzAreal Karlsruhe<br>(Rückseite Kulturzentrum
	 Tempel)<br>Hardtstraße 37a<br>76185 Karlsruhe</p>
BEGIN:VALARM
ACTION:DISPLAY
DESCRIPTION:Open Stage im TanzAreal
TRIGGER:-PT1H
END:VALARM
END:VEVENT
END:VCALENDAR
