BEGIN:VCALENDAR
VERSION:2.0
CALSCALE:GREGORIAN
PRODID:adamgibbons/ics
METHOD:PUBLISH
X-PUBLISHED-TTL:PT1H
BEGIN:VEVENT
UID:50@keepkarlsruheboring.org
SUMMARY:Oststadt Flohmarkt
DTSTAMP:20260423T102208Z
DTSTART:20250510T100000Z
DTEND:20250510T200000Z
DESCRIPTION:Tischtennis\, Kunst\, Essen & Trinken.\n\nMusik: Ganja Riddim S
	oundsystem (Roots / Dub / Reggae)
URL:https://keepkarlsruheboring.org/event/oststadt-flohmarkt
GEO:49.0104;8.42478
LOCATION:C2Ost - Essenweinstraße 9\, 76131 Karlsruhe
STATUS:CONFIRMED
CATEGORIES:Flohmarkt,Music
X-ALT-DESC;FMTTYPE=text/html:<p>Tischtennis, Kunst, Essen &amp; Trinken.</p
	><p>Musik: Ganja Riddim Soundsystem (Roots / Dub / Reggae)</p>
BEGIN:VALARM
ACTION:DISPLAY
DESCRIPTION:Oststadt Flohmarkt
TRIGGER:-PT1H
END:VALARM
END:VEVENT
END:VCALENDAR
