BEGIN:VCALENDAR
VERSION:2.0
CALSCALE:GREGORIAN
PRODID:adamgibbons/ics
METHOD:PUBLISH
X-PUBLISHED-TTL:PT1H
BEGIN:VEVENT
UID:41@keepkarlsruheboring.org
SUMMARY:Oststadthinterhof-Flohmarkt: kalt und emotionslos
DTSTAMP:20260423T104414Z
DTSTART:20250510T080000Z
DTEND:20250510T150000Z
DESCRIPTION:Freunde der Hinterhöfe!\n\nAm Samstag\, den 10.05.2025 findet v
	on 10:00 - 17:00 Uhr der\nOststadthinterhof-Flohmarkt statt! Wir sind dies
	es Jahr natürlich wieder mit\ndabei und haben sogar noch ein paar Standplä
	tze frei\, falls ihr ein paar Sachen\nin unserem Hinterhof loswerden wollt
	. Allerdings haben wir dieses Jahr strenge\,\nkalte und emotionslose Regel
	n!\n\nStandmiete\n\nDie Standmiete beträgt je 1 Meter Stand\, einen lecker
	en\, hausgemachten\,\n"selbstgebackten" Kuchen. Das bedeutet\, dass bei ei
	nem 3-Meter-Stand - 3\nleckere\, hausgemachte\, selbstgebackte Kuchen anfa
	llen. Gekaufte oder sonstige\nVarianten von Kuchen werden nicht akzeptiert
	! Für Tische\, Stühle oder sonstige\nSitzgelegenheiten müsst ihr selbst so
	rgen. Falls ihr also mitmachen wollt\,\nmeldet euch bald bei thomas@rudolf
	5.eu\n\nGroßer Bücherflohmarkt\n\nAußerdem gibt es dieses Jahr auch wieder
	 unseren großen Bücherflohmarkt:\nStöbern\, schmökern\, Schätze finden – b
	eim Bücherflohmarkt gibt’s Romane\, Krimis\,\nKlassiker\, Kinderbücher und
	 vieles mehr zu kleinen Preisen. Bring also deine\nLeselust mit und entdec
	ke neue Geschichten zwischen alten Seiten.\n\nFreie Bühne – Unplugged im H
	interhof!\n\nDu hast Musik im Blut\, Poesie im Herzen oder willst einfach 
	mal ausprobieren\,\nwie es ist\, vor Publikum zu spielen? Dann komm zur fr
	eien Bühne beim\nHinterhofflohmarkt!\n\nOb Gitarre\, Gesang\, Spoken Word 
	oder Straßenmusik-Charme – hier ist Platz für\nechte Talente und spontane 
	Auftritte. Ganz ohne Verstärker\, aber mit viel\nAtmosphäre.\n\nWo? Im gem
	ütlichen Hinterhof zwischen Trödel und Tassen.\n\nWann? Während des Flohma
	rkts – einfach vorbeikommen und loslegen!\n\n\nMach mit\, hör zu\, genieß 
	den Vibe!\n\nWir freuen uns auf Euch!
URL:https://keepkarlsruheboring.org/event/oststadthinterhof-flohmarkt-kalt-
	und-emotionslos
GEO:49.0103;8.4226
LOCATION:Rudolf 5 - 5\, Rudolfstraße\, Oststadt Westlicher Teil\, Oststadt\
	, Karlsruhe\, Baden-Württemberg\, 76131\, Deutschland
STATUS:CONFIRMED
CATEGORIES:Flohmarkt,Music
X-ALT-DESC;FMTTYPE=text/html:<p><strong><em>Freunde der Hinterhöfe!</em></s
	trong></p><p>Am Samstag, den 10.05.2025 findet von 10:00 - 17:00 Uhr der O
	ststadthinterhof-Flohmarkt statt! Wir sind dieses Jahr natürlich wieder mi
	t dabei und haben sogar noch ein paar Standplätze frei, falls ihr ein paar
	 Sachen in unserem Hinterhof loswerden wollt. Allerdings haben wir dieses 
	Jahr strenge, kalte und emotionslose Regeln!</p><p><strong><em>Standmiete<
	/em></strong></p><p>Die Standmiete beträgt je 1 Meter Stand, einen leckere
	n, hausgemachten, "selbstgebackten" Kuchen. Das bedeutet, dass bei einem 3
	-Meter-Stand - 3 leckere, hausgemachte, selbstgebackte Kuchen anfallen. Ge
	kaufte oder sonstige Varianten von Kuchen werden nicht akzeptiert! Für Tis
	che, Stühle oder sonstige Sitzgelegenheiten müsst ihr selbst sorgen. Falls
	 ihr also mitmachen wollt, meldet euch bald bei thomas@rudolf5.eu</p><p><s
	trong><em>Großer Bücherflohmarkt</em></strong></p><p>Außerdem gibt es dies
	es Jahr auch wieder unseren großen Bücherflohmarkt: Stöbern, schmökern, Sc
	hätze finden – beim Bücherflohmarkt gibt’s Romane, Krimis, Klassiker, Kind
	erbücher und vieles mehr zu kleinen Preisen. Bring also deine Leselust mit
	 und entdecke neue Geschichten zwischen alten Seiten.</p><p><strong><em>Fr
	eie Bühne – Unplugged im Hinterhof!</em></strong></p><p>Du hast Musik im B
	lut, Poesie im Herzen oder willst einfach mal ausprobieren, wie es ist, vo
	r Publikum zu spielen? Dann komm zur freien Bühne beim Hinterhofflohmarkt!
	<br><br>Ob Gitarre, Gesang, Spoken Word oder Straßenmusik-Charme – hier is
	t Platz für echte Talente und spontane Auftritte. Ganz ohne Verstärker, ab
	er mit viel Atmosphäre.<br><br>Wo? Im gemütlichen Hinterhof zwischen Tröde
	l und Tassen.<br><br>Wann? Während des Flohmarkts – einfach vorbeikommen u
	nd loslegen! <br></p><p><strong><em>Mach mit, hör zu, genieß den Vibe!</em
	></strong></p><p>Wir freuen uns auf Euch!</p>
BEGIN:VALARM
ACTION:DISPLAY
DESCRIPTION:Oststadthinterhof-Flohmarkt: kalt und emotionslos
TRIGGER:-PT1H
END:VALARM
END:VEVENT
END:VCALENDAR
