BEGIN:VCALENDAR
VERSION:2.0
CALSCALE:GREGORIAN
PRODID:adamgibbons/ics
METHOD:PUBLISH
X-PUBLISHED-TTL:PT1H
BEGIN:VEVENT
UID:780@keepkarlsruheboring.org
SUMMARY:Otto von Bismarck + Kepler
DTSTAMP:20260423T102323Z
DTSTART:20260213T190000Z
DTEND:20260213T210000Z
DESCRIPTION:Nach dem herausragenden Debüt-Album „Zu viele Erinnerungen“ (20
	22) kehrt der\nBerliner Musiker Otto von Bismarck 2025 mit einem neuen Alb
	um zurück auf die\nBretter und Online-Portale\, die uns die Welt bedeuten.
	 Mit seinen zärtlichen\nSoul- und Folk-Songs - irgendwo in einer Welt zwis
	chen Lambchop\, Sly Stone\,\nLaura Nyro und Die Regierung - erzählt er uns
	 neue Geschichten aus der\nHauptstadt der Schmerzen. Romanzen von früher\,
	 Lieben im heute\, die Fragen von\nMorgen. Wieder zusammen aufgenommen und
	 produziert mit Daniel Nentwig (The\nWhitest Boy Alive) in den legendären 
	Butterama-Studios in Berlin\, besteht nun\nauch der dringende Wunsch\, end
	lich mit dem reichhaltigen Repertoire auf Tour zu\ngehen. Diesen Wunsch wo
	llen wir als KOHI selbstredend unterstützen und so heißt\nes endlich: Vorh
	ang auf für Otto von Bismarck! Natürlich live mit Band. Das neue\nAlbum er
	schien Ende Mai 2025 auf staatsakt. Davor KEPLER. Die Indie-Rock Akustik\n
	Band aus Karlsruhe ist recht neu auf dem Spielfeld und zum ersten Mal bei 
	uns.\nKepler schreiben Lieder wie Momentaufnahmen: flüchtig\, ehrlich und 
	mit Nachhall.\nDie Indie-Rock-Band aus der Nähe von Karlsruhe bewegt sich 
	seit 2023 zwischen\nleisen Zweifeln und lauten Ausbrüchen – getragen von d
	eutschen Texten\, die nicht\nerklären\, sondern fühlen lassen. Zwei Gitarr
	en\, ein Bass und zwei Stimmen\nverweben sich zu einem Sound\, der drängt 
	und zugleich Raum lässt. Simon (Gitarre\n& Gesang)\, Danny (Gitarre) und F
	lo (Bass & Gesang) erzählen von inneren Unruhen\,\nvon Stillstand und Aufb
	ruch\, von Nächten\, die länger dauern als geplant. Mal\nfragil\, mal kant
	ig\, aber immer nah. Musikalisch bewegen sich Kepler im\nSpannungsfeld von
	 Kettcar\, ClickClickDecker und Jupiter Jones: zwischen\nMelancholie und H
	altung\, poetischer Beobachtung und emotionaler Wucht. Live\nentfalten die
	 Songs ihre volle Wirkung – roh\, intensiv und mit einer\nDringlichkeit\, 
	die bleibt\, wenn der letzte Akkord verklungen ist\nhttps://keplermusik.ba
	ndcamp.com/track/ozean Einlass: 19 Uhr\, Beginn: 20 Uhr
URL:https://keepkarlsruheboring.org/event/otto-von-bismarck-kepler
GEO:49.0017;8.40754
LOCATION:Kohi - Werderstraße 47\, 76137 Karlsruhe\, Alemanya
STATUS:CONFIRMED
CATEGORIES:karlsrunruhe,test
X-ALT-DESC;FMTTYPE=text/html:Nach dem herausragenden Debüt-Album „Zu viele 
	Erinnerungen“ (2022) kehrt der Berliner Musiker Otto von Bismarck 2025 mit
	 einem neuen Album zurück auf die Bretter und Online-Portale, die uns die 
	Welt bedeuten. Mit seinen zärtlichen Soul- und Folk-Songs - irgendwo in ei
	ner Welt zwischen Lambchop, Sly Stone, Laura Nyro und Die Regierung - erzä
	hlt er uns neue Geschichten aus der Hauptstadt der Schmerzen. Romanzen von
	 früher, Lieben im heute, die Fragen von Morgen. Wieder zusammen aufgenomm
	en und produziert mit Daniel Nentwig (The Whitest Boy Alive) in den legend
	ären Butterama-Studios in Berlin, besteht nun auch der dringende Wunsch, e
	ndlich mit dem reichhaltigen Repertoire auf Tour zu gehen.<br>Diesen Wunsc
	h wollen wir als KOHI selbstredend unterstützen und so heißt es endlich: V
	orhang auf für Otto von Bismarck! Natürlich live mit Band. Das neue Album 
	erschien Ende Mai 2025 auf staatsakt.<br>Davor KEPLER.<br>Die Indie-Rock A
	kustik Band aus Karlsruhe ist recht neu auf dem Spielfeld und zum ersten M
	al bei uns. Kepler schreiben Lieder wie Momentaufnahmen: flüchtig, ehrlich
	 und mit Nachhall. Die Indie-Rock-Band aus der Nähe von Karlsruhe bewegt s
	ich seit 2023 zwischen leisen Zweifeln und lauten Ausbrüchen – getragen vo
	n deutschen Texten, die nicht erklären, sondern fühlen lassen. Zwei Gitarr
	en, ein Bass und zwei Stimmen verweben sich zu einem Sound, der drängt und
	 zugleich Raum lässt. Simon (Gitarre & Gesang), Danny (Gitarre) und Flo (B
	ass & Gesang) erzählen von inneren Unruhen, von Stillstand und Aufbruch, v
	on Nächten, die länger dauern als geplant. Mal fragil, mal kantig, aber im
	mer nah. Musikalisch bewegen sich Kepler im Spannungsfeld von Kettcar, Cli
	ckClickDecker und Jupiter Jones: zwischen Melancholie und Haltung, poetisc
	her Beobachtung und emotionaler Wucht. Live entfalten die Songs ihre volle
	 Wirkung – roh, intensiv und mit einer Dringlichkeit, die bleibt, wenn der
	 letzte Akkord verklungen ist<br>https://keplermusik.bandcamp.com/track/oz
	ean<br>Einlass: 19 Uhr, Beginn: 20 Uhr
BEGIN:VALARM
ACTION:DISPLAY
DESCRIPTION:Otto von Bismarck + Kepler
TRIGGER:-PT1H
END:VALARM
END:VEVENT
END:VCALENDAR
