BEGIN:VCALENDAR
VERSION:2.0
CALSCALE:GREGORIAN
PRODID:adamgibbons/ics
METHOD:PUBLISH
X-PUBLISHED-TTL:PT1H
BEGIN:VEVENT
UID:504@keepkarlsruheboring.org
SUMMARY:Pajazzo PALATINE JAZZ ORQUESTRA [18 /20 €]
DTSTAMP:20260423T090238Z
DTSTART:20251214T180000Z
DESCRIPTION:Big Band meets Club Sounds\n\npajazzo steht seit Jahren für Big
	band-Musik abseits der ausgetretenen Jazzpfade.\nDie Band spielt in klassi
	scher Bigband-Besetzung\, die aber durch electronics\,\nPercussion und Vib
	raphon auf ein modernes Niveau gehoben wird. \nEinzigartig ist auch die Mu
	sik: große epische Melodien\, die getragen werden von\nelektronischen beat
	s und Clubsounds. Die großflächigen Visuals im Hintergrund\nsorgen zusätzl
	ich für ein großes einmaliges Konzerterlebnis.\n\nTickets: https://kulturz
	entrum-tempel.reservix.de/p/reservix/event/2467114\n[https://kulturzentrum
	-tempel.reservix.de/p/reservix/event/2467114]\n\nVVK: 18\,20 € & \; AK: 20
	\,00 €
URL:https://keepkarlsruheboring.org/event/pajazzo-palatine-jazz-orchestra
GEO:49.0135;8.35882
LOCATION:Kulturzentrum Tempel - Kulturverein Tempel e.V. im Kulturzentrum T
	empel Hardtstraße 37 A D-76185 Karlsruhe
STATUS:CONFIRMED
CATEGORIES:Jazz,Konzert,Music,Ticket
X-ALT-DESC;FMTTYPE=text/html:<p><strong>Big Band meets Club Sounds</strong>
	</p><p>pajazzo steht seit Jahren für Bigband-Musik abseits der ausgetreten
	en Jazzpfade. Die Band spielt in klassischer Bigband-Besetzung, die aber d
	urch electronics, Percussion und Vibraphon auf ein modernes Niveau gehoben
	 wird.&nbsp;<br>Einzigartig ist auch die Musik: große epische Melodien, di
	e getragen werden von elektronischen beats und Clubsounds. Die großflächig
	en Visuals im Hintergrund sorgen zusätzlich für ein großes einmaliges Konz
	erterlebnis.</p><p>Tickets: <a href="https://kulturzentrum-tempel.reservix
	.de/p/reservix/event/2467114" target="_blank">https://kulturzentrum-tempel
	.reservix.de/p/reservix/event/2467114</a></p><p>VVK: 18,20 € &amp; ; AK: 2
	0,00 €</p>
BEGIN:VALARM
ACTION:DISPLAY
DESCRIPTION:Pajazzo PALATINE JAZZ ORQUESTRA [18 /20 €]
TRIGGER:-PT1H
END:VALARM
END:VEVENT
END:VCALENDAR
