BEGIN:VCALENDAR
VERSION:2.0
CALSCALE:GREGORIAN
PRODID:adamgibbons/ics
METHOD:PUBLISH
X-PUBLISHED-TTL:PT1H
BEGIN:VEVENT
UID:841@keepkarlsruheboring.org
SUMMARY:PALOMA AND THE MATCHES „Silver Lining Tour“ + Visitors from Hail-Bo
	b [8 €]
DTSTAMP:20260423T102453Z
DTSTART:20260306T190000Z
DTEND:20260306T210000Z
DESCRIPTION:Paloma & The Matches gehen auf Tour – eine Reise durch schimmer
	nde Nostalgie\,\ngroße Gefühle und filmreife Momente. Ihr Sound klingt\, a
	ls könnte er direkt aus\neinem Tarantino-Film stammen: retro\, charmant\, 
	ein bisschen gefährlich – mit\nfunky Basslines\, souligen Bläsern und eine
	m Hauch psychedelischem Surf. Zwischen\nHerzklopfen und Melancholie erzähl
	en die fünf Musiker:innen von Sehnsucht\,\nSelbstzweifeln und kleinen Lich
	tblicken\, die das Leben heller machen. Samtige\nVocals\, vierstimmige Har
	monien und 60s-Flair treffen auf modernen Indie-Spirit –\nmal tanzbar\, ma
	l bittersüß. Die „Silver Lining Tour“ ist der Soundtrack für\nalle\, die s
	ich fallen lassen wollen – irgendwo zwischen Tagtraum\, Tanzfläche und\nKi
	noleinwand. Würde ein 90er Jahre Coming-of-Age-Streifen mit einem romantis
	chen\nSchwarz-Weiß-Filmklassiker fusionieren\, käme der Soundtrack dazu si
	cher von\nPaloma & The Matches.\n\nDavor Visitors from Hail-Bob\nDie liebe
	n den Rockabilly Sound der 50er Jahre und den „Sixties Garage - Surf\nSoun
	d“ aus den frühen Sechzigern. Stilistisch haben sie sich keine Grenzen\nge
	setzt\, so dass sie neben einigen Klassikern auch zahlreiche Eigenkomposit
	ionen\nim Programm haben\, die sowohl an die alten Zeiten erinnern\, als a
	uch moderne\nEinflüsse haben. Für das Trio ist es wichtig\, authentisch zu
	 sein\, den Rock'n'\nRoll der heutigen Zeit zu leben und auch eigene Songs
	 zu schreiben. An der\nGitarre und am Mikrofon rockt Eddie\, als ob es kei
	n Morgen gibt. Mit\nunverkennbar coolen Gesang und groovigen Bassläufen is
	t Ani am abrocken. An den\nDrums lässt es die Susanne so richtig krachen\,
	 so dass jede Veranstaltung\ninnerhalb kürzester Zeit zu einer wilden Rock
	'n' Roll Party wird. Hier ein paar\nSongs ihrer früheren Band Lucky 13.\nh
	ttps://open.spotify.com/intl-de/album/5PqNz86DroQO0GK9zAm4X4\n[https://ope
	n.spotify.com/intl-de/album/5PqNz86DroQO0GK9zAm4X4]\n\nEinlass: 19 Uhr\, B
	eginn: 20 Uhr
URL:https://keepkarlsruheboring.org/event/paloma-and-the-matches
GEO:49.0017;8.40754
LOCATION:Kohi - Werderstraße 47\, 76137 Karlsruhe\, Alemanya
STATUS:CONFIRMED
CATEGORIES:Music,Rockabilly,Surf Sound,Ticket
X-ALT-DESC;FMTTYPE=text/html:<p>Paloma &amp; The Matches gehen auf Tour – e
	ine Reise durch schimmernde Nostalgie, große Gefühle und filmreife Momente
	. Ihr Sound klingt, als könnte er direkt aus einem Tarantino-Film stammen:
	 retro, charmant, ein bisschen gefährlich – mit funky Basslines, souligen 
	Bläsern und einem Hauch psychedelischem Surf. Zwischen Herzklopfen und Mel
	ancholie erzählen die fünf Musiker:innen von Sehnsucht, Selbstzweifeln und
	 kleinen Lichtblicken, die das Leben heller machen. Samtige Vocals, vierst
	immige Harmonien und 60s-Flair treffen auf modernen Indie-Spirit – mal tan
	zbar, mal bittersüß. Die „Silver Lining Tour“ ist der Soundtrack für alle,
	 die sich fallen lassen wollen – irgendwo zwischen Tagtraum, Tanzfläche un
	d Kinoleinwand. Würde ein 90er Jahre Coming-of-Age-Streifen mit einem roma
	ntischen Schwarz-Weiß-Filmklassiker fusionieren, käme der Soundtrack dazu 
	sicher von Paloma &amp; The Matches.<br><br>Davor Visitors from Hail-Bob<b
	r>Die lieben den Rockabilly Sound der 50er Jahre und den „Sixties Garage -
	 Surf Sound“ aus den frühen Sechzigern. Stilistisch haben sie sich keine G
	renzen gesetzt, so dass sie neben einigen Klassikern auch zahlreiche Eigen
	kompositionen im Programm haben, die sowohl an die alten Zeiten erinnern, 
	als auch moderne Einflüsse haben. Für das Trio ist es wichtig, authentisch
	 zu sein, den Rock'n' Roll der heutigen Zeit zu leben und auch eigene Song
	s zu schreiben. An der Gitarre und am Mikrofon rockt Eddie, als ob es kein
	 Morgen gibt. Mit unverkennbar coolen Gesang und groovigen Bassläufen ist 
	Ani am abrocken. An den Drums lässt es die Susanne so richtig krachen, so 
	dass jede Veranstaltung innerhalb kürzester Zeit zu einer wilden Rock'n' R
	oll Party wird. Hier ein paar Songs ihrer früheren Band Lucky 13. <a href=
	"https://open.spotify.com/intl-de/album/5PqNz86DroQO0GK9zAm4X4" target="_b
	lank">https://open.spotify.com/intl-de/album/5PqNz86DroQO0GK9zAm4X4</a><br
	><br>Einlass: 19 Uhr, Beginn: 20 Uhr</p>
BEGIN:VALARM
ACTION:DISPLAY
DESCRIPTION:PALOMA AND THE MATCHES „Silver Lining Tour“ + Visitors from Hai
	l-Bob [8 €]
TRIGGER:-PT1H
END:VALARM
END:VEVENT
END:VCALENDAR
