BEGIN:VCALENDAR
VERSION:2.0
CALSCALE:GREGORIAN
PRODID:adamgibbons/ics
METHOD:PUBLISH
X-PUBLISHED-TTL:PT1H
BEGIN:VEVENT
UID:1066@keepkarlsruheboring.org
SUMMARY:Panelgespräch: Wissen\, Macht\, Zugang - Wie wir Räume öffnen
DTSTAMP:20260423T105012Z
DTSTART:20260326T173000Z
DTEND:20260326T190000Z
DESCRIPTION:KIT-Panelgespräch mit musikalischer Begleitung\n\nVeranstaltung
	 im Rahmen der Internationalen Wochen gegen Rassismus\n[https://www.iwgr-k
	a.de/]und der Rauminstallation THE CAGE\n[https://www.thecage-stadtkirchek
	arlsruhe.de/] von Fahar Al-Salih\n\n\nKIT-Panelgespräch mit musikalischer 
	Begleitung\n\nMit:\n\n * Dr. Stefan Schwartze (Vizepräsident Finanzen\, Pe
	rsonal & Infrastruktur)\n\n * Dr. Arne Upmeier (Direktor der KIT-Bibliothe
	k)\n\n * Dr. Isabel Gallin (Digital Office\, Moderation)\n\nEintritt frei
URL:https://keepkarlsruheboring.org/event/panelgesprach-wissen-macht-zugang
	-wie-wir-raume-offnen
GEO:49.0085;8.40424
LOCATION:Stadtkirche Karlsruhe - Marktplatz Karlsruhe
STATUS:CONFIRMED
CATEGORIES:Art,karlsrunruhe,Politics
X-ALT-DESC;FMTTYPE=text/html:<p>KIT-Panelgespräch mit musikalischer Begleit
	ung</p><p>Veranstaltung im Rahmen der <a href="https://www.iwgr-ka.de/" ta
	rget="_blank">Internationalen Wochen gegen Rassismus</a>und der Rauminstal
	lation <a href="https://www.thecage-stadtkirchekarlsruhe.de/" target="_bla
	nk">THE CAGE</a> von Fahar Al-Salih</p><p><br>KIT-Panelgespräch mit musika
	lischer Begleitung</p><p><strong>Mit:</strong></p><ul><li><p>Dr. Stefan Sc
	hwartze (Vizepräsident Finanzen, Personal &amp; Infrastruktur)</p></li><li
	><p>Dr. Arne Upmeier (Direktor der KIT-Bibliothek)</p></li><li><p>Dr. Isab
	el Gallin (Digital Office, Moderation)</p></li></ul><p>Eintritt frei</p>
BEGIN:VALARM
ACTION:DISPLAY
DESCRIPTION:Panelgespräch: Wissen, Macht, Zugang - Wie wir Räume öffnen
TRIGGER:-PT1H
END:VALARM
END:VEVENT
END:VCALENDAR
