BEGIN:VCALENDAR
VERSION:2.0
CALSCALE:GREGORIAN
PRODID:adamgibbons/ics
METHOD:PUBLISH
X-PUBLISHED-TTL:PT1H
BEGIN:VEVENT
UID:846@keepkarlsruheboring.org
SUMMARY:PARTY: 60s Twist Freakout mit DJ Ugly Robin
DTSTAMP:20260423T104717Z
DTSTART:20260307T220000Z
DTEND:20260307T220000Z
DESCRIPTION:Beginn ab 23:00h\n\nEndlich wieder zurück und zwar mit einem Kn
	all: 60s Twist Freakout mit dem\nbesten DJ Ugly Robin!\n\nSoul\, Garage\, 
	60s\, Trash und Freakbeat! 1000% Spaß!
URL:https://keepkarlsruheboring.org/event/party-60s-twist-freakout-mit-dj-u
	gly-robin
GEO:49.0056;8.42925
LOCATION:Alte Hackerei - Alter Schlachthof 11A 76131 Karlsruhe
STATUS:CONFIRMED
CATEGORIES:Freakbeats,Party,Soul,Ticket
X-ALT-DESC;FMTTYPE=text/html:<p>Beginn ab 23:00h</p><p>Endlich wieder zurüc
	k und zwar mit einem Knall: 60s Twist Freakout mit dem besten DJ Ugly Robi
	n!</p><p>Soul, Garage, 60s, Trash und Freakbeat! 1000% Spaß!</p>
BEGIN:VALARM
ACTION:DISPLAY
DESCRIPTION:PARTY: 60s Twist Freakout mit DJ Ugly Robin
TRIGGER:-PT1H
END:VALARM
END:VEVENT
END:VCALENDAR
