BEGIN:VCALENDAR
VERSION:2.0
CALSCALE:GREGORIAN
PRODID:adamgibbons/ics
METHOD:PUBLISH
X-PUBLISHED-TTL:PT1H
BEGIN:VEVENT
UID:825@keepkarlsruheboring.org
SUMMARY:PARTY: LOST IN TIME #4
DTSTAMP:20260423T102218Z
DTSTART:20260228T210000Z
DTEND:20260228T210000Z
DESCRIPTION:Es ging schon immer nur ums glücklich sein!\n\nDas LOST IN TIME
	-Kollektiv ist zurück und begeistert ihre Fans nach der letzten\n15 Jahre-
	Party erneut in der Alten Hackerei Karlsruhe.\n\n\n\nDas LOST IN TIME-Koll
	ektiv um DJ Deniz Bilgic besteht seit 2009 und hat sich in\nden letzten 15
	 Jahren durch alle bekannten Karlsruher Clubs gespielt\, ist zu\nGast im G
	otec und Erdbeermund und allen weiteren Clubs\, die sich dem Techno\nversc
	hrieben haben.\n\n\n\nJetzt geht es auch in der Hackerei in die bereits vi
	erte Runde: am 28.02.2026\nmacht das Kollektiv erneut bei uns Halt!\n\n\n\
	nLos gehts um 22:00 Uhr auf zwei Floors!
URL:https://keepkarlsruheboring.org/event/party-lost-in-time-4
GEO:49.0056;8.42925
LOCATION:Alte Hackerei - Alter Schlachthof 11A 76131 Karlsruhe
STATUS:CONFIRMED
CATEGORIES:Party,Tecno-Music,Ticket
X-ALT-DESC;FMTTYPE=text/html:<p>Es ging schon immer nur ums glücklich sein!
	</p><p>Das LOST IN TIME-Kollektiv ist zurück und begeistert ihre Fans nach
	 der letzten 15 Jahre-Party erneut in der Alten Hackerei Karlsruhe.</p><p>
	</p><p>Das LOST IN TIME-Kollektiv um DJ Deniz Bilgic besteht seit 2009 und
	 hat sich in den letzten 15 Jahren durch alle bekannten Karlsruher Clubs g
	espielt, ist zu Gast im Gotec und Erdbeermund und allen weiteren Clubs, di
	e sich dem Techno verschrieben haben.</p><p></p><p>Jetzt geht es auch in d
	er Hackerei in die bereits vierte Runde: am 28.02.2026 macht das Kollektiv
	 erneut bei uns Halt!</p><p></p><p>Los gehts um 22:00 Uhr auf zwei Floors!
	</p>
BEGIN:VALARM
ACTION:DISPLAY
DESCRIPTION:PARTY: LOST IN TIME #4
TRIGGER:-PT1H
END:VALARM
END:VEVENT
END:VCALENDAR
