BEGIN:VCALENDAR
VERSION:2.0
CALSCALE:GREGORIAN
PRODID:adamgibbons/ics
METHOD:PUBLISH
X-PUBLISHED-TTL:PT1H
BEGIN:VEVENT
UID:904@keepkarlsruheboring.org
SUMMARY:PARTY: Mainstation Sessions // DJ Ketch
DTSTAMP:20260423T103316Z
DTSTART:20260328T220000Z
DTEND:20260328T220000Z
DESCRIPTION:Sa\, 28.03.2026 PARTY: Mainstation Sessions // DJ Ketch Beginn:
	 23:00 Uhr\nAftershowparty nach dem Walk the Plank-Konzert! 🎶 Hip Hop - Fu
	nk - Soul 🎶 🎧\nDJ Ketch🎧 🖤 Strictly 45s // 7inch Vinyl Only 🖤 ❤️ Straight F
	rom The Heart ❤️\nSeit mittlerweile zwei Jahren sind DJ Ketch & Toby Tobsuc
	ht mit ihrer\n"Mainstation Sessions" Party in der Alten Hackerei zu Gast. 
	Und wenn man uns\nfragt......bleibt bitte noch ganz\, ganz lange bei uns. 
	Hier treffen Classics auf\nneue Releases\, Sure-Shots auf Never-Been-Heard
	s\, Mash-Ups auf Live-Edits. Es\ngeht nicht um Hits\, die jeder spielt ode
	r spielen kann. Es geht um den Vibe 😎✌️
URL:https://keepkarlsruheboring.org/event/party-mainstation-sessions-dj-ket
	ch-1
GEO:49.0056;8.42925
LOCATION:Alte Hackerei - Alter Schlachthof 11A 76131 Karlsruhe
STATUS:CONFIRMED
CATEGORIES:karlsrunruhe,test
X-ALT-DESC;FMTTYPE=text/html:Sa, 28.03.2026<br>PARTY: Mainstation Sessions 
	// DJ Ketch<br>Beginn: 23:00 Uhr<br><br><br>Aftershowparty nach dem Walk t
	he Plank-Konzert!<br><br>🎶 Hip Hop - Funk - Soul 🎶<br>🎧 DJ Ketch🎧<br>🖤 Str
	ictly 45s // 7inch Vinyl Only 🖤<br>❤️ Straight From The Heart ❤️<br><br>Seit
	 mittlerweile zwei Jahren sind DJ Ketch & Toby Tobsucht mit ihrer "Mainsta
	tion Sessions" Party in der Alten Hackerei zu Gast. Und wenn man uns fragt
	......bleibt bitte noch ganz, ganz lange bei uns.<br>Hier treffen Classics
	 auf neue Releases, Sure-Shots auf Never-Been-Heards, Mash-Ups auf Live-Ed
	its. Es geht nicht um Hits, die jeder spielt oder spielen kann. Es geht um
	 den Vibe 😎✌️
BEGIN:VALARM
ACTION:DISPLAY
DESCRIPTION:PARTY: Mainstation Sessions // DJ Ketch
TRIGGER:-PT1H
END:VALARM
END:VEVENT
END:VCALENDAR
