BEGIN:VCALENDAR
VERSION:2.0
CALSCALE:GREGORIAN
PRODID:adamgibbons/ics
METHOD:PUBLISH
X-PUBLISHED-TTL:PT1H
BEGIN:VEVENT
UID:781@keepkarlsruheboring.org
SUMMARY:PARTY: Mainstation Sessions // DJ Ketch
DTSTAMP:20260423T102452Z
DTSTART:20260213T220000Z
DTEND:20260213T220000Z
DESCRIPTION:Fr\, 13.02.2026 PARTY: Mainstation Sessions // DJ Ketch Beginn 
	ab 23:00 Uhr 🎶\nHip Hop - Funk - Soul 🎶 🎧 DJ Ketch x Toby Tobsucht🎧 🖤 Stri
	ctly 45s // 7inch\nVinyl Only 🖤 ❤️ Straight From The Heart ❤️ Seit mittlerwe
	ile vier Jahren sind\nDJ Ketch & Toby Tobsucht mit ihrer "Mainstation Sess
	ions" Party in der Alten\nHackerei zu Gast. Und wenn man uns fragt......bl
	eibt bitte noch ganz\, ganz lange\nbei uns. Hier treffen Classics auf neue
	 Releases\, Sure-Shots auf\nNever-Been-Heards\, Mash-Ups auf Live-Edits. E
	s geht nicht um Hits\, die jeder\nspielt oder spielen kann. Es geht um den
	 Vibe 😎✌️
URL:https://keepkarlsruheboring.org/event/party-mainstation-sessions-dj-ket
	ch
GEO:49.0056;8.42925
LOCATION:Alte Hackerei - Alter Schlachthof 11A 76131 Karlsruhe
STATUS:CONFIRMED
CATEGORIES:karlsrunruhe,test
X-ALT-DESC;FMTTYPE=text/html:Fr, 13.02.2026<br>PARTY: Mainstation Sessions 
	// DJ Ketch<br>Beginn ab 23:00 Uhr<br><br><br>🎶 Hip Hop - Funk - Soul 🎶<br
	>🎧 DJ Ketch x Toby Tobsucht🎧<br>🖤 Strictly 45s // 7inch Vinyl Only 🖤<br>❤️ 
	Straight From The Heart ❤️<br><br>Seit mittlerweile vier Jahren sind DJ Ket
	ch & Toby Tobsucht mit ihrer "Mainstation Sessions" Party in der Alten Hac
	kerei zu Gast. Und wenn man uns fragt......bleibt bitte noch ganz, ganz la
	nge bei uns.<br>Hier treffen Classics auf neue Releases, Sure-Shots auf Ne
	ver-Been-Heards, Mash-Ups auf Live-Edits. Es geht nicht um Hits, die jeder
	 spielt oder spielen kann. Es geht um den Vibe 😎✌️
BEGIN:VALARM
ACTION:DISPLAY
DESCRIPTION:PARTY: Mainstation Sessions // DJ Ketch
TRIGGER:-PT1H
END:VALARM
END:VEVENT
END:VCALENDAR
