BEGIN:VCALENDAR
VERSION:2.0
CALSCALE:GREGORIAN
PRODID:adamgibbons/ics
METHOD:PUBLISH
X-PUBLISHED-TTL:PT1H
BEGIN:VEVENT
UID:763@keepkarlsruheboring.org
SUMMARY:PARTY: Punkrock & Co. mit DJ Ketch
DTSTAMP:20260423T103700Z
DTSTART:20260207T220000Z
DTEND:20260207T220000Z
DESCRIPTION:Sa\, 07.02.2026 PARTY: Punkrock & Co. mit DJ Ketch Beginn: 23:0
	0 Uhr Punkrock &\nCo. mit DJ Ketch - Aftershow-Party Punkrock und alles wa
	s Spaß macht! Vinyl\nonly!
URL:https://keepkarlsruheboring.org/event/party-punkrock-and-co-mit-dj-ketc
	h
GEO:49.0056;8.42925
LOCATION:Alte Hackerei - Alter Schlachthof 11A 76131 Karlsruhe
STATUS:CONFIRMED
CATEGORIES:karlsrunruhe,test
X-ALT-DESC;FMTTYPE=text/html:Sa, 07.02.2026<br>PARTY: Punkrock & Co. mit DJ
	 Ketch<br>Beginn: 23:00 Uhr<br><br><br>Punkrock & Co. mit DJ Ketch - After
	show-Party<br><br>Punkrock und alles was Spaß macht! Vinyl only!
BEGIN:VALARM
ACTION:DISPLAY
DESCRIPTION:PARTY: Punkrock & Co. mit DJ Ketch
TRIGGER:-PT1H
END:VALARM
END:VEVENT
END:VCALENDAR
