BEGIN:VCALENDAR
VERSION:2.0
CALSCALE:GREGORIAN
PRODID:adamgibbons/ics
METHOD:PUBLISH
X-PUBLISHED-TTL:PT1H
BEGIN:VEVENT
UID:676@keepkarlsruheboring.org
SUMMARY:Petros Klampanis\, Kristjan Randalu & Ziv Ravitz
DTSTAMP:20260423T104856Z
DTSTART:20260430T180000Z
DESCRIPTION:'Latent Info' live im Trio\n\nLatent Info\, das neue Projekt de
	s vom Bass Player Magazine als „Bass Ace“\ntitulierten Petros Klampanis\, 
	mit dem estnischen Pianisten Kristjan Randalu und\ndem israelischen Drumme
	r Ziv Ravitz zeigt nun\, dass Instrumentalmusik durchaus\nzum Storytelling
	 fähig ist. Sie erzählt ihre Geschichte als „latente\nInformation“ eines S
	tückes\, genauso real\, aber ungreifbar wie unausgesprochene\nGedanken\, u
	nerreichte Ziele oder Blumen im Asphalt\, ungesehen und weitgehend\nignori
	ert.\n\nUm die unerforschten Klanginformationen ins Bewusstsein zu bringen
	\, wurde das am\n14. Februar erscheinende gleichnamige Album – im Gegensat
	z zur aktuell üblichen\nAufnahmepraxis – dann auch eingespielt\, während s
	ich alle drei Musiker zugleich\nden Raum teilten\, wobei die jeweiligen Mi
	krophone subtil den im Raum schwebenden\nSubtext einfingen. Dabei wird mal
	 über dezente Calypso-Rhythmen improvisiert\,\nmal sich der verträumten El
	egie hingegeben\, dann wieder stark Synkopiertem der\nVortritt gelassen\, 
	immer aber dominiert von perlenden Pianoklängen\, die ihre\nKraft aus dem 
	Subtilen beziehen.\n\nDurchgehend werfen die musikalischen Dia- und Trialo
	ge von Klampanis\, Randalu\nund Ravitz dabei ein Spotlight auf das Reich d
	es Unausgesprochenen\, Übersehenen\nund natürlich Un- bzw. Überhörten – un
	d fächern nicht zuletzt die Schönheit und\nKraft auf\, die in allen unbeme
	rkten Dingen liegt.\n\nMitte Februar 2025 erscheint nun Petros Klampanis s
	iebtes Album mit dem Titel\nLATENT INFO (enja). Deutschlandpremiere feiert
	e es bereits beim Sparks & Visions\nFestival in Regensburg jetzt im Januar
	\, bevor es im Februar auf Mini-Tour durch\ndie USA geht.
URL:https://keepkarlsruheboring.org/event/petros-klampanis-kristjan-randalu
	-and-ziv-ravitz
GEO:49.0135;8.35882
LOCATION:Kulturzentrum Tempel - Kulturverein Tempel e.V. im Kulturzentrum T
	empel Hardtstraße 37 A D-76185 Karlsruhe
STATUS:CONFIRMED
CATEGORIES:Concert,Music
X-ALT-DESC;FMTTYPE=text/html:<p><strong>'Latent Info' live im Trio</strong>
	</p><p>Latent Info, das neue Projekt des vom Bass Player Magazine als „Bas
	s Ace“ titulierten <strong>Petros Klampanis</strong>, mit dem estnischen P
	ianisten <strong>Kristjan Randalu</strong> und dem israelischen Drummer <s
	trong>Ziv Ravitz</strong> zeigt nun, dass Instrumentalmusik durchaus zum S
	torytelling fähig ist. Sie erzählt ihre Geschichte als „latente Informatio
	n“ eines Stückes, genauso real, aber ungreifbar wie unausgesprochene Gedan
	ken, unerreichte Ziele oder Blumen im Asphalt, ungesehen und weitgehend ig
	noriert.</p><p>Um die unerforschten Klanginformationen ins Bewusstsein zu 
	bringen, wurde das am 14. Februar erscheinende gleichnamige Album – im Geg
	ensatz zur aktuell üblichen Aufnahmepraxis – dann auch eingespielt, währen
	d sich alle drei Musiker zugleich den Raum teilten, wobei die jeweiligen M
	ikrophone subtil den im Raum schwebenden Subtext einfingen. Dabei wird mal
	 über dezente Calypso-Rhythmen improvisiert, mal sich der verträumten Eleg
	ie hingegeben, dann wieder stark Synkopiertem der Vortritt gelassen, immer
	 aber dominiert von perlenden Pianoklängen, die ihre Kraft aus dem Subtile
	n beziehen.</p><p>Durchgehend werfen die musikalischen Dia- und Trialoge v
	on Klampanis, Randalu und Ravitz dabei ein Spotlight auf das Reich des Una
	usgesprochenen, Übersehenen und natürlich Un- bzw. Überhörten – und fächer
	n nicht zuletzt die Schönheit und Kraft auf, die in allen unbemerkten Ding
	en liegt.</p><p>Mitte Februar 2025 erscheint nun Petros Klampanis siebtes 
	Album mit dem Titel LATENT INFO (enja). Deutschlandpremiere feierte es ber
	eits beim Sparks &amp; Visions Festival in Regensburg jetzt im Januar, bev
	or es im Februar auf Mini-Tour durch die USA geht.</p>
BEGIN:VALARM
ACTION:DISPLAY
DESCRIPTION:Petros Klampanis, Kristjan Randalu & Ziv Ravitz
TRIGGER:-PT1H
END:VALARM
END:VEVENT
END:VCALENDAR
