BEGIN:VCALENDAR
VERSION:2.0
CALSCALE:GREGORIAN
PRODID:adamgibbons/ics
METHOD:PUBLISH
X-PUBLISHED-TTL:PT1H
BEGIN:VEVENT
UID:806@keepkarlsruheboring.org
SUMMARY:PLAY YOUR PART
DTSTAMP:20260423T102043Z
DTSTART:20260221T090000Z
DTEND:20260221T140000Z
DESCRIPTION:PLAY YOUR PART\n\n\nSATURDAY 21.02.26 | 10:00 - 15:00\n\n\n\n\n
	WIE HALTEN WIR DEMOKRATIE AM LEBEN?\n\nIn diesem Workshop erkunden wir die
	 Fähigkeiten\, die wir brauchen\, um Demokratie\ngemeinsam zu gestalten. S
	tellung zu beziehen und offen zuhören. Entscheidungen\nalleine und gemeins
	am treffen. Wir entdecken wie es sich anfühlt Verantwortung\nzu übernehmen
	\, die Perspektive zu wechseln und mit Empathie zu handeln. Mit\nHilfe von
	 Werkzeugen aus dem Improvisationstheater schaffen wir Raum\, um\nDemokrat
	ie mit Stimme\, Körper und Präsenz zu erleben.\n\nIm Mittelpunkt sind die 
	Werte unseres Grundgesetzes: Würde\, Freiheit\,\nGleichheit\, Vielfalt und
	 Solidarität. Nicht als Theorie\, sondern als lebendige\nPraxis.\n\nDas is
	t eine Einladung\, den Charakter der Demokratie kennenzulernen. Wir\nbeoba
	chten sie nicht\, wir verkörpern sie. Nicht nur für Wahlen. Für jeden Tag\
	,\nden wir zusammen leben.\n\nKeine Erfahrung mit Improvisationstheater no
	twendig.\n\nHier registrieren:  smile@franzihiss.com\n\n___\n\n\nHOW DO WE
	 KEEP DEMOCRACY ALIVE?\n\n\n\nIn this workshop we explore the skills we ne
	ed to shape democracy together. We\nlearn to take a stand and to listen op
	enly.  We practice making decisions alone\nand as a group. We discover how
	 does it feel to take responsibility\, change\nperspective and act with em
	pathy. Using tools from improvisational theatre\, we\ncreate space to expe
	rience democracy with voice\, body and presence.\n\nAt the heart are the v
	alues of our constitution: dignity\, freedom\, equality\,\ndiversity\, and
	 solidarity. Not as theory on paper\, but as living practice.\n\nThis is a
	n invitation to get to know the character of democracy. We don‘t\nobserve 
	it\, we embody it. Not just for elections. For every day we live\ntogether
	.\n\nNo experience with improvisational theater needed.\n\nRegister here: 
	 smile@franzihiss.com\n\n__\n\n\nكيف منقدر نحافظ على الديمقراطية؟\n\nبهالو
	رشة، رح نستكشف المهارات اللي لازم نملكها لنشكّل الديمقراطية سوا. نوقف على\
	nموقفنا ونسمع للآخرين بانفتاح. نقرّر لحالنا ومع بعض. ونحسّ بشعور المسؤولية
	 وكيف\nممكن الواحد يغير نظرته ويتصرّف بتعاطف. وبمساعدة أدوات من مسرح الارت
	جال، منخلق\nمساحة نجرب فيها الديمقراطية بالصوت والجسم والحضور.\n\nالتركيز 
	رح يكون على قيم دستورنا الأساسي: الكرامة، الحرية، المساواة، التنوع\nوالتضا
	من. مو بس كفكرة، كمان كممارسة حقيقية.\n\nهي دعوة لتعرفوا طبيعة الديمقراطية
	. ما بس نراقبها، منعيشها ونجسّدها. الديمقراطية\nمو بس انتخابات، هي واقع كل
	 يوم منعيشه مع بعض. ما في داعي تكون عندك خبرة بمسرح\nالارتجال.
URL:https://keepkarlsruheboring.org/event/play-your-part
GEO:49.0082;8.40959
LOCATION:COLA TAXI OKAY - 25\, Kronenstraße\, Innenstadt-Ost Südwestlicher 
	Teil\, Innenstadt-Ost\, Karlsruhe\, Baden-Württemberg\, 76133\, Deutschlan
	d
STATUS:CONFIRMED
CATEGORIES:Politics,Registration required,Workshop
X-ALT-DESC;FMTTYPE=text/html:<h1>PLAY YOUR PART</h1><h2>Saturday 21.02.26 |
	 10:00 - 15:00</h2><p></p><h2>Wie halten wir Demokratie am Leben?</h2><p>I
	n diesem Workshop erkunden wir die Fähigkeiten, die wir brauchen, um Demok
	ratie gemeinsam zu gestalten. Stellung zu beziehen und offen zuhören. Ents
	cheidungen alleine und gemeinsam treffen. Wir entdecken wie es sich anfühl
	t Verantwortung zu übernehmen, die Perspektive zu wechseln und mit Empathi
	e zu handeln. Mit Hilfe von Werkzeugen aus dem Improvisationstheater schaf
	fen wir Raum, um Demokratie mit Stimme, Körper und Präsenz zu erleben.</p>
	<p>Im Mittelpunkt sind die Werte unseres Grundgesetzes: Würde, Freiheit, G
	leichheit, Vielfalt und Solidarität. Nicht als Theorie, sondern als lebend
	ige Praxis.</p><p>Das ist eine Einladung, den Charakter der Demokratie ken
	nenzulernen. Wir beobachten sie nicht, wir verkörpern sie. Nicht nur für W
	ahlen. Für jeden Tag, den wir zusammen leben.</p><p>Keine Erfahrung mit Im
	provisationstheater notwendig.</p><p>Hier registrieren: &nbsp;smile@franzi
	hiss.com</p><p>___</p><h2>How do we keep democracy alive?</h2><p></p><p>In
	 this workshop we explore the skills we need to shape democracy together. 
	We learn to take a stand and to listen openly.  We practice making decisio
	ns alone and as a group. We discover how does it feel to take responsibili
	ty, change perspective and act with empathy. Using tools from improvisatio
	nal theatre, we create space to experience democracy with voice, body and 
	presence.</p><p>At the heart are the values of our constitution: dignity, 
	freedom, equality, diversity, and solidarity. Not as theory on paper, but 
	as living practice.</p><p>This is an invitation to get to know the charact
	er of democracy. We don‘t observe it, we embody it. Not just for elections
	. For every day we live together.</p><p>No experience with improvisational
	 theater needed.</p><p>Register here: &nbsp;smile@franzihiss.com</p><p>__<
	/p><h2>كيف منقدر نحافظ على الديمقراطية؟</h2><p>بهالورشة، رح نستكشف المهارا
	ت اللي لازم نملكها لنشكّل الديمقراطية سوا. نوقف على موقفنا ونسمع للآخرين ب
	انفتاح. نقرّر لحالنا ومع بعض. ونحسّ بشعور المسؤولية وكيف ممكن الواحد يغير 
	نظرته ويتصرّف بتعاطف. وبمساعدة أدوات من مسرح الارتجال، منخلق مساحة نجرب في
	ها الديمقراطية بالصوت والجسم والحضور.</p><p>التركيز رح يكون على قيم دستورن
	ا الأساسي: الكرامة، الحرية، المساواة، التنوع والتضامن. مو بس كفكرة، كمان ك
	ممارسة حقيقية.</p><p>هي دعوة لتعرفوا طبيعة الديمقراطية. ما بس نراقبها، منع
	يشها ونجسّدها. الديمقراطية مو بس انتخابات، هي واقع كل يوم منعيشه مع بعض. م
	ا في داعي تكون عندك خبرة بمسرح الارتجال.</p>
BEGIN:VALARM
ACTION:DISPLAY
DESCRIPTION:PLAY YOUR PART
TRIGGER:-PT1H
END:VALARM
END:VEVENT
END:VCALENDAR
