BEGIN:VCALENDAR
VERSION:2.0
CALSCALE:GREGORIAN
PRODID:adamgibbons/ics
METHOD:PUBLISH
X-PUBLISHED-TTL:PT1H
BEGIN:VEVENT
UID:233@keepkarlsruheboring.org
SUMMARY:Plenum (Fridays for Future Karlsruhe)
DTSTAMP:20260423T102322Z
DTSTART:20250818T163000Z
DTEND:20250818T190000Z
DESCRIPTION:Jeden Montag treffen wir uns um Klimastreik und sonstige Aktion
	en zu planen.\nwenn du mitmachen willst oder uns einfach Kennenlernen will
	st schreib uns doch\neinfach eine Nachricht per Mail oder auf Instagram. D
	ann können wir dir auch\nsagen wo das Plenum stattfindet. Wir freuen uns a
	uf dich Mail:\nkarlsruhe@fridaysforfuture.de Instagram: @fridaysforfuture_
	ka
URL:https://keepkarlsruheboring.org/event/plenum-fridays-for-future-karlsru
	he
LOCATION:(auf Anfrage) - (auf Anfrage)
STATUS:CONFIRMED
CATEGORIES:
X-ALT-DESC;FMTTYPE=text/html:Jeden Montag treffen wir uns um Klimastreik un
	d sonstige Aktionen zu planen.<br><br>wenn du mitmachen willst oder uns ei
	nfach Kennenlernen willst schreib uns doch einfach eine Nachricht per Mail
	 oder auf Instagram. Dann können wir dir auch sagen wo das Plenum stattfin
	det.<br><br>Wir freuen uns auf dich<br><br><br>Mail: karlsruhe@fridaysforf
	uture.de<br><br>Instagram: @fridaysforfuture_ka
BEGIN:VALARM
ACTION:DISPLAY
DESCRIPTION:Plenum (Fridays for Future Karlsruhe)
TRIGGER:-PT1H
END:VALARM
END:VEVENT
END:VCALENDAR
