BEGIN:VCALENDAR
VERSION:2.0
CALSCALE:GREGORIAN
PRODID:adamgibbons/ics
METHOD:PUBLISH
X-PUBLISHED-TTL:PT1H
BEGIN:VEVENT
UID:968@keepkarlsruheboring.org
SUMMARY:PLH Ultra Tour 2026
DTSTAMP:20260423T102418Z
DTSTART:20260522T180000Z
DTEND:20260522T200000Z
DESCRIPTION:𝗣𝗟𝗛 & 𝗗𝗝 𝗝𝗜𝗬𝗔𝗡 Doors 19:00 // Show 20:00 Tix: PLH\, die\nunverw
	echselbare Stimme der Bremer MC\, betritt mit einem Sektglas bewaffnet die
	\nBühne und zeigt sich als wahre Chefin ihres eigenen Universums. Hier kle
	bt Farbe\nan den Fingern\, während sie mit ihrer eindringlichen Präsenz da
	s Publikum in den\nBann zieht. PLH bringt nicht nur Feuer\, sondern auch g
	eballte Live-Power auf die\nBühne\, die das Publikum mitreißt. Nach ihrem 
	bahnbrechenden Album "So nämlich"\,\ndas am 3. Juni 2022 veröffentlicht wu
	rde\, hat sie sich mit ausgewählten\nBeatbauern zusammengetan\, um einen n
	euen Klang zu kreieren\, der die Grenzen des\nGenres neu definiert. Der ko
	mmende Sound markiert nicht nur einen neuen\nMeilenstein in PLH Karriere\,
	 sondern auch eine künstlerische Evolution. Die raue\nEnergie ihrer früher
	en Werke trifft auf eine Soundlandschaft\, die von\nelektronischen Beats u
	nd innovativen Produktionen geprägt ist. PLH bleibt\nweiterhin das Herzstü
	ck ihrer Musik\, und wie gewohnt wird ihr DJ Jiyan aka\nKurdish Blow sie b
	egleiten\, um ihre kraftvollen Texte mit geschickten Scratches\nzu unterst
	reichen. Der Fokus liegt klar auf PLH selbst\, die mit ihrer\nunverkennbar
	en Präsenz und lyrischen Schärfe die Hörenden in ihren Bann zieht.\nNeues 
	Material wird in den kommenden Monaten veröffentlicht. Bleibt dran - so\nn
	ämlich!
URL:https://keepkarlsruheboring.org/event/plh-ultra-tour-2026
GEO:48.989;8.37185
LOCATION:P8 - Schauenburgstraße 5\, 76135 Karlsruhe
STATUS:CONFIRMED
CATEGORIES:karlsrunruhe,test
X-ALT-DESC;FMTTYPE=text/html:𝗣𝗟𝗛 & 𝗗𝗝 𝗝𝗜𝗬𝗔𝗡<br>Doors 19:00 // Show 20:00<br
	>Tix: <br>PLH, die unverwechselbare Stimme der Bremer MC, betritt mit eine
	m Sektglas bewaffnet die Bühne und zeigt sich als wahre Chefin ihres eigen
	en Universums. Hier klebt Farbe an den Fingern, während sie mit ihrer eind
	ringlichen Präsenz das Publikum in den Bann zieht. PLH bringt nicht nur Fe
	uer, sondern auch geballte Live-Power auf die Bühne, die das Publikum mitr
	eißt.<br>Nach ihrem bahnbrechenden Album "So nämlich", das am 3. Juni 202
	2 veröffentlicht wurde, hat sie sich mit ausgewählten Beatbauern zusammeng
	etan, um einen neuen Klang zu kreieren, der die Grenzen des Genres neu def
	iniert. Der kommende Sound markiert nicht nur einen neuen Meilenstein in P
	LH Karriere, sondern auch eine künstlerische Evolution. Die raue Energie i
	hrer früheren Werke trifft auf eine Soundlandschaft, die von elektronische
	n Beats und innovativen Produktionen geprägt ist.<br>PLH bleibt weiterhin
	 das Herzstück ihrer Musik, und wie gewohnt wird ihr DJ Jiyan aka Kurdish 
	Blow sie begleiten, um ihre kraftvollen Texte mit geschickten Scratches zu
	 unterstreichen. Der Fokus liegt klar auf PLH selbst, die mit ihrer unverk
	ennbaren Präsenz und lyrischen Schärfe die Hörenden in ihren Bann zieht.<b
	r>Neues Material wird in den kommenden Monaten veröffentlicht. Bleibt dra
	n - so nämlich!
BEGIN:VALARM
ACTION:DISPLAY
DESCRIPTION:PLH Ultra Tour 2026
TRIGGER:-PT1H
END:VALARM
END:VEVENT
END:VCALENDAR
