BEGIN:VCALENDAR
VERSION:2.0
CALSCALE:GREGORIAN
PRODID:adamgibbons/ics
METHOD:PUBLISH
X-PUBLISHED-TTL:PT1H
BEGIN:VEVENT
UID:1058@keepkarlsruheboring.org
SUMMARY:Poetry Slam-Workshop mit Marius Loy
DTSTAMP:20260423T090146Z
DTSTART:20260314T100000Z
DTEND:20260314T130000Z
DESCRIPTION:Du bist zwischen 15 und 25 Jahre alt und willst sagen\, was dic
	h bewegt? Dann\nbring deine Worte auf die Bühne.\n\nGemeinsam mit dem Poet
	ry Slammer Marius Loy lernst du\, wie aus Gedanken Texte\nwerden\, die wir
	ken. Mit kreativen Schreibimpulsen entwickelst du deinen eigenen\npoetisch
	en oder prosaischen Beitrag. Du probierst dich am Mikrofon aus\, bekommst\
	nFeedback und erfährst\, wie du sicher auftrittst – auch wenn die Aufregun
	g\nmitredet.\n\nDer Workshop findet im Rahmen der Kunstinstallation THE CA
	GE und der\nInternationalen Wochen gegen Rassismus statt. Es geht um deine
	 Stimme in einer\nGesellschaft\, die nicht für alle gleich weit ist. Was g
	renzt aus? Wo wird es\neng? Und wie klingt Widerstand\, Hoffnung oder Soli
	darität in deinen Worten?\n\nHier ist Raum für klare Haltung\, persönliche
	 Erfahrungen und neue Perspektiven.\n\nMax. 15 Teilnehmende (15–25 Jahre)\
	nTeilnahme kostenfrei\, Anmeldung: kultur@stadtkirche-karlsruhe.de\n[kultu
	r@stadtkirche-karlsruhe.de]\n\nVeranstaltung mit freundlicher Unterstützun
	g der Kulturstiftung der Sparkasse\nKarlsruhe\n\nFoto: Marvin Ruppert
URL:https://keepkarlsruheboring.org/event/poetry-slam-workshop-mit-marius-l
	oy
LOCATION:Hanns-Löw-Haus - Kreuzstraß3 13\, 76133 Karlsruhe
STATUS:CONFIRMED
CATEGORIES:Art,Politics,Workshop
X-ALT-DESC;FMTTYPE=text/html:<p>Du bist zwischen 15 und 25 Jahre alt und wi
	llst sagen, was dich bewegt? Dann bring deine Worte auf die Bühne.</p><p>G
	emeinsam mit dem Poetry Slammer Marius Loy lernst du, wie aus Gedanken Tex
	te werden, die wirken. Mit kreativen Schreibimpulsen entwickelst du deinen
	 eigenen poetischen oder prosaischen Beitrag. Du probierst dich am Mikrofo
	n aus, bekommst Feedback und erfährst, wie du sicher auftrittst – auch wen
	n die Aufregung mitredet.</p><p>Der Workshop findet im Rahmen der Kunstins
	tallation THE CAGE und der Internationalen Wochen gegen Rassismus statt. E
	s geht um deine Stimme in einer Gesellschaft, die nicht für alle gleich we
	it ist. Was grenzt aus? Wo wird es eng? Und wie klingt Widerstand, Hoffnun
	g oder Solidarität in deinen Worten?</p><p>Hier ist Raum für klare Haltung
	, persönliche Erfahrungen und neue Perspektiven.</p><p>Max. 15 Teilnehmend
	e (15–25 Jahre)<br>Teilnahme kostenfrei, Anmeldung: <a href="mailto:kultur
	@stadtkirche-karlsruhe.de" target="_blank">kultur@stadtkirche-karlsruhe.de
	</a></p><p>Veranstaltung mit freundlicher Unterstützung der Kulturstiftung
	 der Sparkasse Karlsruhe</p><p>Foto: Marvin Ruppert</p>
BEGIN:VALARM
ACTION:DISPLAY
DESCRIPTION:Poetry Slam-Workshop mit Marius Loy
TRIGGER:-PT1H
END:VALARM
END:VEVENT
END:VCALENDAR
