BEGIN:VCALENDAR
VERSION:2.0
CALSCALE:GREGORIAN
PRODID:adamgibbons/ics
METHOD:PUBLISH
X-PUBLISHED-TTL:PT1H
BEGIN:VEVENT
UID:789@keepkarlsruheboring.org
SUMMARY:Poetry tanzt Tango - Lesung und Konzert
DTSTAMP:20260423T104721Z
DTSTART:20260215T140000Z
DTEND:20260215T170000Z
DESCRIPTION:Am Sonntag\, dem 15. Februar 2026 lädt die Arbeitsgruppe „Queer
	 älter werden" ab\n15 Uhr (Einlass 14.30 Uhr) zu „Poetry tanzt Tango - Les
	ung und Konzert" ein.\nEine Poetin und ein Tango-Duo treffen aufeinander. 
	Zettel fliegen. Die erste\nGeige ist verstimmt. Der Bass gibt Kontra. Wer 
	begleitet hier eigentlich wen?\nNähe und Distanz\, Getrenntheit und Verbun
	denheit\, Einzigartiges und\nAlltägliches\, Freude und Schmerz – das ewige
	 Hin und Her im Trubel des Lebens.\nIn einer „Collage à trois“ verwebt das
	 Musik- und Theater-Trio Gedichttexte und\nTangomusik mit szenischen Bilde
	rn. Entschleunigung und Schwung verlieren ihren\nWiderspruch\, und es spru
	deln Sinnlichkeiten aus Worten und Taten. Die Sehnsucht\nschmilzt im Schei
	nwerferlicht und versickert zwischen den Zeilen. Benötigst Du\nUnterstützu
	ng\, um an der Veranstaltung teilnehmen zu können oder hast Lust\, Teil\nd
	er AG zu werden? Schreib uns an unter: alter@queerkastle.de Die Lesung ist
	\nkostenfrei. https://queerkastle.de/veranstaltung/poetry-tanzt-tango/
URL:https://keepkarlsruheboring.org/event/poetry-tanzt-tango-lesung-und-kon
	zert
LOCATION:queerKAstle - Karlsruher Zentrum für queere Vielfalt - Liebigstraß
	e 10-12\, 76135 Karlsruhe
STATUS:CONFIRMED
CATEGORIES:karlsrunruhe,test
X-ALT-DESC;FMTTYPE=text/html:Am Sonntag, dem 15. Februar 2026 lädt die Arbe
	itsgruppe „Queer älter werden"<br>ab 15 Uhr (Einlass 14.30 Uhr) zu „Poetry
	 tanzt Tango - Lesung und Konzert"<br>ein.<br><br>Eine Poetin und ein Tang
	o-Duo treffen aufeinander. Zettel fliegen. Die erste<br>Geige ist verstimm
	t. Der Bass gibt Kontra. Wer begleitet hier eigentlich wen?<br>Nähe und Di
	stanz, Getrenntheit und Verbundenheit, Einzigartiges und<br>Alltägliches, 
	Freude und Schmerz – das ewige Hin und Her im Trubel des Lebens.<br><br>In
	 einer „Collage à trois“ verwebt das Musik- und Theater-Trio Gedichttexte<
	br>und Tangomusik mit szenischen Bildern. Entschleunigung und Schwung verl
	ieren<br>ihren Widerspruch, und es sprudeln Sinnlichkeiten aus Worten und 
	Taten. Die<br>Sehnsucht schmilzt im Scheinwerferlicht und versickert zwisc
	hen den Zeilen.<br><br>Benötigst Du Unterstützung, um an der Veranstaltung
	 teilnehmen zu können oder<br>hast Lust, Teil der AG zu werden?  <br>Schre
	ib uns an unter: alter@queerkastle.de<br><br>Die Lesung ist kostenfrei.<br
	>https://queerkastle.de/veranstaltung/poetry-tanzt-tango/
BEGIN:VALARM
ACTION:DISPLAY
DESCRIPTION:Poetry tanzt Tango - Lesung und Konzert
TRIGGER:-PT1H
END:VALARM
END:VEVENT
END:VCALENDAR
