BEGIN:VCALENDAR
VERSION:2.0
CALSCALE:GREGORIAN
PRODID:adamgibbons/ics
METHOD:PUBLISH
X-PUBLISHED-TTL:PT1H
BEGIN:VEVENT
UID:487@keepkarlsruheboring.org
SUMMARY:Preisträger*innen des 29. internationalen Solo-Tanz-Theater Festiva
	l Stuttgart 2025 [24\,80 €]
DTSTAMP:20260423T105017Z
DTSTART:20251117T190000Z
DESCRIPTION:Die Szene von morgen\n\nDas 29. internationale Solo-Tanz-Theate
	r Festival Stuttgart 2025 präsentiert\nseine Preisträger:innen in unserer 
	Scenario Halle. Dabei zu sehen sind: \n\nDAF Internationals Award and SDC 
	International Residency\nCharly Santagado (USA/Austria) with “Nohow” \n\nF
	inal Member Marina López \,„Dime si con eso vale“ \n\nPublic’s First Choic
	e Price\nMaria Antunes (Portugal) with “Pantera”\n\n1.Price Performance\nC
	armine Vigliotti (Italy) with “The Space Between\n\n1.Price Choreography &
	 2. Price Performance\nBéatrice Larrivée (Canada) with „Briefly“\n\n3.Pric
	e Choreography \nCheng-Yang Peng (Taiwan) with “Two Relationships”\n\nBild
	 : Jo Grabowski
URL:https://keepkarlsruheboring.org/event/preistragerinnen-des-29-internati
	onalen-solo-tanz-theater-festival-stuttgart-2025
GEO:49.0135;8.35882
LOCATION:Kulturzentrum Tempel - Kulturverein Tempel e.V. im Kulturzentrum T
	empel Hardtstraße 37 A D-76185 Karlsruhe
STATUS:CONFIRMED
CATEGORIES:Dance,Solotanz,TANZ Karlsruhe 2025,Tanzfestival 2025,Ticket
X-ALT-DESC;FMTTYPE=text/html:<p><strong>Die Szene von morgen</strong></p><p
	>Das 29. internationale Solo-Tanz-Theater Festival Stuttgart 2025 präsenti
	ert seine Preisträger:innen in unserer Scenario Halle. Dabei zu sehen sind
	:&nbsp;</p><p>DAF Internationals Award and SDC International Residency<br>
	<strong>Charly Santagado</strong> (USA/Austria) with “Nohow”&nbsp;</p><p>F
	inal Member <strong>Marina López </strong>,„Dime si con eso vale“&nbsp;</p
	><p>Public’s First Choice Price<br><strong>Maria Antunes</strong> (Portuga
	l) with “Pantera”</p><p>1.Price Performance<br><strong>Carmine Vigliotti</
	strong> (Italy) with “The Space Between</p><p>1.Price Choreography &amp; 2
	. Price Performance<br><strong>Béatrice Larrivée</strong> (Canada) with „B
	riefly“</p><p>3.Price Choreography&nbsp;<br><strong>Cheng-Yang Peng</stron
	g> (Taiwan) with “Two Relationships”</p><p>Bild : Jo Grabowski</p>
BEGIN:VALARM
ACTION:DISPLAY
DESCRIPTION:Preisträger*innen des 29. internationalen Solo-Tanz-Theater Fes
	tival Stuttgart 2025 [24,80 €]
TRIGGER:-PT1H
END:VALARM
END:VEVENT
END:VCALENDAR
