BEGIN:VCALENDAR
VERSION:2.0
CALSCALE:GREGORIAN
PRODID:adamgibbons/ics
METHOD:PUBLISH
X-PUBLISHED-TTL:PT1H
BEGIN:VEVENT
UID:552@keepkarlsruheboring.org
SUMMARY:Preisverleihung & Konzert der Giga-Hertz-Produktionspreise und des 
	Produktionspreis PopExperimental von 2025 [7 € | 10€]
DTSTAMP:20260423T105017Z
DTSTART:20251121T180000Z
DESCRIPTION:19:00 Uhr\, Kubus\n\nDer Komponist und Klangkünstler Davor Vinc
	ze erhält 2025 einen\nGiga-Hertz-Produktionspreis für sein Projekt „Let th
	e System Guide”\, in dem er\nperformative Settings schafft\, die das Publi
	kum aktiv einbeziehen.\n\nDas Duo Jug Marković und Thea Soti erhält den Gi
	ga-Hertz-Produktionspreis für\nihr gemeinsames Projekt „Trashold”\, das ex
	perimentelles Musiktheater mit\nelektronischer Improvisation verbindet.\n\
	nDie britische Künstlerin und Turntablistin Nicole Raymond\, die als NikNa
	k\nauftritt\, erhält 2025 den Produktionspreis PopExperimental für ihre En
	twicklung\nneuer klanglicher Praktiken\, die Afrofuturismus mit Turntablis
	m in einer\nmultidisziplinären Form verbinden.\n\nDie Künstler:innen der S
	hortlist sind auf der Sounding Future Plattform\n[https://audiospace.sound
	ingfuture.com/curated/zkm-karlsruhe] zu hören und\npräsentieren dort ein e
	indrucksvolles Spektrum aktueller elektroakustischer\nMusik. Ihre Arbeiten
	 zeigen die außergewöhnliche klangliche Innovationskraft\neiner neuen Gene
	ration von Komponist:innen und Klangkünstler:innen.\n\n\n\nTickets ab 10€ 
	/ 7€ ermäßigt (zzgl. Gebühr)\n[https://zkm-karlsruhe.reservix.de/tickets-g
	iga-hertz-preis-2025-konzert-und-preisverleihung-in-karlsruhe-zkm-kubus-am
	-21-11-2025/e2451046]\n\n\n\nBildcredits: © ZKM | Zentrum für Kunst und Me
	dien Karlsruhe\, Foto: Micha Reinke
URL:https://keepkarlsruheboring.org/event/preisverleihung-and-konzert-der-g
	iga-hertz-produktionspreise-und-des-produktionspreis-popexperimental-von-2
	025
GEO:49.0013;8.3836
LOCATION:ZKM | Zentrum für Kunst und Medien Karlsruhe - Lorenzstr. 19\, D-7
	6135 Karlsruhe
STATUS:CONFIRMED
CATEGORIES:Electronicmusic,Festival,Music,Ticket
X-ALT-DESC;FMTTYPE=text/html:<p><strong>19:00 Uhr, Kubus</strong></p><p>Der
	 Komponist und Klangkünstler Davor Vincze erhält 2025 einen Giga-Hertz-Pro
	duktionspreis für sein Projekt „Let the System Guide”, in dem er performat
	ive Settings schafft, die das Publikum aktiv einbeziehen. </p><p>Das Duo J
	ug Marković und Thea Soti erhält den Giga-Hertz-Produktionspreis für ihr g
	emeinsames Projekt „Trashold”, das experimentelles Musiktheater mit elektr
	onischer Improvisation verbindet. </p><p>Die britische Künstlerin und Turn
	tablistin Nicole Raymond, die als NikNak auftritt, erhält 2025 den Produkt
	ionspreis PopExperimental für ihre Entwicklung neuer klanglicher Praktiken
	, die Afrofuturismus mit Turntablism in einer multidisziplinären Form verb
	inden. </p><p>Die Künstler:innen der Shortlist sind auf der <a href="https
	://audiospace.soundingfuture.com/curated/zkm-karlsruhe" target="_blank"><s
	trong>Sounding Future Plattform</strong></a> zu hören und präsentieren dor
	t ein eindrucksvolles Spektrum aktueller elektroakustischer Musik. Ihre Ar
	beiten zeigen die außergewöhnliche klangliche Innovationskraft einer neuen
	 Generation von Komponist:innen und Klangkünstler:innen.</p><p></p><p><a h
	ref="https://zkm-karlsruhe.reservix.de/tickets-giga-hertz-preis-2025-konze
	rt-und-preisverleihung-in-karlsruhe-zkm-kubus-am-21-11-2025/e2451046" targ
	et="_blank"><strong>Tickets ab 10€ / 7€ ermäßigt (zzgl. Gebühr)</strong></
	a></p><p></p><p>Bildcredits: © ZKM | Zentrum für Kunst und Medien Karlsruh
	e, Foto: Micha Reinke</p>
BEGIN:VALARM
ACTION:DISPLAY
DESCRIPTION:Preisverleihung & Konzert der Giga-Hertz-Produktionspreise und 
	des Produktionspreis PopExperimental von 2025 [7 € | 10€]
TRIGGER:-PT1H
END:VALARM
END:VEVENT
END:VCALENDAR
