BEGIN:VCALENDAR
VERSION:2.0
CALSCALE:GREGORIAN
PRODID:adamgibbons/ics
METHOD:PUBLISH
X-PUBLISHED-TTL:PT1H
BEGIN:VEVENT
UID:553@keepkarlsruheboring.org
SUMMARY:Preisverleihung & Konzert des Giga-Hertz-Lebenswerkpreises mit Laet
	itia Sonami [7 | 10€]
DTSTAMP:20260423T105009Z
DTSTART:20251122T180000Z
DESCRIPTION:19:00 Uhr\, Kubus\n\nDer Giga-Hertz-Hauptpreis für das Lebenswe
	rk\n[https://zkm.de/de/giga-hertz-lebenswerkpreis-2025] geht in diesem Jah
	r an die\nfranzösische Klangkünstlerin und Performerin Laetitia Sonami (*1
	957 in Paris\,\nlebt in Oakland\, Kalifornien)\, deren visionäre Beiträge 
	seit den späten\n1980er-Jahren die Grenzen zwischen Klang und Technologie 
	radikal erweitert\nhaben. Die Pionierin sensorbasierter Musikperformance u
	nd experimenteller\nelektroakustischer Komposition setzt sich in ihren Wer
	ken mit Fragen der\ngestischen Neugier auseinander und kreiert Sounds\, di
	e wir noch nie in dieser\nForm gehört haben.\n\nMit ihren einzigartigen In
	strumenten wie dem „Lady’s Glove”\, dem „Lady’s Ball”\nund dem „Spring Spy
	re” erkundet die Künstlerin die Schnittstellen von Körper\,\nGestik\, Tech
	nologie und Hörerfahrung. Diese maßgeschneiderten Interfaces sind\nmit Bew
	egungssensoren ausgestattet\, die eine fließende\, gestische Steuerung von
	\nklanglichen und mechanischen Parametern ermöglichen. Ihre Praxis veransc
	haulicht\nSonamis Vision einer elektronischen Musik\, die als vollständig 
	verkörperte\nErfahrung erlebt wird.\n\n\nTickets ab 10€ / 7€ ermäßigt (zzg
	l. Gebühr)\n[https://zkm-karlsruhe.reservix.de/tickets-giga-hertz-preis-20
	25-konzert-und-preisverleihung-in-karlsruhe-zkm-kubus-am-22-11-2025/e24510
	49]\n\n\nBildcredits: © ZKM | Zentrum für Kunst und Medien Karlsruhe\, Fot
	o: Micha Reinke
URL:https://keepkarlsruheboring.org/event/preisverleihung-and-konzert-des-g
	iga-hertz-lebenswerkpreises-mit-laetitia-sonami
GEO:49.0013;8.3836
LOCATION:ZKM | Zentrum für Kunst und Medien Karlsruhe - Lorenzstr. 19\, D-7
	6135 Karlsruhe
STATUS:CONFIRMED
CATEGORIES:Electronicmusic,Festival,Music,Ticket
X-ALT-DESC;FMTTYPE=text/html:<p>19:00 Uhr, Kubus</p><p>Der <a href="https:/
	/zkm.de/de/giga-hertz-lebenswerkpreis-2025" target="_blank"><strong>Giga-H
	ertz-Hauptpreis für das Lebenswerk</strong></a> geht in diesem Jahr an die
	 französische Klangkünstlerin und Performerin Laetitia Sonami (*1957 in Pa
	ris, lebt in Oakland, Kalifornien), deren visionäre Beiträge seit den spät
	en 1980er-Jahren die Grenzen zwischen Klang und Technologie radikal erweit
	ert haben. Die Pionierin sensorbasierter Musikperformance und experimentel
	ler elektroakustischer Komposition setzt sich in ihren Werken mit Fragen d
	er gestischen Neugier auseinander und kreiert Sounds, die wir noch nie in 
	dieser Form gehört haben. </p><p>Mit ihren einzigartigen Instrumenten wie 
	dem „Lady’s Glove”, dem „Lady’s Ball” und dem „Spring Spyre” erkundet die 
	Künstlerin die Schnittstellen von Körper, Gestik, Technologie und Hörerfah
	rung. Diese maßgeschneiderten Interfaces sind mit Bewegungssensoren ausges
	tattet, die eine fließende, gestische Steuerung von klanglichen und mechan
	ischen Parametern ermöglichen. Ihre Praxis veranschaulicht Sonamis Vision 
	einer elektronischen Musik, die als vollständig verkörperte Erfahrung erle
	bt wird.</p><p><br><a href="https://zkm-karlsruhe.reservix.de/tickets-giga
	-hertz-preis-2025-konzert-und-preisverleihung-in-karlsruhe-zkm-kubus-am-22
	-11-2025/e2451049" target="_blank"><strong>Tickets ab 10€ / 7€ ermäßigt (z
	zgl. Gebühr)</strong></a></p><p><br>Bildcredits: © ZKM | Zentrum für Kunst
	 und Medien Karlsruhe, Foto: Micha Reinke</p>
BEGIN:VALARM
ACTION:DISPLAY
DESCRIPTION:Preisverleihung & Konzert des Giga-Hertz-Lebenswerkpreises mit 
	Laetitia Sonami [7 | 10€]
TRIGGER:-PT1H
END:VALARM
END:VEVENT
END:VCALENDAR
