BEGIN:VCALENDAR
VERSION:2.0
CALSCALE:GREGORIAN
PRODID:adamgibbons/ics
METHOD:PUBLISH
X-PUBLISHED-TTL:PT1H
BEGIN:VEVENT
UID:883@keepkarlsruheboring.org
SUMMARY:PREYRS (feat. Amy Montgomery)
DTSTAMP:20260423T090042Z
DTSTART:20260320T190000Z
DTEND:20260320T210000Z
DESCRIPTION:AMY MONTGOMERY dürfte bei uns im KOHI ein Begriff sein. Die\nAl
	ternative-Tribal-Rockerin aus Irland kommt jetzt mit einer Band zurück nac
	h\nKarlsruhe\, die es in sich hat: PREYRS\, eine neue\, mitreißende Kraft 
	im\nAlternative Rock und Metal\, ist das Projekt eben dieser Belfaster\nRo
	ck-Künstlerin Amy Montgomery und des Schlagzeugers/Produzenten Michael\nMo
	rmecha. Ihre Musik\, die rohe Alternative-Rock-Energie mit der Wucht des M
	etal\nverbindet\, ist ein elektrisierender Zusammenprall von Aggression un
	d Euphorie\,\nDunkelheit und Erhabenheit\, Chaos und Kontrolle. Nachdem si
	e kürzlich beim\nBerliner Label Pelagic Records unter Vertrag genommen wur
	den\, ist ihr kommendes\nAlbum eine kathartische Reise durch Schmerz\, Wac
	hstum und Transformation. Die\nDebütsingle „Wave of Wisdom“ fängt ihren kr
	aftvollen und zugleich düsteren\,\nhymnenhaften Sound perfekt ein – eine M
	ischung aus Heilung und Wut in\nvollkommener Harmonie. Bekannt für ihre mi
	treißenden Live-Auftritte\, gaben\nPREYRS im August ihr UK-Festivaldebüt b
	eim Bloodstock Open Air\, bevor sie im\nWinter New Model Army durch Europa
	 supporten und im Januar 2026 beim Planet Rock\nWinter’s End Festival auft
	reten. Nominiert als „Bester Live-Act“ und „Beste\nKünstlerin“ beim Northe
	rn Ireland Music Prize\, ist Amys unbestreitbar kraftvolle\nund fesselnde 
	Bühnenpräsenz ihr Geheimrezept\, das oft als „überirdisch“ oder\n„Naturgew
	alt“ beschrieben wird. Für alle\, die den epischen\, den heilsamen\, den\n
	aggressiven und den unerbittlichen Puls von Alternative Rock und Metal suc
	hen\,\nsind PREYRS genau das Richtige. Die Live-Band besteht aus dem langj
	ährigen\nGitarristen Nolan Donnelly und dem kürzlich hinzugekommenen Bassi
	sten Ciaran\nMcGreevy. Einlass: 19 Uhr\, Beginn: 20 Uhr
URL:https://keepkarlsruheboring.org/event/preyrs-feat-amy-montgomery
GEO:49.0017;8.40754
LOCATION:Kohi - Werderstraße 47\, 76137 Karlsruhe\, Alemanya
STATUS:CONFIRMED
CATEGORIES:karlsrunruhe,test
X-ALT-DESC;FMTTYPE=text/html:AMY MONTGOMERY dürfte bei uns im KOHI ein Begr
	iff sein. Die Alternative-Tribal-Rockerin aus Irland kommt jetzt mit einer
	 Band zurück nach Karlsruhe, die es in sich hat: PREYRS, eine neue, mitrei
	ßende Kraft im Alternative Rock und Metal, ist das Projekt eben dieser Bel
	faster Rock-Künstlerin Amy Montgomery und des Schlagzeugers/Produzenten Mi
	chael Mormecha.<br>Ihre Musik, die rohe Alternative-Rock-Energie mit der W
	ucht des Metal verbindet, ist ein elektrisierender Zusammenprall von Aggre
	ssion und Euphorie, Dunkelheit und Erhabenheit, Chaos und Kontrolle. Nachd
	em sie kürzlich beim Berliner Label Pelagic Records unter Vertrag genommen
	 wurden, ist ihr kommendes Album eine kathartische Reise durch Schmerz, Wa
	chstum und Transformation. Die Debütsingle „Wave of Wisdom“ fängt ihren kr
	aftvollen und zugleich düsteren, hymnenhaften Sound perfekt ein – eine Mis
	chung aus Heilung und Wut in vollkommener Harmonie. Bekannt für ihre mitre
	ißenden Live-Auftritte, gaben PREYRS im August ihr UK-Festivaldebüt beim B
	loodstock Open Air, bevor sie im Winter New Model Army durch Europa suppor
	ten und im Januar 2026 beim Planet Rock Winter’s End Festival auftreten.<b
	r>Nominiert als „Bester Live-Act“ und „Beste Künstlerin“ beim Northern Ire
	land Music Prize, ist Amys unbestreitbar kraftvolle und fesselnde Bühnenpr
	äsenz ihr Geheimrezept, das oft als „überirdisch“ oder „Naturgewalt“ besch
	rieben wird. Für alle, die den epischen, den heilsamen, den aggressiven un
	d den unerbittlichen Puls von Alternative Rock und Metal suchen, sind PREY
	RS genau das Richtige. Die Live-Band besteht aus dem langjährigen Gitarris
	ten Nolan Donnelly und dem kürzlich hinzugekommenen Bassisten Ciaran McGre
	evy.<br>Einlass: 19 Uhr, Beginn: 20 Uhr
BEGIN:VALARM
ACTION:DISPLAY
DESCRIPTION:PREYRS (feat. Amy Montgomery)
TRIGGER:-PT1H
END:VALARM
END:VEVENT
END:VCALENDAR
