BEGIN:VCALENDAR
VERSION:2.0
CALSCALE:GREGORIAN
PRODID:adamgibbons/ics
METHOD:PUBLISH
X-PUBLISHED-TTL:PT1H
BEGIN:VEVENT
UID:23@keepkarlsruheboring.org
SUMMARY:Projektchor „Proud Voices“
DTSTAMP:20260423T102323Z
DTSTART:20250518T100000Z
DTEND:20250518T160000Z
DESCRIPTION:🎶🌈 Lasst die Community klingen! In unserem queeren Projektchor 
	„Proud Voices“\nlernen wir gemeinsam 3-4 leicht singbare\, mehrstimmige Po
	p-Songs. Geprobt wird\nim Queeren Zentrum Karlsruhe in der Liebigstraße 10
	-12. Unterstützung bekommen\nwir von erfahrenen Sänger*innen.\n\n🎤 Wir beg
	innen mit einem Probentag am 18. Mai 2025 und enden nach drei\nabendlichen
	 Proben und einer Hauptprobe mit Chorleiterin Eva (WEIBrations\n[https://w
	ww.weibrations.com/]) mit dem gemeinsamem Konzert „Vocal Pride“ am 19.\nJu
	li 2025 im queerKAstle.\n\nBeim Projektchor steht die Freude an der Musik 
	und die Gemeinschaft im\nMittelpunkt. In spielerischen Übungen können wir 
	auch ungewohnte Stimmlagen\nausprobieren. Chorerfahrung ist beim Proud Voi
	ces Projektchor nicht nötig\, es\nreicht\, wenn Du Spaß am Singen hast!\n\
	nDie Teilnahme ist kostenlos. Noten und Audiodateien zum Lernen werden ges
	tellt.\n\n📅 Die Termine im Überblick:\n\n * Sonntag\, 18. Mai 2025 | 12 – 
	18 Uhr\n\n * Mittwoch\, 04. Juni 2025 | 19 – 21.30 Uhr\n\n * Dienstag\, 24
	. Juni 2025 | 19 – 21.30 Uhr\n\n * Mittwoch\, 09. Juli 2025 | 19 – 21.30 U
	hr\n\n * Samstag\, 19. Juli 2025 | 14.30 – 16.30 Uhr (Hauptprobe) & anschl
	ießend\n   gemeinsames Konzert von 18 – 20 Uhr\n\nWeitere Informationen un
	d eine Möglichkeit zur Anmeldung findest Du unter:\nwww.queerkastle.de/pro
	jektchor [http://www.queerkastle.de/projektchor]\n\n🎶🌈 Wir freuen uns auf 
	Dich und Deine Stimme!
URL:https://keepkarlsruheboring.org/event/projektchor-proud-voices
GEO:49.0042;8.37001
LOCATION:Queeres Zentrum Karlsruhe - Liebigstraße 10-12     Karlsruhe\, 761
	35
STATUS:CONFIRMED
CATEGORIES:Chor,Queer
X-ALT-DESC;FMTTYPE=text/html:<p>🎶🌈 Lasst die Community klingen! In unserem 
	queeren <strong>Projektchor</strong> „<strong>Proud Voices</strong>“ lerne
	n wir gemeinsam 3-4 leicht singbare, mehrstimmige Pop-Songs. Geprobt wird 
	im Queeren Zentrum Karlsruhe in der Liebigstraße 10-12. Unterstützung beko
	mmen wir von erfahrenen Sänger*innen.</p><p>🎤 Wir beginnen mit einem <stro
	ng>Probentag</strong> am <strong>18. Mai 2025</strong> und enden nach <str
	ong>drei abendlichen Proben</strong> und einer <strong>Hauptprobe</strong>
	 mit Chorleiterin Eva (<a target="_blank" href="https://www.weibrations.co
	m/"><strong>WEIBrations</strong></a>) mit dem gemeinsamem <strong>Konzert<
	/strong> „<strong>Vocal Pride</strong>“ am <strong>19. Juli 2025</strong> 
	im queerKAstle.</p><p>Beim Projektchor steht die Freude an der Musik und d
	ie Gemeinschaft im Mittelpunkt. In spielerischen Übungen können wir auch u
	ngewohnte Stimmlagen ausprobieren. Chorerfahrung ist beim Proud Voices Pro
	jektchor nicht nötig, es reicht, wenn Du Spaß am Singen hast!</p><p>Die Te
	ilnahme ist <strong>kostenlos</strong>. Noten und Audiodateien zum Lernen 
	werden gestellt.</p><p><strong>📅 Die Termine im Überblick:</strong></p><ul
	><li><p>Sonntag, 18. Mai 2025 | 12 – 18 Uhr</p></li><li><p>Mittwoch, 04. J
	uni 2025 | 19 – 21.30 Uhr</p></li><li><p>Dienstag, 24. Juni 2025 | 19 – 21
	.30 Uhr</p></li><li><p>Mittwoch, 09. Juli 2025 | 19 – 21.30 Uhr</p></li><l
	i><p>Samstag, 19. Juli 2025 | 14.30 – 16.30 Uhr (<strong>Hauptprobe</stron
	g>) &amp; anschließend gemeinsames <strong>Konzert</strong> von 18 – 20 Uh
	r</p></li></ul><p><strong>Weitere Informationen</strong> und eine <strong>
	Möglichkeit zur Anmeldung</strong> findest Du unter: <a target="_blank" hr
	ef="http://www.queerkastle.de/projektchor"><strong>www.queerkastle.de/proj
	ektchor</strong></a></p><p>🎶🌈 Wir freuen uns auf Dich und Deine Stimme!</p
	>
BEGIN:VALARM
ACTION:DISPLAY
DESCRIPTION:Projektchor „Proud Voices“
TRIGGER:-PT1H
END:VALARM
END:VEVENT
END:VCALENDAR
