BEGIN:VCALENDAR
VERSION:2.0
CALSCALE:GREGORIAN
PRODID:adamgibbons/ics
METHOD:PUBLISH
X-PUBLISHED-TTL:PT1H
BEGIN:VEVENT
UID:1333@keepkarlsruheboring.org
SUMMARY:Protest gegen Feiertagsverbote: Das Leben des Brian
DTSTAMP:20260423T103528Z
DTSTART:20260403T153000Z
DTEND:20260403T183000Z
DESCRIPTION:An Karfreitag demonstrieren wir am Passagehof gegen die nicht m
	ehr zeitgemäßen\nFeiertagsgesetze in Baden-Württemberg (Tanz- und Filmverb
	ote). Ab 17:30 Uhr an\nder Kinemathek Karlsruhe e.V..\n\n\n\nUm 18 Uhr sta
	rtet dann in der Kinemathek der "verbotene Film" "Life of Brian"\nvon Mont
	y Python im Original mit deutschen Untertiteln.
URL:https://keepkarlsruheboring.org/event/protest-gegen-feiertagsverbote-da
	s-leben-des-brian
GEO:49.0105;8.39692
LOCATION:Kinemathek - 6\, Kaiserpassage\, Innenstadt-West Östlicher Teil\, 
	Innenstadt-West\, Karlsruhe\, Baden-Württemberg\, 76133\, Deutschland
STATUS:CONFIRMED
CATEGORIES:Demonstration,Film,Laicism
X-ALT-DESC;FMTTYPE=text/html:<p>An Karfreitag demonstrieren wir am Passageh
	of gegen die nicht mehr zeitgemäßen Feiertagsgesetze in Baden-Württemberg 
	(Tanz- und Filmverbote). Ab 17:30 Uhr an der Kinemathek Karlsruhe e.V..</p
	><p></p><p>Um 18 Uhr startet dann in der Kinemathek der "verbotene Film" "
	Life of Brian" von Monty Python im Original mit deutschen Untertiteln.</p>
BEGIN:VALARM
ACTION:DISPLAY
DESCRIPTION:Protest gegen Feiertagsverbote: Das Leben des Brian
TRIGGER:-PT1H
END:VALARM
END:VEVENT
END:VCALENDAR
