BEGIN:VCALENDAR
VERSION:2.0
CALSCALE:GREGORIAN
PRODID:adamgibbons/ics
METHOD:PUBLISH
X-PUBLISHED-TTL:PT1H
BEGIN:VEVENT
UID:108@keepkarlsruheboring.org
SUMMARY:Protestcamp auf der Forumswiese!
DTSTAMP:20260423T102328Z
DTSTART:20250623T170000Z
DTEND:20250627T215900Z
DESCRIPTION:Liebe Genoss*innen\,\n\nMorgen startet unser Protestcamp gegen 
	zu hohe Mieten!\n\nVon KüfA\, Vorträgen und Workshops ist für alle was dab
	ei!\n\nUnser Programm beginnt mit unserem wöchentlichen Plenum und endet a
	m Freitag mit\nTrinken mit Linken 🍻\n\nEigentum ist Diebstahl! 🚩\n\n📍Forum
	swiese\, am KIT Campus Süd\n\n\nPROGRAMM:\n\n\nMONTAG\, 23.06.\n\n19 UHR E
	INSTIEGSPLENUM\n\nLerne unsere Hochschulgruppe SDS kennen!\nWenn du wissen
	 möchtest wer wir sind\, oder was wir machen\, oder uns einfach\npersönlic
	h kennenlernen möchtest\, komm gerne dazu!\n\nBei schlechtem Wetter im Z10
	!\n\n\nDIENSTAG\, 24.06.\n\n17 UHR KÜCHE FÜR ALLE! 🍽️\n\nWir kochen und ess
	en gemeinsam leckere vegane Belungalinsen-Bolognese!\n\n18:30 UHR FILMABEN
	D 🎥\n\nDanach geht der Abend in einen gemütlichen Filmeabend über.\n\nDer 
	Film bleibt eine Überraschung.\n\n\nMITTWOCH\, 25.06.\n\n18 UHR KURDISCHER
	 KULTUR ABEND 🎶\nKURDISCHER MUSIK- UND KULTURABEND ESSEN\, MUSIK & TANZ\n\
	nVortrag: Studieren in der Muttersprache (Kurdisch) in Rojava/ Nord- und\n
	Ostsyrien\nauf Deutsch & Kurdisch\n\nWorum geht es?\n– Die Geschichte der 
	kurdischen Sprache – vom Verbot zur Lehre\n– Unterdrückung\, Widerstand & 
	Vision\n\nIm Anschluss gibt es Essen und Musik!\n\n\nDONNERSTAG\, 26.06.\n
	\n17:45 UHR “ZEITENWENDE: MILITARISIERUNG IN FORSCHUNG & HOCHSCHULE“\n\nIn
	put der Informationsstelle für Militarisierung\n\nNeuer-Hörsaal-Architektu
	r (Geb 20.40)\n\n\nFREITAG\, 27.06.\n\n15:00 UHR WORKSHOPS 👥\n\nEs gibt dr
	ei parallel stattfindende Workshops\nVon politisch bis kreativ ist alles d
	abei!\n\n– Kreativworkshop mit Linoldruck\n– Input zu Klassismus an Unis\n
	– Works Marx für Alle\n\n20:00 UHR TRINKEN MIT LINKEN 🍻\nMIT PUBQUIZ
URL:https://keepkarlsruheboring.org/event/protestcamp-auf-der-forumswiese
GEO:49.0118;8.41527
LOCATION:Forumswiese\, am KIT Campus Süd - 2\, Straße am Forum\, Innenstadt
	-Ost Nordöstlicher Teil\, Innenstadt-Ost\, Karlsruhe\, Baden-Württemberg\,
	 76131\, Deutschland
STATUS:CONFIRMED
CATEGORIES:Politics,Student Movement
X-ALT-DESC;FMTTYPE=text/html:<p>Liebe Genoss*innen,</p><p>Morgen startet un
	ser Protestcamp gegen zu hohe Mieten!</p><p>Von KüfA, Vorträgen und Worksh
	ops ist für alle was dabei!</p><p>Unser Programm beginnt mit unserem wöche
	ntlichen Plenum und endet am Freitag mit Trinken mit Linken 🍻</p><p>Eigent
	um ist Diebstahl! 🚩</p><p>📍Forumswiese, am KIT Campus Süd</p><h2>Programm:
	</h2><h3>Montag, 23.06.</h3><h4>19 Uhr Einstiegsplenum</h4><p>Lerne unsere
	 Hochschulgruppe SDS kennen!<br>Wenn du wissen möchtest wer wir sind, oder
	 was wir machen, oder uns einfach persönlich kennenlernen möchtest, komm g
	erne dazu!</p><p>Bei schlechtem Wetter im Z10!</p><h3>Dienstag, 24.06.</h3
	><h4>17 Uhr Küche für alle! 🍽️</h4><p>Wir kochen und essen gemeinsam lecker
	e vegane Belungalinsen-Bolognese!</p><h4>18:30 Uhr Filmabend 🎥</h4><p>Dana
	ch geht der Abend in einen gemütlichen Filmeabend über.</p><p>Der Film ble
	ibt eine Überraschung.</p><h3>Mittwoch, 25.06.</h3><h4>18 Uhr Kurdischer K
	ultur Abend 🎶<br>Kurdischer Musik- und Kulturabend Essen, Musik &amp; Tanz
	</h4><p>Vortrag: Studieren in der Muttersprache (Kurdisch) in Rojava/ Nord
	- und Ostsyrien<br>auf Deutsch &amp; Kurdisch</p><p>Worum geht es?<br>– Di
	e Geschichte der kurdischen Sprache – vom Verbot zur Lehre<br>– Unterdrück
	ung, Widerstand &amp; Vision</p><p>Im Anschluss gibt es Essen und Musik!</
	p><h3>Donnerstag, 26.06.</h3><h4>17:45 Uhr “Zeitenwende: Militarisierung i
	n Forschung &amp; Hochschule“</h4><p>Input der Informationsstelle für Mili
	tarisierung</p><p>Neuer-Hörsaal-Architektur (Geb 20.40)</p><h3>Freitag, 27
	.06.</h3><h4>15:00 Uhr Workshops 👥</h4><p>Es gibt drei parallel stattfinde
	nde Workshops<br>Von politisch bis kreativ ist alles dabei!</p><p>– Kreati
	vworkshop mit Linoldruck<br>– Input zu Klassismus an Unis<br>– Works Marx 
	für Alle</p><h4>20:00 Uhr Trinken mit Linken 🍻<br>mit Pubquiz</h4>
BEGIN:VALARM
ACTION:DISPLAY
DESCRIPTION:Protestcamp auf der Forumswiese!
TRIGGER:-PT1H
END:VALARM
END:VEVENT
END:VCALENDAR
