BEGIN:VCALENDAR
VERSION:2.0
CALSCALE:GREGORIAN
PRODID:adamgibbons/ics
METHOD:PUBLISH
X-PUBLISHED-TTL:PT1H
BEGIN:VEVENT
UID:892@keepkarlsruheboring.org
SUMMARY:PSST PLAY CLAP
DTSTAMP:20260423T102133Z
DTSTART:20260325T170000Z
DTEND:20260325T190000Z
DESCRIPTION:Unsere Theater Gruppe PSST PLAY CLAP geht in eine neue Runde! A
	b dem 16. April\ntreffen wir uns jeden Mittwoch von 18-20 Uhr um gemeinsam
	 Theater zu machen. In\ndiesem Jahr wollen wir uns mit dem Thema „Belongin
	g“ beschäftigen und das\n„Theatre for Living“ kennenlernen und ausprobiere
	n. Und wie immer: spielen\,\nlachen und Spaß am Theater haben. Ob mit oder
	 ohne Theatererfahrung - alle sind\nWillkommen!   Our theater group PSST P
	LAY CLAP is starting a new round! Starting\nfrom April 16\, we will meet e
	very Wednesday from 6-8 PM to create theater\ntogether. This year\, we wan
	t to focus on the theme of ""Belonging"" and explore\nand try out ""Theatr
	e for Living."" And as always: playing\, laughing\, and having\nfun with t
	heater. Whether with or without theater experience - everyone is\nwelcome!
	 مجموعة المسرح لدينا PSST PLAY CLAP تبدأ جولة جديدة! ابتداءً من 16\nأبريل،
	 سنتقابل كل يوم أربعاء من الساعة 6 مساءً حتى 8 مساءً لنخلق المسرح معًا.\nه
	ذا العام، نود التركيز على موضوع ""الانتماء"" واستكشاف وتجربة ""المسرح من أ
	جل\nالحياة."" وكالعادة: اللعب، الضحك، والاستمتاع بالمسرح. سواء كان لديك تج
	ربة مسرحية\nأم لا - الجميع مرحب بهم!   Tiyatro grubumuz PSST PLAY CLAP yen
	i bir tura\nbaşlıyor! 16 Nisan'dan itibaren her Çarşamba 18:00-20:00 saatl
	eri arasında bir\naraya gelip birlikte tiyatro yapacağız. Bu yıl\, ""Aidiy
	et"" temasına odaklanmak\nve ""Theatre for Living""i keşfetmek ve denemek 
	istiyoruz. Ve her zamanki gibi:\noynamak\, gülmek ve tiyatrodan keyif alma
	k. Tiyatro deneyiminiz olsun ya da\nolmasın – herkes davetlidir!     Наша 
	театральная группа PSST PLAY CLAP начинает\nновый цикл! С 16 апреля мы буд
	ем встречаться каждую среду с 18:00 до 20:00\,\nчтобы вместе заниматься те
	атром. В этом году мы хотим сосредоточиться на теме\n«Принадлежности» и по
	знакомиться с «Театром для жизни» и попробовать его. И как\nвсегда: играть
	\, смеяться и получать удовольствие от театра. Независимо от\nтеатрального
	 опыта — все приветствуются!       Grupul nostru de teatru PSST PLAY\nCLAP
	 începe un nou ciclu! Începând cu 16 aprilie\, ne vom întâlni în fiecare\n
	miercuri între orele 18:00-20:00 pentru a face teatru împreună. Anul acest
	a\,\ndorim să ne concentrăm pe tema „Apartenenței” și să explorăm și să în
	cercăm\n„Teatrul pentru Viață”. Și ca de obicei: să jucăm\, să râdem și să
	 ne distram cu\nteatrul. Indiferent dacă aveți sau nu experiență în teatru
	 – toți sunt\nbineveniți!      گروه تئاتر ما PSST PLAY CLAP وارد دوره جدید
	ی می‌شود! از تاریخ\n۱۶ آوریل هر چهارشنبه از ساعت ۱۸ تا ۲۰ با هم ملاقات می‌
	کنیم تا به صورت گروهی\nتئاتر بسازیم. امسال می‌خواهیم به موضوع «احساس تعلق»
	 بپردازیم و با مفهوم «تئاتر\nبرای زندگی» آشنا شویم و آن را امتحان کنیم. و 
	مانند همیشه: بازی کردن، خندیدن و\nلذت بردن از تئاتر.
URL:https://keepkarlsruheboring.org/event/psst-play-clap
GEO:49.0082;8.40959
LOCATION:COLA TAXI OKAY - 25\, Kronenstraße\, Innenstadt-Ost Südwestlicher 
	Teil\, Innenstadt-Ost\, Karlsruhe\, Baden-Württemberg\, 76133\, Deutschlan
	d
STATUS:CONFIRMED
CATEGORIES:karlsrunruhe,test
X-ALT-DESC;FMTTYPE=text/html:Unsere Theater Gruppe PSST PLAY CLAP geht in e
	ine neue Runde! Ab dem 16. April treffen wir uns jeden Mittwoch von 18-20 
	Uhr um gemeinsam Theater zu machen. In diesem Jahr wollen wir uns mit dem 
	Thema „Belonging“ beschäftigen und das „Theatre for Living“ kennenlernen u
	nd ausprobieren. Und wie immer: spielen, lachen und Spaß am Theater haben.
	 <br>Ob mit oder ohne Theatererfahrung - alle sind Willkommen!<br> <br>Our
	 theater group PSST PLAY CLAP is starting a new round! Starting from April
	 16, we will meet every Wednesday from 6-8 PM to create theater together. 
	This year, we want to focus on the theme of ""Belonging"" and explore and 
	try out ""Theatre for Living."" And as always: playing, laughing, and havi
	ng fun with theater.<br>Whether with or without theater experience - every
	one is welcome!<br><br>مجموعة المسرح لدينا PSST PLAY CLAP تبدأ جولة جديدة!
	 ابتداءً من 16 أبريل، سنتقابل كل يوم أربعاء من الساعة 6 مساءً حتى 8 مساءً 
	لنخلق المسرح معًا. هذا العام، نود التركيز على موضوع ""الانتماء"" واستكشاف 
	وتجربة ""المسرح من أجل الحياة."" وكالعادة: اللعب، الضحك، والاستمتاع بالمسر
	ح.<br>سواء كان لديك تجربة مسرحية أم لا - الجميع مرحب بهم!<br> <br>Tiyatro 
	grubumuz PSST PLAY CLAP yeni bir tura başlıyor! 16 Nisan'dan itibaren her 
	Çarşamba 18:00-20:00 saatleri arasında bir araya gelip birlikte tiyatro ya
	pacağız. Bu yıl, ""Aidiyet"" temasına odaklanmak ve ""Theatre for Living""
	i keşfetmek ve denemek istiyoruz. Ve her zamanki gibi: oynamak, gülmek ve 
	tiyatrodan keyif almak.<br>Tiyatro deneyiminiz olsun ya da olmasın – herke
	s davetlidir!   <br> <br>Наша театральная группа PSST PLAY CLAP начинает н
	овый цикл! С 16 апреля мы будем встречаться каждую среду с 18:00 до 20:00,
	 чтобы вместе заниматься театром. В этом году мы хотим сосредоточиться на 
	теме «Принадлежности» и познакомиться с «Театром для жизни» и попробовать 
	его. И как всегда: играть, смеяться и получать удовольствие от театра.<br>
	Независимо от театрального опыта — все приветствуются!    <br> <br>Grupul 
	nostru de teatru PSST PLAY CLAP începe un nou ciclu! Începând cu 16 aprili
	e, ne vom întâlni în fiecare miercuri între orele 18:00-20:00 pentru a fac
	e teatru împreună. Anul acesta, dorim să ne concentrăm pe tema „Apartenenț
	ei” și să explorăm și să încercăm „Teatrul pentru Viață”. Și ca de obicei:
	 să jucăm, să râdem și să ne distram cu teatrul.<br>Indiferent dacă aveți 
	sau nu experiență în teatru – toți sunt bineveniți!   <br> <br> گروه تئاتر
	 ما PSST PLAY CLAP وارد دوره جدیدی می‌شود! از تاریخ ۱۶ آوریل هر چهارشنبه ا
	ز ساعت ۱۸ تا ۲۰ با هم ملاقات می‌کنیم تا به صورت گروهی تئاتر بسازیم. امسال 
	می‌خواهیم به موضوع «احساس تعلق» بپردازیم و با مفهوم «تئاتر برای زندگی» آشن
	ا شویم و آن را امتحان کنیم. و مانند همیشه: بازی کردن، خندیدن و لذت بردن از
	 تئاتر.
BEGIN:VALARM
ACTION:DISPLAY
DESCRIPTION:PSST PLAY CLAP
TRIGGER:-PT1H
END:VALARM
END:VEVENT
END:VCALENDAR
