BEGIN:VCALENDAR
VERSION:2.0
CALSCALE:GREGORIAN
PRODID:adamgibbons/ics
METHOD:PUBLISH
X-PUBLISHED-TTL:PT1H
BEGIN:VEVENT
UID:1087@keepkarlsruheboring.org
SUMMARY:Queer Beratung – Offene Sprechstunde
DTSTAMP:20260423T102326Z
DTSTART:20260227T180000Z
DTEND:20260227T200000Z
DESCRIPTION:DU HAST FRAGEN RUND UM DAS THEMA QUEERNESS?\n\nDann besuche ger
	ne die Queer Beratung ganz ohne Termin\, vertraulich und\nkostenfrei.\n\nD
	ie offene queere Sprechstunde richtet sich an alle Menschen mit Gesprächsb
	edarf\nzu queeren Themen – unabhängig von Identität\, Orientierung oder Le
	benslage.\n\nThemen können u. a. Coming-out\, sexuelle Orientierung und ge
	schlechtliche\nIdentität\, transspezifische Fragen\, Familie und Beziehung
	en\, Selbstwert sowie\nder Umgang mit Diskriminierung sein.\n\nDie Queer B
	eratung findet jeden vierten Freitag im Monat von 19 – 21 Uhr bei\nqueerKA
	stle statt. Oder beim trans*treff (2. Mittwoch im Monat) von 19-21 Uhr.\n\
	nBeratung durch Yana (systemische Beraterin\, queer & FLINTA*) und El\n(Pe
	er-Berater\, TINA*)\n\n \n\nErmöglicht durch pro familia Karlsruhe\n[https
	://www.profamilia.de/angebote-vor-ort/baden-wuerttemberg/beratungsstelle-k
	arlsruhe]
URL:https://keepkarlsruheboring.org/event/queer-beratung-offene-sprechstund
	e
LOCATION:queerKAstle - Karlsruher Zentrum für queere Vielfalt - Liebigstraß
	e 10-12\, 76135 Karlsruhe
STATUS:CONFIRMED
CATEGORIES:Beratung,Queer
X-ALT-DESC;FMTTYPE=text/html:<h4><strong>Du hast Fragen rund um das Thema Q
	ueerness?</strong></h4><p>Dann besuche gerne die <strong>Queer Beratung</s
	trong> ganz<strong> ohne Termin, vertraulich und kostenfrei.</strong></p><
	p>Die offene queere Sprechstunde richtet sich an alle Menschen mit Gespräc
	hsbedarf zu queeren Themen – unabhängig von Identität, Orientierung oder L
	ebenslage.</p><p>Themen können u. a. Coming-out, sexuelle Orientierung und
	 geschlechtliche Identität, transspezifische Fragen, Familie und Beziehung
	en, Selbstwert sowie der Umgang mit Diskriminierung sein.</p><p>Die <stron
	g>Queer Beratung</strong> findet <strong>jeden vierten Freitag im Monat</s
	trong> von 19 – 21 Uhr bei <strong>queerKAstle</strong> statt. Oder beim <
	strong>trans*treff</strong> (2. Mittwoch im Monat) von 19-21 Uhr.</p><p>Be
	ratung durch <strong>Yana</strong> (systemische Beraterin, queer &amp; FLI
	NTA*) und <strong>El</strong> (Peer-Berater, TINA*)</p><p>&nbsp;</p><p>Erm
	öglicht durch <a href="https://www.profamilia.de/angebote-vor-ort/baden-wu
	erttemberg/beratungsstelle-karlsruhe" target="_blank"><strong>pro familia 
	Karlsruhe</strong></a></p>
BEGIN:VALARM
ACTION:DISPLAY
DESCRIPTION:Queer Beratung – Offene Sprechstunde
TRIGGER:-PT1H
END:VALARM
END:VEVENT
END:VCALENDAR
