BEGIN:VCALENDAR
VERSION:2.0
CALSCALE:GREGORIAN
PRODID:adamgibbons/ics
METHOD:PUBLISH
X-PUBLISHED-TTL:PT1H
BEGIN:VEVENT
UID:859@keepkarlsruheboring.org
SUMMARY:Queer Film Abend: EIN DATE FÜR MAD MARY
DTSTAMP:20260423T103706Z
DTSTART:20260313T180000Z
DTEND:20260313T200000Z
DESCRIPTION:🎞🍿 Am Freitag\, den 13. März 2026 veranstalten wir ab 19 Uhr wi
	eder gemeinsam\nmit den PRIDE PICTURES den „Queer Film Abend" im Queeren Z
	entrum Karlsruhe.\n🎞️✮⋆˙ Vier mal im Jahr zeigen wir euch Highlights der qu
	eeren Filmkultur auf\nder Leinwand und feiern gemeinsam queeres Leben! 🎟 E
	intritt frei! Wir freuen\nuns aber über Spenden für die kommenden PRIDE PI
	CTURES (17.-25. Oktober 2026).\nDieses Mal zeigen wir euch den Film „Ein D
	ate für Mad Mary" (Irland\, 2016 - 82\nMinuten\; Originalfassung mit deuts
	chen Untertiteln) Worum gehts im Film? Mary\nMcArdle\, die wegen ihres ung
	estümen Temperaments von allen nur Mad Mary genannt\nwird\, kommt nach ein
	er 6-monatigen Gefängnisstrafe zurück in ihre Heimatstadt\nDrogheda\, eine
	m Vorort von Dublin. Warum sie einsaß\, will sie so schnell wie\nmöglich v
	ergessen. In der Zwischenzeit hat sich ihre beste Freundin Charlene\nverlo
	bt\, und Mary soll die Trauzeugin sein. Als Charlene ihr erklärt\, dass si
	e\nMary nur alleine einlädt\, weil sie sowieso kein Date für die Hochzeit 
	finden\nwürde\, ist Mary wild entschlossen\, ihr das Gegenteil zu beweisen
	. Doch all ihre\nVersuche enden in einem Desaster. Mary fühlt sich einsame
	r als zuvor. Bis sie\ndie Fotografin Jess kennenlernt\, die Charlene für d
	ie Hochzeit engagiert hat …\nEIN DATE FÜR MAD MARY vermählt in dem bitters
	üßen Coming-of-Age-Film elegant die\nschwerelose Romantik des US-High-Scho
	ol-Kinos der 1980er („Pretty in Pink“\, „Ist\nsie nicht wunderbar?“) mit d
	em rauen Realismus des britischen Jugenddramas der\n2000er („Fish Tank“\, 
	„Sweet Sixteen“). „Ein Date für Mad Mary“ ist ein\nberührender Film über F
	reundschaft\, den Abschied von den glorreichen Tagen der\nJugend und den Z
	auber der ersten großen Liebe. ⚠️ Triggerwarnungen:\nQueerfeindlichkeit\, D
	epressionen\, Körperliche Gewalt ⚠️\nhttps://queerkastle.de/veranstaltung/q
	ueer-film-abend-mad-mary/
URL:https://keepkarlsruheboring.org/event/queer-film-abend-ein-date-fur-mad
	-mary
LOCATION:queerKAstle - Karlsruher Zentrum für queere Vielfalt - Liebigstraß
	e 10-12\, 76135 Karlsruhe
STATUS:CONFIRMED
CATEGORIES:karlsrunruhe,test
X-ALT-DESC;FMTTYPE=text/html:🎞🍿 Am Freitag, den 13. März 2026 veranstalten 
	wir ab 19 Uhr wieder gemeinsam<br>mit den PRIDE PICTURES den „Queer Film A
	bend" im Queeren Zentrum Karlsruhe.<br><br>🎞️✮⋆˙ Vier mal im Jahr zeigen wi
	r euch Highlights der queeren Filmkultur auf<br>der Leinwand und feiern ge
	meinsam queeres Leben!<br><br>🎟 Eintritt frei! Wir freuen uns aber über Sp
	enden für die kommenden PRIDE<br>PICTURES (17.-25. Oktober 2026).<br><br>D
	ieses Mal zeigen wir euch den Film „Ein Date für Mad Mary" (Irland, 2016 -
	 82<br>Minuten; Originalfassung mit deutschen Untertiteln)<br><br>Worum ge
	hts im Film?<br><br>Mary McArdle, die wegen ihres ungestümen Temperaments 
	von allen nur Mad Mary<br>genannt wird, kommt nach einer 6-monatigen Gefän
	gnisstrafe zurück in ihre<br>Heimatstadt Drogheda, einem Vorort von Dublin
	. Warum sie einsaß, will sie so<br>schnell wie möglich vergessen. In der Z
	wischenzeit hat sich ihre beste<br>Freundin Charlene verlobt, und Mary sol
	l die Trauzeugin sein. Als Charlene ihr<br>erklärt, dass sie Mary nur alle
	ine einlädt, weil sie sowieso kein Date für die<br>Hochzeit finden würde, 
	ist Mary wild entschlossen, ihr das Gegenteil zu<br>beweisen. Doch all ihr
	e Versuche enden in einem Desaster. Mary fühlt sich<br>einsamer als zuvor.
	 Bis sie die Fotografin Jess kennenlernt, die Charlene für<br>die Hochzeit
	 engagiert hat …<br><br>EIN DATE FÜR MAD MARY vermählt in dem bittersüßen 
	Coming-of-Age-Film elegant<br>die schwerelose Romantik des US-High-School-
	Kinos der 1980er („Pretty in<br>Pink“, „Ist sie nicht wunderbar?“) mit dem
	 rauen Realismus des britischen<br>Jugenddramas der 2000er („Fish Tank“, „
	Sweet Sixteen“). „Ein Date für Mad<br>Mary“ ist ein berührender Film über 
	Freundschaft, den Abschied von den<br>glorreichen Tagen der Jugend und den
	 Zauber der ersten großen Liebe.<br><br>⚠️ Triggerwarnungen: Queerfeindlich
	keit, Depressionen, Körperliche Gewalt ⚠️<br>https://queerkastle.de/veranst
	altung/queer-film-abend-mad-mary/
BEGIN:VALARM
ACTION:DISPLAY
DESCRIPTION:Queer Film Abend: EIN DATE FÜR MAD MARY
TRIGGER:-PT1H
END:VALARM
END:VEVENT
END:VCALENDAR
