BEGIN:VCALENDAR
VERSION:2.0
CALSCALE:GREGORIAN
PRODID:adamgibbons/ics
METHOD:PUBLISH
X-PUBLISHED-TTL:PT1H
BEGIN:VEVENT
UID:783@keepkarlsruheboring.org
SUMMARY:Queer Kochen: Veganes Butter Chicken
DTSTAMP:20260423T102418Z
DTSTART:20260214T173000Z
DTEND:20260214T190000Z
DESCRIPTION:🍽👩🏼‍🍳 Auch diesen Monat laden wir euch wieder zum queeren Kochaben
	d im\nQueeren Zentrum statt. ⏲ Das nächste Mal kochen wir am 14. Februar 2
	026 ab 18.30\nUhr: Veganes Butter Chicken. 🥬🫑🌽 Während der Öffnungszeit wi
	rd ein vorher\nfestgelegtes Gericht für alle gekocht und du kannst gerne b
	eim Kochen helfen\noder einfach nur genießen\, was zubereitet wird. Du wil
	lst helfen? Sprich gerne\neinfach die Personen hinter der Theke an. Natürl
	ich darfst du auch eigene Ideen\neinbringen und so das queere Kochen mitge
	stalten. Die gekochten Gerichte sind\nalle kostenfrei und auf Spendenbasis
	. Du darfst also selbst entscheiden\, was es\ndir Wert war. 🥕🥗 Um möglichs
	t alle Menschen zu inkludieren kochen wir vegan\nund achten auch bei den Z
	utaten auf Nachhaltigkeit.\nhttps://queerkastle.de/veranstaltung/queer-koc
	hen-veganes-butter-chicken/
URL:https://keepkarlsruheboring.org/event/queer-kochen-veganes-butter-chick
	en
LOCATION:queerKAstle - Karlsruher Zentrum für queere Vielfalt - Liebigstraß
	e 10-12\, 76135 Karlsruhe
STATUS:CONFIRMED
CATEGORIES:karlsrunruhe,test
X-ALT-DESC;FMTTYPE=text/html:🍽👩🏼‍🍳 Auch diesen Monat laden wir euch wieder zum
	 queeren Kochabend im Queeren<br>Zentrum statt.<br><br>⏲ Das nächste Mal k
	ochen wir am 14. Februar 2026 ab 18.30 Uhr: Veganes Butter<br>Chicken.<br>
	<br>🥬🫑🌽 Während der Öffnungszeit wird ein vorher festgelegtes Gericht für 
	alle<br>gekocht und du kannst gerne beim Kochen helfen oder einfach nur ge
	nießen, was<br>zubereitet wird. Du willst helfen? Sprich gerne einfach die
	 Personen hinter<br>der Theke an.<br><br>Natürlich darfst du auch eigene I
	deen einbringen und so das queere Kochen<br>mitgestalten.<br><br>Die gekoc
	hten Gerichte sind alle kostenfrei und auf Spendenbasis. Du darfst<br>also
	 selbst entscheiden, was es dir Wert war.<br><br>🥕🥗 Um möglichst alle Mens
	chen zu inkludieren kochen wir vegan und achten auch<br>bei den Zutaten au
	f Nachhaltigkeit.<br>https://queerkastle.de/veranstaltung/queer-kochen-veg
	anes-butter-chicken/
BEGIN:VALARM
ACTION:DISPLAY
DESCRIPTION:Queer Kochen: Veganes Butter Chicken
TRIGGER:-PT1H
END:VALARM
END:VEVENT
END:VCALENDAR
