BEGIN:VCALENDAR
VERSION:2.0
CALSCALE:GREGORIAN
PRODID:adamgibbons/ics
METHOD:PUBLISH
X-PUBLISHED-TTL:PT1H
BEGIN:VEVENT
UID:149@keepkarlsruheboring.org
SUMMARY:Queer Summer Cinema — The Birdcage
DTSTAMP:20260423T102404Z
DTSTART:20250818T170000Z
DESCRIPTION:Zum ersten Mal präsentieren die Schauburg und die Pride Picture
	s e.V. - Queer\nFilm Festival Karlsruhe gemeinsam die Filmreihe QUEER SUMM
	ER CINEMA. Immer\nmontags im August um 19:00 Uhr werden in der Schauburg a
	usgewählte Filme\ngezeigt\, die queere Perspektiven sichtbar machen – bewe
	gend\, humorvoll\,\npolitisch und künstlerisch wegweisend.\n\nLos geht’s a
	m 4. August mit dem eindrucksvollen Drama Boys Don’t Cry (1999)\, das\nauf
	 der wahren Geschichte von Brandon Teena basiert – einem trans Mann\, der 
	in\neiner feindlichen Umgebung um Selbstbestimmung und Anerkennung kämpft.
	 Am 11.\nAugust folgt Carol (2015)\, eine elegische Liebesgeschichte über 
	zwei Frauen im\nAmerika der 1950er Jahre – subtil\, visuell großartig und 
	voller leiser Kraft.\nMit The Birdcage (1996) zeigen wir am 18. August ein
	e queere Kultkomödie mit\nRobin Williams: Als ein schwules Elternpaar auf 
	zukünftige Schwiegereltern aus\neinem erzkonservativen Haushalt trifft\, w
	ird’s turbulent und urkomisch. Den\nAbschluss bildet am 25. August The Wed
	ding Banquet (2025)\, eine moderne\nNeuinterpretation von Ang Lees Klassik
	er über einen schwulen Mann\, der seinen\nEltern eine Schein-Ehe vorspielt
	 – eine kluge Komödie über Identität\, Familie\nund den Spagat zwischen Ku
	lturen.\n\nAlle Filme laufen im englischen Original mit Untertiteln (OmU).
	\n\nUnterstütze das Queer Film Festival mit einer Spende unter\npridepictu
	res.de/support [https://pridepictures.de/support] – jede Hilfe zählt\,\nda
	mit queeres Kino in Karlsruhe auch weiterhin eine Bühne bekommt.
URL:https://keepkarlsruheboring.org/event/queer-summer-cinema-the-birdcage
GEO:49.0032;8.40781
LOCATION:Schauburg - Marienstraße 16 76137 Karlsruhe
STATUS:CONFIRMED
CATEGORIES:Cinema,Film,Queer
X-ALT-DESC;FMTTYPE=text/html:<p>Zum ersten Mal präsentieren die Schauburg u
	nd die Pride Pictures e.V. - Queer Film Festival Karlsruhe gemeinsam die F
	ilmreihe <strong>QUEER SUMMER CINEMA</strong>. Immer <strong>montags </str
	ong>im <strong>August </strong>um <strong>19:00 Uhr </strong>werden in der
	 Schauburg ausgewählte Filme gezeigt, die queere Perspektiven sichtbar mac
	hen – bewegend, humorvoll, politisch und künstlerisch wegweisend.</p><p>Lo
	s geht’s am <strong>4. August </strong>mit dem eindrucksvollen Drama <stro
	ng><em>Boys Don’t Cry</em></strong> (1999), das auf der wahren Geschichte 
	von Brandon Teena basiert – einem trans Mann, der in einer feindlichen Umg
	ebung um Selbstbestimmung und Anerkennung kämpft. Am <strong>11. August</s
	trong> folgt <strong><em>Carol</em> </strong>(2015), eine elegische Liebes
	geschichte über zwei Frauen im Amerika der 1950er Jahre – subtil, visuell 
	großartig und voller leiser Kraft. Mit <strong><em>The Birdcage</em></stro
	ng> (1996) zeigen wir am <strong>18. August </strong>eine queere Kultkomöd
	ie mit Robin Williams: Als ein schwules Elternpaar auf zukünftige Schwiege
	reltern aus einem erzkonservativen Haushalt trifft, wird’s turbulent und u
	rkomisch. Den Abschluss bildet am <strong>25. August <em>The Wedding Banqu
	et</em></strong> (2025), eine moderne Neuinterpretation von Ang Lees Klass
	iker über einen schwulen Mann, der seinen Eltern eine Schein-Ehe vorspielt
	 – eine kluge Komödie über Identität, Familie und den Spagat zwischen Kult
	uren.</p><p><strong>Alle Filme</strong> laufen im englischen Original mit 
	Untertiteln (<strong>OmU</strong>).</p><p>Unterstütze das Queer Film Festi
	val mit einer Spende unter <a href="https://pridepictures.de/support" targ
	et="_new">pridepictures.de/support</a> – jede Hilfe zählt, damit queeres K
	ino in Karlsruhe auch weiterhin eine Bühne bekommt.</p>
BEGIN:VALARM
ACTION:DISPLAY
DESCRIPTION:Queer Summer Cinema — The Birdcage
TRIGGER:-PT1H
END:VALARM
END:VEVENT
END:VCALENDAR
