BEGIN:VCALENDAR
VERSION:2.0
CALSCALE:GREGORIAN
PRODID:adamgibbons/ics
METHOD:PUBLISH
X-PUBLISHED-TTL:PT1H
BEGIN:VEVENT
UID:180@keepkarlsruheboring.org
SUMMARY:Queere Open Mic Night
DTSTAMP:20260423T102046Z
DTSTART:20250830T170000Z
DTEND:20250830T190000Z
DESCRIPTION:🎶🎤 Am 30. August 2025 laden wir euch von 19 bis 21 Uhr zu einer
	 Queeren Open\nMic Night im Queeren Zentrum Karlsruhe ein. Einlass ist ab 
	18 Uhr und der\nEintritt ist frei.\n\n⏲ Was ist eine Open Mic Night?\n\nBe
	i einer OpenMic tragen Laien ihre selbst verfassten Texte oder Musik vor.\
	nUngeschriebene Regeln sind: ein Zeitlimit\, keine rassistischen\,\ndiskri
	minierenden\, geschmacklosen\, sexistischen oder beleidigenden Texte. Nach
	\ndem Vortrag kann sich das Publikum zu den Werken äußern.\n\nFür unsere q
	ueere Open Mic Night möchten wir queeren Menschen die Möglichkeit\ngeben\,
	 ihre Kunst vorzutragen.\nEgal ob Musik\, Comedy\, Theater\, Drag oder Tan
	z. Bei uns sind alle willkommen!\n\nDu willst dich ausprobieren\, traust d
	ich aber noch nicht mit deiner eigenen\nKunst und willst Erfahrung vor Pub
	likum sammeln? Du kannst auch fremde Texte\noder Musik vortragen\, wenn du
	 dies entsprechend klar machst!\n\n💃👯‍♀️ 🎼 Beiträge sollten zwischen 5 und 15
	 Minuten lang sein. Zur besseren\nPlanung\, besonders wenn du noch etwas s
	pezielles brauchst\, melde dich gerne per\nMail bei projekt@queerkastle.de
	 [projekt@queerkastle.de] oder komm spontan\nvorbei.\n\nWir freuen uns auf
	 euch!\n\nhttps://queerkastle.de/veranstaltung/queere-open-mic-night_08-20
	25/\n[https://queerkastle.de/veranstaltung/queere-open-mic-night_08-2025/]
URL:https://keepkarlsruheboring.org/event/queere-open-mic-night
GEO:49.0042;8.37001
LOCATION:Queeres Zentrum Karlsruhe - Liebigstraße 10-12     Karlsruhe\, 761
	35
STATUS:CONFIRMED
CATEGORIES:Party,Queer
X-ALT-DESC;FMTTYPE=text/html:<br><br><br><br><p><span>🎶🎤 </span> Am <strong
	>30. August 2025</strong> laden wir euch von <strong>19 bis 21 Uhr</strong
	> zu einer<strong> Queeren Open Mic Night </strong>im <strong>Queeren Zent
	rum Karlsruhe</strong> ein. Einlass ist ab <strong>18 Uhr</strong> und der
	 <strong>Eintritt ist frei</strong>.</p><br><p><strong>⏲ Was ist eine Open
	 Mic Night?</strong></p><br><p>Bei einer OpenMic tragen Laien ihre selbst 
	verfassten Texte oder Musik vor. Ungeschriebene Regeln sind: ein Zeitlimit
	, keine rassistischen, diskriminierenden, geschmacklosen, sexistischen ode
	r beleidigenden Texte. Nach dem Vortrag kann sich das Publikum zu den Werk
	en äußern.</p><br><p>Für unsere queere Open Mic Night möchten wir queeren 
	Menschen die Möglichkeit geben, ihre Kunst vorzutragen.<br><br>Egal ob Mus
	ik, Comedy, Theater, Drag oder Tanz. Bei uns sind alle willkommen!</p><br>
	<p>Du willst dich ausprobieren, traust dich aber noch nicht mit deiner eig
	enen Kunst und willst Erfahrung vor Publikum sammeln? Du kannst auch fremd
	e Texte oder Musik vortragen, wenn du dies entsprechend klar machst!</p><b
	r><p>💃👯‍♀️ 🎼&nbsp;Beiträge sollten zwischen <strong>5 und 15 Minuten</strong>
	 lang sein. Zur besseren Planung, besonders wenn du noch etwas spezielles 
	brauchst, melde dich gerne per Mail bei <a href="mailto:projekt@queerkastl
	e.de"><strong>projekt@queerkastle.de</strong></a> oder komm spontan vorbei
	.</p><br><p>Wir freuen&nbsp;uns&nbsp;auf&nbsp;euch!</p><br><br><br><br><br
	><a href="https://queerkastle.de/veranstaltung/queere-open-mic-night_08-20
	25/" target="_blank">https://queerkastle.de/veranstaltung/queere-open-mic-
	night_08-2025/</a>
BEGIN:VALARM
ACTION:DISPLAY
DESCRIPTION:Queere Open Mic Night
TRIGGER:-PT1H
END:VALARM
END:VEVENT
END:VCALENDAR
